BEGIN:VCALENDAR
VERSION:2.0
PRODID:-//jEvents 2.0 for Joomla//EN
CALSCALE:GREGORIAN
METHOD:PUBLISH
BEGIN:VTIMEZONE
TZID:Europe/Paris
BEGIN:STANDARD
DTSTART:20180208T000000
RDATE:20180325T030000
TZOFFSETFROM:+0200
TZOFFSETTO:+0100
TZNAME:Europe/Paris CET
END:STANDARD
BEGIN:STANDARD
DTSTART:20181028T020000
RDATE:20190331T030000
TZOFFSETFROM:+0200
TZOFFSETTO:+0100
TZNAME:Europe/Paris CET
END:STANDARD
BEGIN:STANDARD
DTSTART:20191027T020000
RDATE:20200329T030000
TZOFFSETFROM:+0200
TZOFFSETTO:+0100
TZNAME:Europe/Paris CET
END:STANDARD
BEGIN:STANDARD
DTSTART:20201025T020000
RDATE:20210328T030000
TZOFFSETFROM:+0200
TZOFFSETTO:+0100
TZNAME:Europe/Paris CET
END:STANDARD
BEGIN:STANDARD
DTSTART:20211031T020000
RDATE:20220327T030000
TZOFFSETFROM:+0200
TZOFFSETTO:+0100
TZNAME:Europe/Paris CET
END:STANDARD
BEGIN:STANDARD
DTSTART:20221030T020000
RDATE:20230326T030000
TZOFFSETFROM:+0200
TZOFFSETTO:+0100
TZNAME:Europe/Paris CET
END:STANDARD
BEGIN:STANDARD
DTSTART:20231029T020000
RDATE:20240331T030000
TZOFFSETFROM:+0200
TZOFFSETTO:+0100
TZNAME:Europe/Paris CET
END:STANDARD
BEGIN:STANDARD
DTSTART:20241027T020000
RDATE:20250330T030000
TZOFFSETFROM:+0200
TZOFFSETTO:+0100
TZNAME:Europe/Paris CET
END:STANDARD
BEGIN:STANDARD
DTSTART:20251026T020000
RDATE:20260329T030000
TZOFFSETFROM:+0200
TZOFFSETTO:+0100
TZNAME:Europe/Paris CET
END:STANDARD
BEGIN:STANDARD
DTSTART:20261025T020000
RDATE:20270328T030000
TZOFFSETFROM:+0200
TZOFFSETTO:+0100
TZNAME:Europe/Paris CET
END:STANDARD
BEGIN:DAYLIGHT
DTSTART:20180325T030000
RDATE:20181028T020000
TZOFFSETFROM:+0100
TZOFFSETTO:+0200
TZNAME:Europe/Paris CEST
END:DAYLIGHT
BEGIN:DAYLIGHT
DTSTART:20190331T030000
RDATE:20191027T020000
TZOFFSETFROM:+0100
TZOFFSETTO:+0200
TZNAME:Europe/Paris CEST
END:DAYLIGHT
BEGIN:DAYLIGHT
DTSTART:20200329T030000
RDATE:20201025T020000
TZOFFSETFROM:+0100
TZOFFSETTO:+0200
TZNAME:Europe/Paris CEST
END:DAYLIGHT
BEGIN:DAYLIGHT
DTSTART:20210328T030000
RDATE:20211031T020000
TZOFFSETFROM:+0100
TZOFFSETTO:+0200
TZNAME:Europe/Paris CEST
END:DAYLIGHT
BEGIN:DAYLIGHT
DTSTART:20220327T030000
RDATE:20221030T020000
TZOFFSETFROM:+0100
TZOFFSETTO:+0200
TZNAME:Europe/Paris CEST
END:DAYLIGHT
BEGIN:DAYLIGHT
DTSTART:20230326T030000
RDATE:20231029T020000
TZOFFSETFROM:+0100
TZOFFSETTO:+0200
TZNAME:Europe/Paris CEST
END:DAYLIGHT
BEGIN:DAYLIGHT
DTSTART:20240331T030000
RDATE:20241027T020000
TZOFFSETFROM:+0100
TZOFFSETTO:+0200
TZNAME:Europe/Paris CEST
END:DAYLIGHT
BEGIN:DAYLIGHT
DTSTART:20250330T030000
RDATE:20251026T020000
TZOFFSETFROM:+0100
TZOFFSETTO:+0200
TZNAME:Europe/Paris CEST
END:DAYLIGHT
BEGIN:DAYLIGHT
DTSTART:20260329T030000
RDATE:20261025T020000
TZOFFSETFROM:+0100
TZOFFSETTO:+0200
TZNAME:Europe/Paris CEST
END:DAYLIGHT
END:VTIMEZONE
BEGIN:VEVENT
UID:f06b58e74d58ecc1555ce64e36afb2e2
CATEGORIES:Compétitions Snowboard
CREATED:20190206T143159
SUMMARY:Big Air
URL;VALUE=URI:https://skivosges.net/agenda/a-venir/detailevenement/1264/-/big-air?tmpl=co
 mponent
DESCRIPTION:Big Air (Report de l'épreuve initialement prévue le 10/02/2019)\n - Codex é
 venement NMVT0050\n - Station : LAC BLANC\n - Organisateur : 14483 LAC BLAN
 C SNOWRIDER\n - Courriel : RegularLabs.EmailProtector.unCloak("ep_ad1229e9"
 );Période d'inscription à l'evènement du samedi 02 février 2019 à 00:00 au 
 jeudi 07 février 2019 à 12:00 (Inscriptions impossibles).Inscriptions ouver
 tes aux detenteurs des titres Fédéraux valides suivants : Licenciés Compéti
 teurs, Titres Loisirs et Dirigeants et Tickets courseEpreuves :\n - Le same
 di 09 février 2019\n - Codex épreuve NMVF0051\n - Big Air\n - Catégorie(s) 
 : Minime a Veteran (Filles)\n - Le samedi 09 février 2019\n - Codex épreuve
  NMVM0051\n - Big Air\n - Catégorie(s) : Minime a Veteran (Garçons)\n - Voi
 r les informations dans l'agenda... (/index.php?option=com_jevents&amp;task
 =icalevent.detail&amp;evid=1259&amp;Itemid=6289) Cet évènement a été import
 é depuis :https://skivosges.net/agenda/a-venir/detailevenement/1264/-/big-a
 ir?tmpl=component
X-ALT-DESC;FMTTYPE=text/html:<!-- #gskiepreuve code généré par le plugin jevents pour GskiEpreuves. Ne p
 as modifier cette ligne, ni tout le contenu suivant  #gskiepreuve --><div c
 lass="gski-evenement_infos"><div class="gski-evenement-nom">Big Air</div><d
 iv class="gski-evenement-report"> <font class="gskiattention">(Report de l'
 épreuve initialement prévue le 10/02/2019)</font></div><ul class="gski-even
 ement-liste-infos"><li>Codex évenement NMVT0050</li><li>Station : LAC BLANC
 </li><li>Organisateur : 14483 LAC BLANC SNOWRIDER</li><li>Courriel : <!-- C
 ette adresse électronique est protégée contre les robots spammeurs. --><spa
 n class="cloaked_email ep_ad1229e9"><span data-ep-a="&#108;u&#99;&#95;" dat
 a-ep-b="&#109;"><span data-ep-a="&#98;&#101;&#100;&#101;" data-ep-b="l&#46;
 &#99;&#111;"><span data-ep-a="z&#64;&#104;&#111;" data-ep-b="&#116;ma&#105;
 "></span></span></span></span><script>RegularLabs.EmailProtector.unCloak("e
 p_ad1229e9");</script></li></ul><div class="gski-evenement-infos-2"><div cl
 ass="gski-evenement-info-inscriptions"><div class="gski-evenement-inscripti
 ons-periodes">Période d'inscription à l'evènement du samedi 02 février 2019
  à 00:00 au jeudi 07 février 2019 à 12:00 <span class="gski-evenement-inscr
 iptions-impossibles">(Inscriptions impossibles).</span><div class="gski-eve
 nement-inscriptions-types-titres">Inscriptions ouvertes aux detenteurs des 
 titres Fédéraux valides suivants : Licenciés Compétiteurs, Titres Loisirs e
 t Dirigeants et Tickets course</div></div></div><div class="gski-evenement-
 epreuves"><div class="gski-evenement-epreuves-titres">Epreuves :</div><ul c
 lass="gski-evenement-epreuves-list"><li><div class="gski-epreuve-date">Le s
 amedi 09 février 2019</div><ul class="gski-epreuve-liste-infos"><li>Codex é
 preuve NMVF0051</li><li>Big Air</li><li>Catégorie(s) : Minime a Veteran (Fi
 lles)</li></ul></li><li><div class="gski-epreuve-date">Le samedi 09 février
  2019</div><ul class="gski-epreuve-liste-infos"><li>Codex épreuve NMVM0051<
 /li><li>Big Air</li><li>Catégorie(s) : Minime a Veteran (Garçons)</li></ul>
 </li></ul></div><div class="gskiepreuves-links"><ul><li><a href="https://sk
 ivosges.net/index.php?option=com_jevents&task=icalevent.detail&evid=1259&It
 emid=6289">Voir les informations dans l'agenda...</a></li></ul></div></div"
 ><!-- #/gskiepreuve fin du dode généré par le plugin jevents pour GskiEpreu
 ves. . Ne pas modifier cette ligne, ni tout le contenu précedant.  #/gskiep
 reuve --> <a href="https://skivosges.net/agenda/a-venir/detailevenement/126
 4/-/big-air?tmpl=component">Cet évènement a été importé depuis :https://ski
 vosges.net/agenda/a-venir/detailevenement/1264/-/big-air?tmpl=component</a>DTSTAMP:20260423T174107
DTSTART;TZID=Europe/Paris;VALUE=DATE:20190209
DTEND;TZID=Europe/Paris;VALUE=DATE:20190210
SEQUENCE:0
TRANSP:OPAQUE
END:VEVENT
END:VCALENDAR