BEGIN:VCALENDAR
VERSION:2.0
PRODID:-//jEvents 2.0 for Joomla//EN
CALSCALE:GREGORIAN
METHOD:PUBLISH
BEGIN:VTIMEZONE
TZID:Europe/Paris
BEGIN:STANDARD
DTSTART:20180208T000000
RDATE:20180325T030000
TZOFFSETFROM:+0200
TZOFFSETTO:+0100
TZNAME:Europe/Paris CET
END:STANDARD
BEGIN:STANDARD
DTSTART:20181028T020000
RDATE:20190331T030000
TZOFFSETFROM:+0200
TZOFFSETTO:+0100
TZNAME:Europe/Paris CET
END:STANDARD
BEGIN:STANDARD
DTSTART:20191027T020000
RDATE:20200329T030000
TZOFFSETFROM:+0200
TZOFFSETTO:+0100
TZNAME:Europe/Paris CET
END:STANDARD
BEGIN:STANDARD
DTSTART:20201025T020000
RDATE:20210328T030000
TZOFFSETFROM:+0200
TZOFFSETTO:+0100
TZNAME:Europe/Paris CET
END:STANDARD
BEGIN:STANDARD
DTSTART:20211031T020000
RDATE:20220327T030000
TZOFFSETFROM:+0200
TZOFFSETTO:+0100
TZNAME:Europe/Paris CET
END:STANDARD
BEGIN:STANDARD
DTSTART:20221030T020000
RDATE:20230326T030000
TZOFFSETFROM:+0200
TZOFFSETTO:+0100
TZNAME:Europe/Paris CET
END:STANDARD
BEGIN:STANDARD
DTSTART:20231029T020000
RDATE:20240331T030000
TZOFFSETFROM:+0200
TZOFFSETTO:+0100
TZNAME:Europe/Paris CET
END:STANDARD
BEGIN:STANDARD
DTSTART:20241027T020000
RDATE:20250330T030000
TZOFFSETFROM:+0200
TZOFFSETTO:+0100
TZNAME:Europe/Paris CET
END:STANDARD
BEGIN:STANDARD
DTSTART:20251026T020000
RDATE:20260329T030000
TZOFFSETFROM:+0200
TZOFFSETTO:+0100
TZNAME:Europe/Paris CET
END:STANDARD
BEGIN:STANDARD
DTSTART:20261025T020000
RDATE:20270328T030000
TZOFFSETFROM:+0200
TZOFFSETTO:+0100
TZNAME:Europe/Paris CET
END:STANDARD
BEGIN:DAYLIGHT
DTSTART:20180325T030000
RDATE:20181028T020000
TZOFFSETFROM:+0100
TZOFFSETTO:+0200
TZNAME:Europe/Paris CEST
END:DAYLIGHT
BEGIN:DAYLIGHT
DTSTART:20190331T030000
RDATE:20191027T020000
TZOFFSETFROM:+0100
TZOFFSETTO:+0200
TZNAME:Europe/Paris CEST
END:DAYLIGHT
BEGIN:DAYLIGHT
DTSTART:20200329T030000
RDATE:20201025T020000
TZOFFSETFROM:+0100
TZOFFSETTO:+0200
TZNAME:Europe/Paris CEST
END:DAYLIGHT
BEGIN:DAYLIGHT
DTSTART:20210328T030000
RDATE:20211031T020000
TZOFFSETFROM:+0100
TZOFFSETTO:+0200
TZNAME:Europe/Paris CEST
END:DAYLIGHT
BEGIN:DAYLIGHT
DTSTART:20220327T030000
RDATE:20221030T020000
TZOFFSETFROM:+0100
TZOFFSETTO:+0200
TZNAME:Europe/Paris CEST
END:DAYLIGHT
BEGIN:DAYLIGHT
DTSTART:20230326T030000
RDATE:20231029T020000
TZOFFSETFROM:+0100
TZOFFSETTO:+0200
TZNAME:Europe/Paris CEST
END:DAYLIGHT
BEGIN:DAYLIGHT
DTSTART:20240331T030000
RDATE:20241027T020000
TZOFFSETFROM:+0100
TZOFFSETTO:+0200
TZNAME:Europe/Paris CEST
END:DAYLIGHT
BEGIN:DAYLIGHT
DTSTART:20250330T030000
RDATE:20251026T020000
TZOFFSETFROM:+0100
TZOFFSETTO:+0200
TZNAME:Europe/Paris CEST
END:DAYLIGHT
BEGIN:DAYLIGHT
DTSTART:20260329T030000
RDATE:20261025T020000
TZOFFSETFROM:+0100
TZOFFSETTO:+0200
TZNAME:Europe/Paris CEST
END:DAYLIGHT
END:VTIMEZONE
BEGIN:VEVENT
UID:2eaa071bd558be70846a326da5ecac18
CATEGORIES:Compétition Saut
CREATED:20190206T150201
SUMMARY:Jeux du Saut n°1
URL;VALUE=URI:https://skivosges.net/agenda/a-venir/detailevenement/1265/-/jeux-du-saut-n-
 1?tmpl=component
DESCRIPTION:Jeux du Saut n°1 (Report de l'épreuve initialement prévue le 29/12/2018)\n 
 - Codex évenement TMVT0020\n - Station : FRERE JOSEPH\n - Organisateur : 14
 083 U.S VENTRON\n - Courriel : RegularLabs.EmailProtector.unCloak("ep_c8372
 b8c");Période d'inscription à l'evènement du samedi 02 février 2019 à 00:00
  au jeudi 07 février 2019 à 12:00 (Inscriptions impossibles).Inscriptions o
 uvertes aux detenteurs des titres Fédéraux valides suivants : Licenciés Com
 pétiteursEpreuves :\n - Le samedi 09 février 2019\n - Codex épreuve TMVF002
 1\n - Saut Special\n - Catégorie(s) : U7 a U20 (Filles)\n - Le samedi 09 fé
 vrier 2019\n - Codex épreuve TMVM0021\n - Saut Special\n - Catégorie(s) : U
 7 a U20 (Garçons)\n - Le samedi 09 février 2019\n - Codex épreuve TMVF0022\
 n - Saut Special\n - Catégorie(s) : Senior (Dames)\n - Le samedi 09 février
  2019\n - Codex épreuve TMVM0022\n - Saut Special\n - Catégorie(s) : Senior
  (Hommes)\n - Voir les informations dans l'agenda... (/index.php?option=com
 _jevents&amp;task=icalevent.detail&amp;evid=1260&amp;Itemid=6289) Cet évène
 ment a été importé depuis :https://skivosges.net/agenda/a-venir/detailevene
 ment/1265/-/jeux-du-saut-n-1?tmpl=component
X-ALT-DESC;FMTTYPE=text/html:<!-- #gskiepreuve code généré par le plugin jevents pour GskiEpreuves. Ne p
 as modifier cette ligne, ni tout le contenu suivant  #gskiepreuve --><div c
 lass="gski-evenement_infos"><div class="gski-evenement-nom">Jeux du Saut n°
 1</div><div class="gski-evenement-report"> <font class="gskiattention">(Rep
 ort de l'épreuve initialement prévue le 29/12/2018)</font></div><ul class="
 gski-evenement-liste-infos"><li>Codex évenement TMVT0020</li><li>Station : 
 FRERE JOSEPH</li><li>Organisateur : 14083 U.S VENTRON</li><li>Courriel : <!
 -- Cette adresse électronique est protégée contre les robots spammeurs. -->
 <span class="cloaked_email ep_c8372b8c"><span data-ep-a="&#112;&#101;&#114;
 &#114;" data-ep-b="&#109;"><span data-ep-a="&#105;nbr" data-ep-b="&#108;&#4
 6;c&#111;"><span data-ep-b="&#103;m&#97;&#105;" data-ep-a="i&#103;&#101;&#6
 4;"></span></span></span></span><script>RegularLabs.EmailProtector.unCloak(
 "ep_c8372b8c");</script></li></ul><div class="gski-evenement-infos-2"><div 
 class="gski-evenement-info-inscriptions"><div class="gski-evenement-inscrip
 tions-periodes">Période d'inscription à l'evènement du samedi 02 février 20
 19 à 00:00 au jeudi 07 février 2019 à 12:00 <span class="gski-evenement-ins
 criptions-impossibles">(Inscriptions impossibles).</span><div class="gski-e
 venement-inscriptions-types-titres">Inscriptions ouvertes aux detenteurs de
 s titres Fédéraux valides suivants : Licenciés Compétiteurs</div></div></di
 v><div class="gski-evenement-epreuves"><div class="gski-evenement-epreuves-
 titres">Epreuves :</div><ul class="gski-evenement-epreuves-list"><li><div c
 lass="gski-epreuve-date">Le samedi 09 février 2019</div><ul class="gski-epr
 euve-liste-infos"><li>Codex épreuve TMVF0021</li><li>Saut Special</li><li>C
 atégorie(s) : U7 a U20 (Filles)</li></ul></li><li><div class="gski-epreuve-
 date">Le samedi 09 février 2019</div><ul class="gski-epreuve-liste-infos"><
 li>Codex épreuve TMVM0021</li><li>Saut Special</li><li>Catégorie(s) : U7 a 
 U20 (Garçons)</li></ul></li><li><div class="gski-epreuve-date">Le samedi 09
  février 2019</div><ul class="gski-epreuve-liste-infos"><li>Codex épreuve T
 MVF0022</li><li>Saut Special</li><li>Catégorie(s) : Senior (Dames)</li></ul
 ></li><li><div class="gski-epreuve-date">Le samedi 09 février 2019</div><ul
  class="gski-epreuve-liste-infos"><li>Codex épreuve TMVM0022</li><li>Saut S
 pecial</li><li>Catégorie(s) : Senior (Hommes)</li></ul></li></ul></div><div
  class="gskiepreuves-links"><ul><li><a href="https://skivosges.net/index.ph
 p?option=com_jevents&task=icalevent.detail&evid=1260&Itemid=6289">Voir les 
 informations dans l'agenda...</a></li></ul></div></div"><!-- #/gskiepreuve 
 fin du dode généré par le plugin jevents pour GskiEpreuves. . Ne pas modifi
 er cette ligne, ni tout le contenu précedant.  #/gskiepreuve --> <a href="h
 ttps://skivosges.net/agenda/a-venir/detailevenement/1265/-/jeux-du-saut-n-1
 ?tmpl=component">Cet évènement a été importé depuis :https://skivosges.net/
 agenda/a-venir/detailevenement/1265/-/jeux-du-saut-n-1?tmpl=component</a>DTSTAMP:20260423T174118
DTSTART;TZID=Europe/Paris;VALUE=DATE:20190209
DTEND;TZID=Europe/Paris;VALUE=DATE:20190210
SEQUENCE:0
TRANSP:OPAQUE
END:VEVENT
END:VCALENDAR