BEGIN:VCALENDAR
VERSION:2.0
PRODID:-//jEvents 2.0 for Joomla//EN
CALSCALE:GREGORIAN
METHOD:PUBLISH
BEGIN:VTIMEZONE
TZID:Europe/Paris
BEGIN:STANDARD
DTSTART:20180301T000000
RDATE:20180325T030000
TZOFFSETFROM:+0200
TZOFFSETTO:+0100
TZNAME:Europe/Paris CET
END:STANDARD
BEGIN:STANDARD
DTSTART:20181028T020000
RDATE:20190331T030000
TZOFFSETFROM:+0200
TZOFFSETTO:+0100
TZNAME:Europe/Paris CET
END:STANDARD
BEGIN:STANDARD
DTSTART:20191027T020000
RDATE:20200329T030000
TZOFFSETFROM:+0200
TZOFFSETTO:+0100
TZNAME:Europe/Paris CET
END:STANDARD
BEGIN:STANDARD
DTSTART:20201025T020000
RDATE:20210328T030000
TZOFFSETFROM:+0200
TZOFFSETTO:+0100
TZNAME:Europe/Paris CET
END:STANDARD
BEGIN:STANDARD
DTSTART:20211031T020000
RDATE:20220327T030000
TZOFFSETFROM:+0200
TZOFFSETTO:+0100
TZNAME:Europe/Paris CET
END:STANDARD
BEGIN:STANDARD
DTSTART:20221030T020000
RDATE:20230326T030000
TZOFFSETFROM:+0200
TZOFFSETTO:+0100
TZNAME:Europe/Paris CET
END:STANDARD
BEGIN:STANDARD
DTSTART:20231029T020000
RDATE:20240331T030000
TZOFFSETFROM:+0200
TZOFFSETTO:+0100
TZNAME:Europe/Paris CET
END:STANDARD
BEGIN:STANDARD
DTSTART:20241027T020000
RDATE:20250330T030000
TZOFFSETFROM:+0200
TZOFFSETTO:+0100
TZNAME:Europe/Paris CET
END:STANDARD
BEGIN:STANDARD
DTSTART:20251026T020000
RDATE:20260329T030000
TZOFFSETFROM:+0200
TZOFFSETTO:+0100
TZNAME:Europe/Paris CET
END:STANDARD
BEGIN:STANDARD
DTSTART:20261025T020000
RDATE:20270328T030000
TZOFFSETFROM:+0200
TZOFFSETTO:+0100
TZNAME:Europe/Paris CET
END:STANDARD
BEGIN:DAYLIGHT
DTSTART:20180325T030000
RDATE:20181028T020000
TZOFFSETFROM:+0100
TZOFFSETTO:+0200
TZNAME:Europe/Paris CEST
END:DAYLIGHT
BEGIN:DAYLIGHT
DTSTART:20190331T030000
RDATE:20191027T020000
TZOFFSETFROM:+0100
TZOFFSETTO:+0200
TZNAME:Europe/Paris CEST
END:DAYLIGHT
BEGIN:DAYLIGHT
DTSTART:20200329T030000
RDATE:20201025T020000
TZOFFSETFROM:+0100
TZOFFSETTO:+0200
TZNAME:Europe/Paris CEST
END:DAYLIGHT
BEGIN:DAYLIGHT
DTSTART:20210328T030000
RDATE:20211031T020000
TZOFFSETFROM:+0100
TZOFFSETTO:+0200
TZNAME:Europe/Paris CEST
END:DAYLIGHT
BEGIN:DAYLIGHT
DTSTART:20220327T030000
RDATE:20221030T020000
TZOFFSETFROM:+0100
TZOFFSETTO:+0200
TZNAME:Europe/Paris CEST
END:DAYLIGHT
BEGIN:DAYLIGHT
DTSTART:20230326T030000
RDATE:20231029T020000
TZOFFSETFROM:+0100
TZOFFSETTO:+0200
TZNAME:Europe/Paris CEST
END:DAYLIGHT
BEGIN:DAYLIGHT
DTSTART:20240331T030000
RDATE:20241027T020000
TZOFFSETFROM:+0100
TZOFFSETTO:+0200
TZNAME:Europe/Paris CEST
END:DAYLIGHT
BEGIN:DAYLIGHT
DTSTART:20250330T030000
RDATE:20251026T020000
TZOFFSETFROM:+0100
TZOFFSETTO:+0200
TZNAME:Europe/Paris CEST
END:DAYLIGHT
BEGIN:DAYLIGHT
DTSTART:20260329T030000
RDATE:20261025T020000
TZOFFSETFROM:+0100
TZOFFSETTO:+0200
TZNAME:Europe/Paris CEST
END:DAYLIGHT
END:VTIMEZONE
BEGIN:VEVENT
UID:f8d2e84a933d9eb9d06c191fb153c17e
CATEGORIES:FreeStyle
CREATED:20190206T151130
SUMMARY:La Schlucht Slope style
URL;VALUE=URI:https://skivosges.net/agenda/a-venir/detailevenement/1270/-/la-schlucht-slo
 pe-style?tmpl=component
DESCRIPTION:La Schlucht Slope style\n - Codex évenement RMVT0050\n - Station : LA SCHLU
 CHT\n - Organisateur : 14024 LA BRESSAUDE SECTION SKI\n - Courriel : Regula
 rLabs.EmailProtector.unCloak("ep_ec80983e");Période d'inscription à l'evène
 ment du samedi 23 février 2019 à 00:00 au jeudi 28 février 2019 à 12:00 (In
 scriptions impossibles).Inscriptions ouvertes aux detenteurs des titres Féd
 éraux valides suivants : Licenciés CompétiteursEpreuves :\n - Le samedi 02 
 mars 2019\n - Codex épreuve RMVF0051\n - Bosses\n - Catégorie(s) : Minime a
  Seniors (Filles)\n - Le samedi 02 mars 2019\n - Codex épreuve RMVM0051\n -
  Bosses\n - Catégorie(s) : Minime a Seniors (Garçons)\n - Voir les informat
 ions dans l'agenda... (/index.php?option=com_jevents&amp;task=icalevent.det
 ail&amp;evid=1265&amp;Itemid=6289) Cet évènement a été importé depuis :http
 s://skivosges.net/agenda/a-venir/detailevenement/1270/-/la-schlucht-slope-s
 tyle?tmpl=component
X-ALT-DESC;FMTTYPE=text/html:<!-- #gskiepreuve code généré par le plugin jevents pour GskiEpreuves. Ne p
 as modifier cette ligne, ni tout le contenu suivant  #gskiepreuve --><div c
 lass="gski-evenement_infos"><div class="gski-evenement-nom">La Schlucht Slo
 pe style</div><div class="gski-evenement-report"></div><ul class="gski-even
 ement-liste-infos"><li>Codex évenement RMVT0050</li><li>Station : LA SCHLUC
 HT</li><li>Organisateur : 14024 LA BRESSAUDE SECTION SKI</li><li>Courriel :
  <!-- Cette adresse électronique est protégée contre les robots spammeurs. 
 --><span class="cloaked_email ep_ec80983e"><span data-ep-a="&#111;&#100;&#1
 05;&#108;e" data-ep-b="&#102;&#114;"><span data-ep-b="&#97;n&#103;&#101;&#4
 6;" data-ep-a=".&#109;&#117;n&#115;"><span data-ep-a="ch&#46;&#115;&#99;" d
 ata-ep-b="&#108;&#98;&#64;o&#114;"></span></span></span></span><script>Regu
 larLabs.EmailProtector.unCloak("ep_ec80983e");</script></li></ul><div class
 ="gski-evenement-infos-2"><div class="gski-evenement-info-inscriptions"><di
 v class="gski-evenement-inscriptions-periodes">Période d'inscription à l'ev
 ènement du samedi 23 février 2019 à 00:00 au jeudi 28 février 2019 à 12:00 
 <span class="gski-evenement-inscriptions-impossibles">(Inscriptions impossi
 bles).</span><div class="gski-evenement-inscriptions-types-titres">Inscript
 ions ouvertes aux detenteurs des titres Fédéraux valides suivants : Licenci
 és Compétiteurs</div></div></div><div class="gski-evenement-epreuves"><div 
 class="gski-evenement-epreuves-titres">Epreuves :</div><ul class="gski-even
 ement-epreuves-list"><li><div class="gski-epreuve-date">Le samedi 02 mars 2
 019</div><ul class="gski-epreuve-liste-infos"><li>Codex épreuve RMVF0051</l
 i><li>Bosses</li><li>Catégorie(s) : Minime a Seniors (Filles)</li></ul></li
 ><li><div class="gski-epreuve-date">Le samedi 02 mars 2019</div><ul class="
 gski-epreuve-liste-infos"><li>Codex épreuve RMVM0051</li><li>Bosses</li><li
 >Catégorie(s) : Minime a Seniors (Garçons)</li></ul></li></ul></div><div cl
 ass="gskiepreuves-links"><ul><li><a href="https://skivosges.net/index.php?o
 ption=com_jevents&task=icalevent.detail&evid=1265&Itemid=6289">Voir les inf
 ormations dans l'agenda...</a></li></ul></div></div"><!-- #/gskiepreuve fin
  du dode généré par le plugin jevents pour GskiEpreuves. . Ne pas modifier 
 cette ligne, ni tout le contenu précedant.  #/gskiepreuve --> <a href="http
 s://skivosges.net/agenda/a-venir/detailevenement/1270/-/la-schlucht-slope-s
 tyle?tmpl=component">Cet évènement a été importé depuis :https://skivosges.
 net/agenda/a-venir/detailevenement/1270/-/la-schlucht-slope-style?tmpl=comp
 onent</a>DTSTAMP:20260423T174044
DTSTART;TZID=Europe/Paris;VALUE=DATE:20190302
DTEND;TZID=Europe/Paris;VALUE=DATE:20190303
SEQUENCE:0
TRANSP:OPAQUE
END:VEVENT
END:VCALENDAR