BEGIN:VCALENDAR
VERSION:2.0
PRODID:-//jEvents 2.0 for Joomla//EN
CALSCALE:GREGORIAN
METHOD:PUBLISH
BEGIN:VTIMEZONE
TZID:Europe/Paris
BEGIN:STANDARD
DTSTART:20180216T000000
RDATE:20180325T030000
TZOFFSETFROM:+0200
TZOFFSETTO:+0100
TZNAME:Europe/Paris CET
END:STANDARD
BEGIN:STANDARD
DTSTART:20181028T020000
RDATE:20190331T030000
TZOFFSETFROM:+0200
TZOFFSETTO:+0100
TZNAME:Europe/Paris CET
END:STANDARD
BEGIN:STANDARD
DTSTART:20191027T020000
RDATE:20200329T030000
TZOFFSETFROM:+0200
TZOFFSETTO:+0100
TZNAME:Europe/Paris CET
END:STANDARD
BEGIN:STANDARD
DTSTART:20201025T020000
RDATE:20210328T030000
TZOFFSETFROM:+0200
TZOFFSETTO:+0100
TZNAME:Europe/Paris CET
END:STANDARD
BEGIN:STANDARD
DTSTART:20211031T020000
RDATE:20220327T030000
TZOFFSETFROM:+0200
TZOFFSETTO:+0100
TZNAME:Europe/Paris CET
END:STANDARD
BEGIN:STANDARD
DTSTART:20221030T020000
RDATE:20230326T030000
TZOFFSETFROM:+0200
TZOFFSETTO:+0100
TZNAME:Europe/Paris CET
END:STANDARD
BEGIN:STANDARD
DTSTART:20231029T020000
RDATE:20240331T030000
TZOFFSETFROM:+0200
TZOFFSETTO:+0100
TZNAME:Europe/Paris CET
END:STANDARD
BEGIN:STANDARD
DTSTART:20241027T020000
RDATE:20250330T030000
TZOFFSETFROM:+0200
TZOFFSETTO:+0100
TZNAME:Europe/Paris CET
END:STANDARD
BEGIN:STANDARD
DTSTART:20251026T020000
RDATE:20260329T030000
TZOFFSETFROM:+0200
TZOFFSETTO:+0100
TZNAME:Europe/Paris CET
END:STANDARD
BEGIN:STANDARD
DTSTART:20261025T020000
RDATE:20270328T030000
TZOFFSETFROM:+0200
TZOFFSETTO:+0100
TZNAME:Europe/Paris CET
END:STANDARD
BEGIN:DAYLIGHT
DTSTART:20180325T030000
RDATE:20181028T020000
TZOFFSETFROM:+0100
TZOFFSETTO:+0200
TZNAME:Europe/Paris CEST
END:DAYLIGHT
BEGIN:DAYLIGHT
DTSTART:20190331T030000
RDATE:20191027T020000
TZOFFSETFROM:+0100
TZOFFSETTO:+0200
TZNAME:Europe/Paris CEST
END:DAYLIGHT
BEGIN:DAYLIGHT
DTSTART:20200329T030000
RDATE:20201025T020000
TZOFFSETFROM:+0100
TZOFFSETTO:+0200
TZNAME:Europe/Paris CEST
END:DAYLIGHT
BEGIN:DAYLIGHT
DTSTART:20210328T030000
RDATE:20211031T020000
TZOFFSETFROM:+0100
TZOFFSETTO:+0200
TZNAME:Europe/Paris CEST
END:DAYLIGHT
BEGIN:DAYLIGHT
DTSTART:20220327T030000
RDATE:20221030T020000
TZOFFSETFROM:+0100
TZOFFSETTO:+0200
TZNAME:Europe/Paris CEST
END:DAYLIGHT
BEGIN:DAYLIGHT
DTSTART:20230326T030000
RDATE:20231029T020000
TZOFFSETFROM:+0100
TZOFFSETTO:+0200
TZNAME:Europe/Paris CEST
END:DAYLIGHT
BEGIN:DAYLIGHT
DTSTART:20240331T030000
RDATE:20241027T020000
TZOFFSETFROM:+0100
TZOFFSETTO:+0200
TZNAME:Europe/Paris CEST
END:DAYLIGHT
BEGIN:DAYLIGHT
DTSTART:20250330T030000
RDATE:20251026T020000
TZOFFSETFROM:+0100
TZOFFSETTO:+0200
TZNAME:Europe/Paris CEST
END:DAYLIGHT
BEGIN:DAYLIGHT
DTSTART:20260329T030000
RDATE:20261025T020000
TZOFFSETFROM:+0100
TZOFFSETTO:+0200
TZNAME:Europe/Paris CEST
END:DAYLIGHT
END:VTIMEZONE
BEGIN:VEVENT
UID:7f1ab57a9e3f7aa70dcec3bd95a25d6b
CATEGORIES:Circuit Alsace Jeunes (alpin)
CREATED:20190209T104623
SUMMARY:CJA Coupe de Bronze Stade Serge LANG
URL;VALUE=URI:https://skivosges.net/agenda/a-venir/detailevenement/1276/-/cja-coupe-de-br
 onze-stade-serge-lang?tmpl=component
DESCRIPTION:CJA Coupe de Bronze Stade Serge LANG (Report de l'épreuve initialement prév
 ue le 10/02/2019)\n - Codex évenement AMVT0430\n - Lieu : FEDERALE\n - Stat
 ion : MARKSTEIN\n - Piste : STADE SERGE LANG\n - Organisateur : 14186 S.C V
 ALLEE DE WESSERLING\n - Courriel : RegularLabs.EmailProtector.unCloak("ep_7
 31063b6");\n - Téléphone : 03 89 82 78 08\n - Délégué Technique : FUCHS MIC
 HELPériode d'inscription à l'evènement du dimanche 10 février 2019 à 23:00 
 au vendredi 15 février 2019 à 22:00 (Inscriptions impossibles).Inscriptions
  ouvertes aux detenteurs des titres Fédéraux valides suivants : Licenciés C
 ompétiteursL'épreuve sera chronometrée avec les résultats publiés en direct
  (live)Epreuves :\n - Le dimanche 17 février 2019 à 10:00\n - Codex épreuve
  AMVM0431\n - Slalom\n - Catégorie(s) : U8/U10 (Garçons)\n - Le dimanche 17
  février 2019 à 10:00\n - Codex épreuve AMVF0431\n - Slalom\n - Catégorie(s
 ) : U8/U10 (Filles)\n - Le dimanche 17 février 2019 à 10:00\n - Codex épreu
 ve AMVM0432\n - Slalom\n - Catégorie(s) : U12 (Garçons)\n - Le dimanche 17 
 février 2019 à 10:00\n - Codex épreuve AMVF0432\n - Slalom\n - Catégorie(s)
  : U12 (Filles)\n - Le dimanche 17 février 2019 à 10:00\n - Codex épreuve A
 MVM0433\n - Slalom\n - Catégorie(s) : U14 (Garçons)\n - Le dimanche 17 févr
 ier 2019 à 10:00\n - Codex épreuve AMVF0433\n - Slalom\n - Catégorie(s) : U
 14 (Filles)\n - Voir les informations dans l'agenda... (/index.php?option=c
 om_jevents&amp;task=icalevent.detail&amp;evid=1271&amp;Itemid=6289)\n - Ver
 s les résultats... (/index.php?option=com_gskiepreuves&amp;view=afficheresu
 ltats&amp;format_option=tous&amp;filter[search]=AMVT0430&amp;filter[date_de
 but]=17-02-2019&amp;filter[date_fin]=17-02-2019&amp;code_activite=ALP&amp;I
 temid=6289)\n - Publications concernant cet évènement :\n - Samedi 16 Févri
 er 2019 à 14:32 : Le 17/02/2019 MARKSTEIN Liste de départs Cet évènement a 
 été importé depuis :https://skivosges.net/agenda/a-venir/detailevenement/12
 76/-/cja-coupe-de-bronze-stade-serge-lang?tmpl=component
X-ALT-DESC;FMTTYPE=text/html:<!-- #gskiepreuve code généré par le plugin jevents pour GskiEpreuves. Ne p
 as modifier cette ligne, ni tout le contenu suivant  #gskiepreuve --><div c
 lass="gski-evenement_infos"><div class="gski-evenement-nom">CJA Coupe de Br
 onze Stade Serge LANG</div><div class="gski-evenement-report"> <font class=
 "gskiattention">(Report de l'épreuve initialement prévue le 10/02/2019)</fo
 nt></div><ul class="gski-evenement-liste-infos"><li>Codex évenement AMVT043
 0</li><li>Lieu : FEDERALE</li><li>Station : MARKSTEIN</li><li>Piste : STADE
  SERGE LANG</li><li>Organisateur : 14186 S.C VALLEE DE WESSERLING</li><li>C
 ourriel : <!-- Cette adresse électronique est protégée contre les robots sp
 ammeurs. --><span class="cloaked_email ep_731063b6"><span data-ep-b="&#109;
 " data-ep-a="&#115;&#99;&#118;&#119;"><span data-ep-b="&#108;&#46;c&#111;" 
 data-ep-a="e&#115;&#115;&#101;"><span data-ep-b="g&#64;a&#111;" data-ep-a="
 rl&#105;&#110;"></span></span></span></span><script>RegularLabs.EmailProtec
 tor.unCloak("ep_731063b6");</script></li><li>Téléphone : 03 89 82 78 08</li
 ><li><span class="gski-evenement-obs">Délégué Technique : FUCHS MICHEL</spa
 n></li></ul><div class="gski-evenement-infos-2"><div class="gski-evenement-
 info-inscriptions"><div class="gski-evenement-inscriptions-periodes">Périod
 e d'inscription à l'evènement du dimanche 10 février 2019 à 23:00 au vendre
 di 15 février 2019 à 22:00 <span class="gski-evenement-inscriptions-impossi
 bles">(Inscriptions impossibles).</span><div class="gski-evenement-inscript
 ions-types-titres">Inscriptions ouvertes aux detenteurs des titres Fédéraux
  valides suivants : Licenciés Compétiteurs</div></div></div><div class="gsk
 i-evenement-info-live">L'épreuve sera chronometrée avec les résultats publi
 és en direct (live)</div><div class="gski-evenement-epreuves"><div class="g
 ski-evenement-epreuves-titres">Epreuves :</div><ul class="gski-evenement-ep
 reuves-list"><li><div class="gski-epreuve-date">Le dimanche 17 février 2019
  à 10:00</div><ul class="gski-epreuve-liste-infos"><li>Codex épreuve AMVM04
 31</li><li>Slalom</li><li>Catégorie(s) : U8/U10 (Garçons)</li></ul></li><li
 ><div class="gski-epreuve-date">Le dimanche 17 février 2019 à 10:00</div><u
 l class="gski-epreuve-liste-infos"><li>Codex épreuve AMVF0431</li><li>Slalo
 m</li><li>Catégorie(s) : U8/U10 (Filles)</li></ul></li><li><div class="gski
 -epreuve-date">Le dimanche 17 février 2019 à 10:00</div><ul class="gski-epr
 euve-liste-infos"><li>Codex épreuve AMVM0432</li><li>Slalom</li><li>Catégor
 ie(s) : U12 (Garçons)</li></ul></li><li><div class="gski-epreuve-date">Le d
 imanche 17 février 2019 à 10:00</div><ul class="gski-epreuve-liste-infos"><
 li>Codex épreuve AMVF0432</li><li>Slalom</li><li>Catégorie(s) : U12 (Filles
 )</li></ul></li><li><div class="gski-epreuve-date">Le dimanche 17 février 2
 019 à 10:00</div><ul class="gski-epreuve-liste-infos"><li>Codex épreuve AMV
 M0433</li><li>Slalom</li><li>Catégorie(s) : U14 (Garçons)</li></ul></li><li
 ><div class="gski-epreuve-date">Le dimanche 17 février 2019 à 10:00</div><u
 l class="gski-epreuve-liste-infos"><li>Codex épreuve AMVF0433</li><li>Slalo
 m</li><li>Catégorie(s) : U14 (Filles)</li></ul></li></ul></div><div class="
 gskiepreuves-links"><ul><li><a href="https://skivosges.net/index.php?option
 =com_jevents&task=icalevent.detail&evid=1271&Itemid=6289">Voir les informat
 ions dans l'agenda...</a></li><li><a href="https://skivosges.net/index.php?
 option=com_gskiepreuves&view=afficheresultats&format_option=tous&filter[sea
 rch]=AMVT0430&filter[date_debut]=17-02-2019&filter[date_fin]=17-02-2019&cod
 e_activite=ALP&Itemid=6289">Vers les résultats...</a></li><li>Publications 
 concernant cet évènement :<ul><li><a href="https://skivosges.net/index.php?
 option=com_content&view=article&id=6690&Itemid=6289">Samedi 16 Février 2019
  à 14:32 : Le 17/02/2019 MARKSTEIN Liste de départs</a></li></ul></li></ul>
 </div></div"><!-- #/gskiepreuve fin du dode généré par le plugin jevents po
 ur GskiEpreuves. . Ne pas modifier cette ligne, ni tout le contenu précedan
 t.  #/gskiepreuve --> <a href="https://skivosges.net/agenda/a-venir/detaile
 venement/1276/-/cja-coupe-de-bronze-stade-serge-lang?tmpl=component">Cet év
 ènement a été importé depuis :https://skivosges.net/agenda/a-venir/detailev
 enement/1276/-/cja-coupe-de-bronze-stade-serge-lang?tmpl=component</a>DTSTAMP:20260423T174126
DTSTART;TZID=Europe/Paris;VALUE=DATE:20190217
DTEND;TZID=Europe/Paris;VALUE=DATE:20190218
SEQUENCE:0
TRANSP:OPAQUE
END:VEVENT
END:VCALENDAR