BEGIN:VCALENDAR
VERSION:2.0
PRODID:-//jEvents 2.0 for Joomla//EN
CALSCALE:GREGORIAN
METHOD:PUBLISH
BEGIN:VTIMEZONE
TZID:Europe/Paris
BEGIN:STANDARD
DTSTART:20180216T000000
RDATE:20180325T030000
TZOFFSETFROM:+0200
TZOFFSETTO:+0100
TZNAME:Europe/Paris CET
END:STANDARD
BEGIN:STANDARD
DTSTART:20181028T020000
RDATE:20190331T030000
TZOFFSETFROM:+0200
TZOFFSETTO:+0100
TZNAME:Europe/Paris CET
END:STANDARD
BEGIN:STANDARD
DTSTART:20191027T020000
RDATE:20200329T030000
TZOFFSETFROM:+0200
TZOFFSETTO:+0100
TZNAME:Europe/Paris CET
END:STANDARD
BEGIN:STANDARD
DTSTART:20201025T020000
RDATE:20210328T030000
TZOFFSETFROM:+0200
TZOFFSETTO:+0100
TZNAME:Europe/Paris CET
END:STANDARD
BEGIN:STANDARD
DTSTART:20211031T020000
RDATE:20220327T030000
TZOFFSETFROM:+0200
TZOFFSETTO:+0100
TZNAME:Europe/Paris CET
END:STANDARD
BEGIN:STANDARD
DTSTART:20221030T020000
RDATE:20230326T030000
TZOFFSETFROM:+0200
TZOFFSETTO:+0100
TZNAME:Europe/Paris CET
END:STANDARD
BEGIN:STANDARD
DTSTART:20231029T020000
RDATE:20240331T030000
TZOFFSETFROM:+0200
TZOFFSETTO:+0100
TZNAME:Europe/Paris CET
END:STANDARD
BEGIN:STANDARD
DTSTART:20241027T020000
RDATE:20250330T030000
TZOFFSETFROM:+0200
TZOFFSETTO:+0100
TZNAME:Europe/Paris CET
END:STANDARD
BEGIN:STANDARD
DTSTART:20251026T020000
RDATE:20260329T030000
TZOFFSETFROM:+0200
TZOFFSETTO:+0100
TZNAME:Europe/Paris CET
END:STANDARD
BEGIN:STANDARD
DTSTART:20261025T020000
RDATE:20270328T030000
TZOFFSETFROM:+0200
TZOFFSETTO:+0100
TZNAME:Europe/Paris CET
END:STANDARD
BEGIN:DAYLIGHT
DTSTART:20180325T030000
RDATE:20181028T020000
TZOFFSETFROM:+0100
TZOFFSETTO:+0200
TZNAME:Europe/Paris CEST
END:DAYLIGHT
BEGIN:DAYLIGHT
DTSTART:20190331T030000
RDATE:20191027T020000
TZOFFSETFROM:+0100
TZOFFSETTO:+0200
TZNAME:Europe/Paris CEST
END:DAYLIGHT
BEGIN:DAYLIGHT
DTSTART:20200329T030000
RDATE:20201025T020000
TZOFFSETFROM:+0100
TZOFFSETTO:+0200
TZNAME:Europe/Paris CEST
END:DAYLIGHT
BEGIN:DAYLIGHT
DTSTART:20210328T030000
RDATE:20211031T020000
TZOFFSETFROM:+0100
TZOFFSETTO:+0200
TZNAME:Europe/Paris CEST
END:DAYLIGHT
BEGIN:DAYLIGHT
DTSTART:20220327T030000
RDATE:20221030T020000
TZOFFSETFROM:+0100
TZOFFSETTO:+0200
TZNAME:Europe/Paris CEST
END:DAYLIGHT
BEGIN:DAYLIGHT
DTSTART:20230326T030000
RDATE:20231029T020000
TZOFFSETFROM:+0100
TZOFFSETTO:+0200
TZNAME:Europe/Paris CEST
END:DAYLIGHT
BEGIN:DAYLIGHT
DTSTART:20240331T030000
RDATE:20241027T020000
TZOFFSETFROM:+0100
TZOFFSETTO:+0200
TZNAME:Europe/Paris CEST
END:DAYLIGHT
BEGIN:DAYLIGHT
DTSTART:20250330T030000
RDATE:20251026T020000
TZOFFSETFROM:+0100
TZOFFSETTO:+0200
TZNAME:Europe/Paris CEST
END:DAYLIGHT
BEGIN:DAYLIGHT
DTSTART:20260329T030000
RDATE:20261025T020000
TZOFFSETFROM:+0100
TZOFFSETTO:+0200
TZNAME:Europe/Paris CEST
END:DAYLIGHT
END:VTIMEZONE
BEGIN:VEVENT
UID:8ffa18df7220494ebf9a608fd136af63
CATEGORIES:Circuit Massif D2 (alpin)
CREATED:20190211T092624
SUMMARY:CD2 Mémorial Michel Mangel
URL;VALUE=URI:https://skivosges.net/agenda/a-venir/detailevenement/1277/-/cd2-memorial-mi
 chel-mangel?tmpl=component
DESCRIPTION:CD2 Mémorial Michel Mangel (Report de l'épreuve initialement prévue le 13/0
 1/2019)\n - Codex évenement AMVT0180\n - Station : ROUGE GAZON\n - Organisa
 teur : 14063 SKIEURS DE ST MAURICE/MOSELLE\n - Courriel : RegularLabs.Email
 Protector.unCloak("ep_9004d0eb");\n - Délégué Technique : CLAUDEL RENEPério
 de d'inscription à l'evènement du dimanche 10 février 2019 à 00:00 au vendr
 edi 15 février 2019 à 18:00 (Inscriptions impossibles).Inscriptions ouverte
 s aux detenteurs des titres Fédéraux valides suivants : Licenciés Compétite
 ursEpreuves :\n - Le dimanche 17 février 2019 à 10:00\n - Codex épreuve AMV
 M0181\n - Slalom Geant\n - Catégorie(s) : U16 (Garçons)\n - Le dimanche 17 
 février 2019 à 10:00\n - Codex épreuve AMVF0181\n - Slalom Geant\n - Catégo
 rie(s) : U16 (Filles)\n - Le dimanche 17 février 2019 à 10:00\n - Codex épr
 euve AMVF0182\n - Slalom Geant\n - Catégorie(s) : U18 a U30 (Dames)\n - Le 
 dimanche 17 février 2019 à 10:00\n - Codex épreuve AMVM0182\n - Slalom Gean
 t\n - Catégorie(s) : U18 a U30 (Hommes)\n - Voir les informations dans l'ag
 enda... (/index.php?option=com_jevents&amp;task=icalevent.detail&amp;evid=1
 272&amp;Itemid=6289)\n - Vers les résultats... (/index.php?option=com_gskie
 preuves&amp;view=afficheresultats&amp;format_option=tous&amp;filter[search]
 =AMVT0180&amp;filter[date_debut]=17-02-2019&amp;filter[date_fin]=17-02-2019
 &amp;code_activite=ALP&amp;Itemid=6289)\n - Publications concernant cet évè
 nement :\n - Dimanche 17 Février 2019 à 18:24 : Le 17/02/2019 ROUGE GAZON R
 ésultats\n - Vendredi 15 Février 2019 à 18:52 : Le 17/02/2019 ROUGE GAZON L
 iste de départs\n - Jeudi 10 Janvier 2019 à 15:48 : Le 13/01/2019 ROUGE GAZ
 ON Informations Cet évènement a été importé depuis :https://skivosges.net/a
 genda/a-venir/detailevenement/1277/-/cd2-memorial-michel-mangel?tmpl=compon
 ent
X-ALT-DESC;FMTTYPE=text/html:<!-- #gskiepreuve code généré par le plugin jevents pour GskiEpreuves. Ne p
 as modifier cette ligne, ni tout le contenu suivant  #gskiepreuve --><div c
 lass="gski-evenement_infos"><div class="gski-evenement-nom">CD2 Mémorial Mi
 chel Mangel</div><div class="gski-evenement-report"> <font class="gskiatten
 tion">(Report de l'épreuve initialement prévue le 13/01/2019)</font></div><
 ul class="gski-evenement-liste-infos"><li>Codex évenement AMVT0180</li><li>
 Station : ROUGE GAZON</li><li>Organisateur : 14063 SKIEURS DE ST MAURICE/MO
 SELLE</li><li>Courriel : <!-- Cette adresse électronique est protégée contr
 e les robots spammeurs. --><span class="cloaked_email ep_9004d0eb"><span da
 ta-ep-b="" data-ep-a="&#100;ani"><span data-ep-b="r&#46;&#102;&#114;" data-
 ep-a="&#101;&#108;.&#109;"><span data-ep-b="5&#64;&#115;&#102;" data-ep-a="
 o&#114;&#101;&#108;"></span></span></span></span><script>RegularLabs.EmailP
 rotector.unCloak("ep_9004d0eb");</script></li><li><span class="gski-eveneme
 nt-obs">Délégué Technique : CLAUDEL RENE</span></li></ul><div class="gski-e
 venement-infos-2"><div class="gski-evenement-info-inscriptions"><div class=
 "gski-evenement-inscriptions-periodes">Période d'inscription à l'evènement 
 du dimanche 10 février 2019 à 00:00 au vendredi 15 février 2019 à 18:00 <sp
 an class="gski-evenement-inscriptions-impossibles">(Inscriptions impossible
 s).</span><div class="gski-evenement-inscriptions-types-titres">Inscription
 s ouvertes aux detenteurs des titres Fédéraux valides suivants : Licenciés 
 Compétiteurs</div></div></div><div class="gski-evenement-epreuves"><div cla
 ss="gski-evenement-epreuves-titres">Epreuves :</div><ul class="gski-eveneme
 nt-epreuves-list"><li><div class="gski-epreuve-date">Le dimanche 17 février
  2019 à 10:00</div><ul class="gski-epreuve-liste-infos"><li>Codex épreuve A
 MVM0181</li><li>Slalom Geant</li><li>Catégorie(s) : U16 (Garçons)</li></ul>
 </li><li><div class="gski-epreuve-date">Le dimanche 17 février 2019 à 10:00
 </div><ul class="gski-epreuve-liste-infos"><li>Codex épreuve AMVF0181</li><
 li>Slalom Geant</li><li>Catégorie(s) : U16 (Filles)</li></ul></li><li><div 
 class="gski-epreuve-date">Le dimanche 17 février 2019 à 10:00</div><ul clas
 s="gski-epreuve-liste-infos"><li>Codex épreuve AMVF0182</li><li>Slalom Gean
 t</li><li>Catégorie(s) : U18 a U30 (Dames)</li></ul></li><li><div class="gs
 ki-epreuve-date">Le dimanche 17 février 2019 à 10:00</div><ul class="gski-e
 preuve-liste-infos"><li>Codex épreuve AMVM0182</li><li>Slalom Geant</li><li
 >Catégorie(s) : U18 a U30 (Hommes)</li></ul></li></ul></div><div class="gsk
 iepreuves-links"><ul><li><a href="https://skivosges.net/index.php?option=co
 m_jevents&task=icalevent.detail&evid=1272&Itemid=6289">Voir les information
 s dans l'agenda...</a></li><li><a href="https://skivosges.net/index.php?opt
 ion=com_gskiepreuves&view=afficheresultats&format_option=tous&filter[search
 ]=AMVT0180&filter[date_debut]=17-02-2019&filter[date_fin]=17-02-2019&code_a
 ctivite=ALP&Itemid=6289">Vers les résultats...</a></li><li>Publications con
 cernant cet évènement :<ul><li><a href="https://skivosges.net/index.php?opt
 ion=com_content&view=article&id=6693&Itemid=6289">Dimanche 17 Février 2019 
 à 18:24 : Le 17/02/2019 ROUGE GAZON Résultats</a></li><li><a href="https://
 skivosges.net/index.php?option=com_content&view=article&id=6686&Itemid=6289
 ">Vendredi 15 Février 2019 à 18:52 : Le 17/02/2019 ROUGE GAZON Liste de dép
 arts</a></li><li><a href="https://skivosges.net/index.php?option=com_conten
 t&view=article&id=6501&Itemid=6289">Jeudi 10 Janvier 2019 à 15:48 : Le 13/0
 1/2019 ROUGE GAZON Informations</a></li></ul></li></ul></div></div"><!-- #/
 gskiepreuve fin du dode généré par le plugin jevents pour GskiEpreuves. . N
 e pas modifier cette ligne, ni tout le contenu précedant.  #/gskiepreuve --
 > <a href="https://skivosges.net/agenda/a-venir/detailevenement/1277/-/cd2-
 memorial-michel-mangel?tmpl=component">Cet évènement a été importé depuis :
 https://skivosges.net/agenda/a-venir/detailevenement/1277/-/cd2-memorial-mi
 chel-mangel?tmpl=component</a>DTSTAMP:20260423T174114
DTSTART;TZID=Europe/Paris;VALUE=DATE:20190217
DTEND;TZID=Europe/Paris;VALUE=DATE:20190218
SEQUENCE:0
TRANSP:OPAQUE
END:VEVENT
END:VCALENDAR