BEGIN:VCALENDAR
VERSION:2.0
PRODID:-//jEvents 2.0 for Joomla//EN
CALSCALE:GREGORIAN
METHOD:PUBLISH
BEGIN:VTIMEZONE
TZID:Europe/Paris
BEGIN:STANDARD
DTSTART:20180216T000000
RDATE:20180325T030000
TZOFFSETFROM:+0200
TZOFFSETTO:+0100
TZNAME:Europe/Paris CET
END:STANDARD
BEGIN:STANDARD
DTSTART:20181028T020000
RDATE:20190331T030000
TZOFFSETFROM:+0200
TZOFFSETTO:+0100
TZNAME:Europe/Paris CET
END:STANDARD
BEGIN:STANDARD
DTSTART:20191027T020000
RDATE:20200329T030000
TZOFFSETFROM:+0200
TZOFFSETTO:+0100
TZNAME:Europe/Paris CET
END:STANDARD
BEGIN:STANDARD
DTSTART:20201025T020000
RDATE:20210328T030000
TZOFFSETFROM:+0200
TZOFFSETTO:+0100
TZNAME:Europe/Paris CET
END:STANDARD
BEGIN:STANDARD
DTSTART:20211031T020000
RDATE:20220327T030000
TZOFFSETFROM:+0200
TZOFFSETTO:+0100
TZNAME:Europe/Paris CET
END:STANDARD
BEGIN:STANDARD
DTSTART:20221030T020000
RDATE:20230326T030000
TZOFFSETFROM:+0200
TZOFFSETTO:+0100
TZNAME:Europe/Paris CET
END:STANDARD
BEGIN:STANDARD
DTSTART:20231029T020000
RDATE:20240331T030000
TZOFFSETFROM:+0200
TZOFFSETTO:+0100
TZNAME:Europe/Paris CET
END:STANDARD
BEGIN:STANDARD
DTSTART:20241027T020000
RDATE:20250330T030000
TZOFFSETFROM:+0200
TZOFFSETTO:+0100
TZNAME:Europe/Paris CET
END:STANDARD
BEGIN:STANDARD
DTSTART:20251026T020000
RDATE:20260329T030000
TZOFFSETFROM:+0200
TZOFFSETTO:+0100
TZNAME:Europe/Paris CET
END:STANDARD
BEGIN:STANDARD
DTSTART:20261025T020000
RDATE:20270328T030000
TZOFFSETFROM:+0200
TZOFFSETTO:+0100
TZNAME:Europe/Paris CET
END:STANDARD
BEGIN:DAYLIGHT
DTSTART:20180325T030000
RDATE:20181028T020000
TZOFFSETFROM:+0100
TZOFFSETTO:+0200
TZNAME:Europe/Paris CEST
END:DAYLIGHT
BEGIN:DAYLIGHT
DTSTART:20190331T030000
RDATE:20191027T020000
TZOFFSETFROM:+0100
TZOFFSETTO:+0200
TZNAME:Europe/Paris CEST
END:DAYLIGHT
BEGIN:DAYLIGHT
DTSTART:20200329T030000
RDATE:20201025T020000
TZOFFSETFROM:+0100
TZOFFSETTO:+0200
TZNAME:Europe/Paris CEST
END:DAYLIGHT
BEGIN:DAYLIGHT
DTSTART:20210328T030000
RDATE:20211031T020000
TZOFFSETFROM:+0100
TZOFFSETTO:+0200
TZNAME:Europe/Paris CEST
END:DAYLIGHT
BEGIN:DAYLIGHT
DTSTART:20220327T030000
RDATE:20221030T020000
TZOFFSETFROM:+0100
TZOFFSETTO:+0200
TZNAME:Europe/Paris CEST
END:DAYLIGHT
BEGIN:DAYLIGHT
DTSTART:20230326T030000
RDATE:20231029T020000
TZOFFSETFROM:+0100
TZOFFSETTO:+0200
TZNAME:Europe/Paris CEST
END:DAYLIGHT
BEGIN:DAYLIGHT
DTSTART:20240331T030000
RDATE:20241027T020000
TZOFFSETFROM:+0100
TZOFFSETTO:+0200
TZNAME:Europe/Paris CEST
END:DAYLIGHT
BEGIN:DAYLIGHT
DTSTART:20250330T030000
RDATE:20251026T020000
TZOFFSETFROM:+0100
TZOFFSETTO:+0200
TZNAME:Europe/Paris CEST
END:DAYLIGHT
BEGIN:DAYLIGHT
DTSTART:20260329T030000
RDATE:20261025T020000
TZOFFSETFROM:+0100
TZOFFSETTO:+0200
TZNAME:Europe/Paris CEST
END:DAYLIGHT
END:VTIMEZONE
BEGIN:VEVENT
UID:4489d49cffb89eb9a885f01439bd3590
CATEGORIES:Circuit Massif Masters (alpin)
CREATED:20190211T092659
SUMMARY:CMM  Esprit Racing prix Mat Peinture
URL;VALUE=URI:https://skivosges.net/agenda/a-venir/detailevenement/1278/-/cmm-esprit-raci
 ng-prix-mat-peinture?tmpl=component
DESCRIPTION:CMM  Esprit Racing prix Mat Peinture (Report de l'épreuve initialement prév
 ue le 12/01/2019)\n - Codex évenement AMVT0140\n - Station : ROUGE GAZON\n 
 - Organisateur : 14063 SKIEURS DE ST MAURICE/MOSELLE\n - Courriel : Regular
 Labs.EmailProtector.unCloak("ep_0f4eb9d9");\n - Délégué Technique : BANZET 
 RICHARDPériode d'inscription à l'evènement du dimanche 10 février 2019 à 00
 :00 au vendredi 15 février 2019 à 18:00 (Inscriptions impossibles).Inscript
 ions ouvertes aux detenteurs des titres Fédéraux valides suivants : Licenci
 és CompétiteursEpreuves :\n - Le dimanche 17 février 2019 à 10:00\n - Codex
  épreuve AMVM0141\n - Slalom Geant\n - Catégorie(s) : Toutes les categories
  Masters (ABC) (Hommes)\n - Le dimanche 17 février 2019 à 10:00\n - Codex é
 preuve AMVF0141\n - Slalom Geant\n - Catégorie(s) : Toutes les categories M
 asters (ABC) (Dames)\n - Voir les informations dans l'agenda... (/index.php
 ?option=com_jevents&amp;task=icalevent.detail&amp;evid=1273&amp;Itemid=6289
 )\n - Vers les résultats... (/index.php?option=com_gskiepreuves&amp;view=af
 ficheresultats&amp;format_option=tous&amp;filter[search]=AMVT0140&amp;filte
 r[date_debut]=17-02-2019&amp;filter[date_fin]=17-02-2019&amp;code_activite=
 ALP&amp;Itemid=6289) Cet évènement a été importé depuis :https://skivosges.
 net/agenda/a-venir/detailevenement/1278/-/cmm-esprit-racing-prix-mat-peintu
 re?tmpl=component
X-ALT-DESC;FMTTYPE=text/html:<!-- #gskiepreuve code généré par le plugin jevents pour GskiEpreuves. Ne p
 as modifier cette ligne, ni tout le contenu suivant  #gskiepreuve --><div c
 lass="gski-evenement_infos"><div class="gski-evenement-nom">CMM  Esprit Rac
 ing prix Mat Peinture</div><div class="gski-evenement-report"> <font class=
 "gskiattention">(Report de l'épreuve initialement prévue le 12/01/2019)</fo
 nt></div><ul class="gski-evenement-liste-infos"><li>Codex évenement AMVT014
 0</li><li>Station : ROUGE GAZON</li><li>Organisateur : 14063 SKIEURS DE ST 
 MAURICE/MOSELLE</li><li>Courriel : <!-- Cette adresse électronique est prot
 égée contre les robots spammeurs. --><span class="cloaked_email ep_0f4eb9d9
 "><span data-ep-b="" data-ep-a="dan&#105;"><span data-ep-b="&#114;.&#102;&#
 114;" data-ep-a="&#101;l&#46;&#109;"><span data-ep-b="5&#64;&#115;&#102;" d
 ata-ep-a="o&#114;&#101;&#108;"></span></span></span></span><script>RegularL
 abs.EmailProtector.unCloak("ep_0f4eb9d9");</script></li><li><span class="gs
 ki-evenement-obs">Délégué Technique : BANZET RICHARD</span></li></ul><div c
 lass="gski-evenement-infos-2"><div class="gski-evenement-info-inscriptions"
 ><div class="gski-evenement-inscriptions-periodes">Période d'inscription à 
 l'evènement du dimanche 10 février 2019 à 00:00 au vendredi 15 février 2019
  à 18:00 <span class="gski-evenement-inscriptions-impossibles">(Inscription
 s impossibles).</span><div class="gski-evenement-inscriptions-types-titres"
 >Inscriptions ouvertes aux detenteurs des titres Fédéraux valides suivants 
 : Licenciés Compétiteurs</div></div></div><div class="gski-evenement-epreuv
 es"><div class="gski-evenement-epreuves-titres">Epreuves :</div><ul class="
 gski-evenement-epreuves-list"><li><div class="gski-epreuve-date">Le dimanch
 e 17 février 2019 à 10:00</div><ul class="gski-epreuve-liste-infos"><li>Cod
 ex épreuve AMVM0141</li><li>Slalom Geant</li><li>Catégorie(s) : Toutes les 
 categories Masters (ABC) (Hommes)</li></ul></li><li><div class="gski-epreuv
 e-date">Le dimanche 17 février 2019 à 10:00</div><ul class="gski-epreuve-li
 ste-infos"><li>Codex épreuve AMVF0141</li><li>Slalom Geant</li><li>Catégori
 e(s) : Toutes les categories Masters (ABC) (Dames)</li></ul></li></ul></div
 ><div class="gskiepreuves-links"><ul><li><a href="https://skivosges.net/ind
 ex.php?option=com_jevents&task=icalevent.detail&evid=1273&Itemid=6289">Voir
  les informations dans l'agenda...</a></li><li><a href="https://skivosges.n
 et/index.php?option=com_gskiepreuves&view=afficheresultats&format_option=to
 us&filter[search]=AMVT0140&filter[date_debut]=17-02-2019&filter[date_fin]=1
 7-02-2019&code_activite=ALP&Itemid=6289">Vers les résultats...</a></li></ul
 ></div></div"><!-- #/gskiepreuve fin du dode généré par le plugin jevents p
 our GskiEpreuves. . Ne pas modifier cette ligne, ni tout le contenu préceda
 nt.  #/gskiepreuve --> <a href="https://skivosges.net/agenda/a-venir/detail
 evenement/1278/-/cmm-esprit-racing-prix-mat-peinture?tmpl=component">Cet év
 ènement a été importé depuis :https://skivosges.net/agenda/a-venir/detailev
 enement/1278/-/cmm-esprit-racing-prix-mat-peinture?tmpl=component</a>DTSTAMP:20260423T174046
DTSTART;TZID=Europe/Paris;VALUE=DATE:20190217
DTEND;TZID=Europe/Paris;VALUE=DATE:20190218
SEQUENCE:0
TRANSP:OPAQUE
END:VEVENT
END:VCALENDAR