BEGIN:VCALENDAR
VERSION:2.0
PRODID:-//jEvents 2.0 for Joomla//EN
CALSCALE:GREGORIAN
METHOD:PUBLISH
BEGIN:VTIMEZONE
TZID:Europe/Paris
BEGIN:STANDARD
DTSTART:20180215T000000
RDATE:20180325T030000
TZOFFSETFROM:+0200
TZOFFSETTO:+0100
TZNAME:Europe/Paris CET
END:STANDARD
BEGIN:STANDARD
DTSTART:20181028T020000
RDATE:20190331T030000
TZOFFSETFROM:+0200
TZOFFSETTO:+0100
TZNAME:Europe/Paris CET
END:STANDARD
BEGIN:STANDARD
DTSTART:20191027T020000
RDATE:20200329T030000
TZOFFSETFROM:+0200
TZOFFSETTO:+0100
TZNAME:Europe/Paris CET
END:STANDARD
BEGIN:STANDARD
DTSTART:20201025T020000
RDATE:20210328T030000
TZOFFSETFROM:+0200
TZOFFSETTO:+0100
TZNAME:Europe/Paris CET
END:STANDARD
BEGIN:STANDARD
DTSTART:20211031T020000
RDATE:20220327T030000
TZOFFSETFROM:+0200
TZOFFSETTO:+0100
TZNAME:Europe/Paris CET
END:STANDARD
BEGIN:STANDARD
DTSTART:20221030T020000
RDATE:20230326T030000
TZOFFSETFROM:+0200
TZOFFSETTO:+0100
TZNAME:Europe/Paris CET
END:STANDARD
BEGIN:STANDARD
DTSTART:20231029T020000
RDATE:20240331T030000
TZOFFSETFROM:+0200
TZOFFSETTO:+0100
TZNAME:Europe/Paris CET
END:STANDARD
BEGIN:STANDARD
DTSTART:20241027T020000
RDATE:20250330T030000
TZOFFSETFROM:+0200
TZOFFSETTO:+0100
TZNAME:Europe/Paris CET
END:STANDARD
BEGIN:STANDARD
DTSTART:20251026T020000
RDATE:20260329T030000
TZOFFSETFROM:+0200
TZOFFSETTO:+0100
TZNAME:Europe/Paris CET
END:STANDARD
BEGIN:STANDARD
DTSTART:20261025T020000
RDATE:20270328T030000
TZOFFSETFROM:+0200
TZOFFSETTO:+0100
TZNAME:Europe/Paris CET
END:STANDARD
BEGIN:DAYLIGHT
DTSTART:20180325T030000
RDATE:20181028T020000
TZOFFSETFROM:+0100
TZOFFSETTO:+0200
TZNAME:Europe/Paris CEST
END:DAYLIGHT
BEGIN:DAYLIGHT
DTSTART:20190331T030000
RDATE:20191027T020000
TZOFFSETFROM:+0100
TZOFFSETTO:+0200
TZNAME:Europe/Paris CEST
END:DAYLIGHT
BEGIN:DAYLIGHT
DTSTART:20200329T030000
RDATE:20201025T020000
TZOFFSETFROM:+0100
TZOFFSETTO:+0200
TZNAME:Europe/Paris CEST
END:DAYLIGHT
BEGIN:DAYLIGHT
DTSTART:20210328T030000
RDATE:20211031T020000
TZOFFSETFROM:+0100
TZOFFSETTO:+0200
TZNAME:Europe/Paris CEST
END:DAYLIGHT
BEGIN:DAYLIGHT
DTSTART:20220327T030000
RDATE:20221030T020000
TZOFFSETFROM:+0100
TZOFFSETTO:+0200
TZNAME:Europe/Paris CEST
END:DAYLIGHT
BEGIN:DAYLIGHT
DTSTART:20230326T030000
RDATE:20231029T020000
TZOFFSETFROM:+0100
TZOFFSETTO:+0200
TZNAME:Europe/Paris CEST
END:DAYLIGHT
BEGIN:DAYLIGHT
DTSTART:20240331T030000
RDATE:20241027T020000
TZOFFSETFROM:+0100
TZOFFSETTO:+0200
TZNAME:Europe/Paris CEST
END:DAYLIGHT
BEGIN:DAYLIGHT
DTSTART:20250330T030000
RDATE:20251026T020000
TZOFFSETFROM:+0100
TZOFFSETTO:+0200
TZNAME:Europe/Paris CEST
END:DAYLIGHT
BEGIN:DAYLIGHT
DTSTART:20260329T030000
RDATE:20261025T020000
TZOFFSETFROM:+0100
TZOFFSETTO:+0200
TZNAME:Europe/Paris CEST
END:DAYLIGHT
END:VTIMEZONE
BEGIN:VEVENT
UID:f38ed12dcbf1351e414ce0f3596e78c5
CATEGORIES:Circuit Massif D2 (alpin)
CREATED:20190211T101900
SUMMARY:CD2 U16 à Masters ACW carrosserie Gérardmer
URL;VALUE=URI:https://skivosges.net/agenda/a-venir/detailevenement/1279/-/cd2-u16-a-maste
 rs-acw-carrosserie-gerardmer?tmpl=component
DESCRIPTION:CD2 U16 à Masters ACW carrosserie Gérardmer (Report de l'épreuve initialeme
 nt prévue le 06/01/2019)\n - Codex évenement AMVT0100\n - Lieu : Stade \n -
  Station : GERARDMER\n - Piste :  Bas du stade \n - Organisateur : 14089 GE
 RARDMER SKI ALPIN\n - Courriel : RegularLabs.EmailProtector.unCloak("ep_028
 4f7a4");\n - Téléphone : 03 29 60 98 04\n - Délégué Technique : TURRI TIZIA
 NOPériode d'inscription à l'evènement du samedi 09 février 2019 à 00:00 au 
 vendredi 15 février 2019 à 16:00 (Inscriptions impossibles).Inscriptions ou
 vertes aux detenteurs des titres Fédéraux valides suivants : Licenciés Comp
 étiteursL'épreuve sera chronometrée avec les résultats publiés en direct (l
 ive)Epreuves :\n - Le samedi 16 février 2019 à 10:00\n - Codex épreuve AMVM
 0101\n - Slalom\n - Catégorie(s) : U16 a Masters (Garçons)\n - Le samedi 16
  février 2019 à 10:00\n - Codex épreuve AMVF0101\n - Slalom\n - Catégorie(s
 ) : U16 a Masters (Filles)\n - Voir les informations dans l'agenda... (/ind
 ex.php?option=com_jevents&amp;task=icalevent.detail&amp;evid=1274&amp;Itemi
 d=6289)\n - Vers les résultats... (/index.php?option=com_gskiepreuves&amp;v
 iew=afficheresultats&amp;format_option=tous&amp;filter[search]=AMVT0100&amp
 ;filter[date_debut]=16-02-2019&amp;filter[date_fin]=16-02-2019&amp;code_act
 ivite=ALP&amp;Itemid=6289)\n - Publications concernant cet évènement :\n - 
 Samedi 16 Février 2019 à 12:28 : Le 16/02/2019 GERARDMER Résultats\n - Vend
 redi 15 Février 2019 à 16:54 : Le 16/02/2019 GERARDMER Liste de départs Cet
  évènement a été importé depuis :https://skivosges.net/agenda/a-venir/detai
 levenement/1279/-/cd2-u16-a-masters-acw-carrosserie-gerardmer?tmpl=componen
 t
X-ALT-DESC;FMTTYPE=text/html:<!-- #gskiepreuve code généré par le plugin jevents pour GskiEpreuves. Ne p
 as modifier cette ligne, ni tout le contenu suivant  #gskiepreuve --><div c
 lass="gski-evenement_infos"><div class="gski-evenement-nom">CD2 U16 à Maste
 rs ACW carrosserie Gérardmer</div><div class="gski-evenement-report"> <font
  class="gskiattention">(Report de l'épreuve initialement prévue le 06/01/20
 19)</font></div><ul class="gski-evenement-liste-infos"><li>Codex évenement 
 AMVT0100</li><li>Lieu : Stade </li><li>Station : GERARDMER</li><li>Piste : 
  Bas du stade </li><li>Organisateur : 14089 GERARDMER SKI ALPIN</li><li>Cou
 rriel : <!-- Cette adresse électronique est protégée contre les robots spam
 meurs. --><span class="cloaked_email ep_0284f7a4"><span data-ep-b="&#101;&#
 46;&#102;&#114;" data-ep-a="&#103;era&#114;"><span data-ep-b="o&#114;a&#110
 ;&#103;" data-ep-a="dm&#101;&#114;&#45;"><span data-ep-a="&#115;&#107;i&#45
 ;&#97;" data-ep-b="lp&#105;n&#64;"></span></span></span></span><script>Regu
 larLabs.EmailProtector.unCloak("ep_0284f7a4");</script></li><li>Téléphone :
  03 29 60 98 04</li><li><span class="gski-evenement-obs">Délégué Technique 
 : TURRI TIZIANO</span></li></ul><div class="gski-evenement-infos-2"><div cl
 ass="gski-evenement-info-inscriptions"><div class="gski-evenement-inscripti
 ons-periodes">Période d'inscription à l'evènement du samedi 09 février 2019
  à 00:00 au vendredi 15 février 2019 à 16:00 <span class="gski-evenement-in
 scriptions-impossibles">(Inscriptions impossibles).</span><div class="gski-
 evenement-inscriptions-types-titres">Inscriptions ouvertes aux detenteurs d
 es titres Fédéraux valides suivants : Licenciés Compétiteurs</div></div></d
 iv><div class="gski-evenement-info-live">L'épreuve sera chronometrée avec l
 es résultats publiés en direct (live)</div><div class="gski-evenement-epreu
 ves"><div class="gski-evenement-epreuves-titres">Epreuves :</div><ul class=
 "gski-evenement-epreuves-list"><li><div class="gski-epreuve-date">Le samedi
  16 février 2019 à 10:00</div><ul class="gski-epreuve-liste-infos"><li>Code
 x épreuve AMVM0101</li><li>Slalom</li><li>Catégorie(s) : U16 a Masters (Gar
 çons)</li></ul></li><li><div class="gski-epreuve-date">Le samedi 16 février
  2019 à 10:00</div><ul class="gski-epreuve-liste-infos"><li>Codex épreuve A
 MVF0101</li><li>Slalom</li><li>Catégorie(s) : U16 a Masters (Filles)</li></
 ul></li></ul></div><div class="gskiepreuves-links"><ul><li><a href="https:/
 /skivosges.net/index.php?option=com_jevents&task=icalevent.detail&evid=1274
 &Itemid=6289">Voir les informations dans l'agenda...</a></li><li><a href="h
 ttps://skivosges.net/index.php?option=com_gskiepreuves&view=afficheresultat
 s&format_option=tous&filter[search]=AMVT0100&filter[date_debut]=16-02-2019&
 filter[date_fin]=16-02-2019&code_activite=ALP&Itemid=6289">Vers les résulta
 ts...</a></li><li>Publications concernant cet évènement :<ul><li><a href="h
 ttps://skivosges.net/index.php?option=com_content&view=article&id=6689&Item
 id=6289">Samedi 16 Février 2019 à 12:28 : Le 16/02/2019 GERARDMER Résultats
 </a></li><li><a href="https://skivosges.net/index.php?option=com_content&vi
 ew=article&id=6684&Itemid=6289">Vendredi 15 Février 2019 à 16:54 : Le 16/02
 /2019 GERARDMER Liste de départs</a></li></ul></li></ul></div></div"><!-- #
 /gskiepreuve fin du dode généré par le plugin jevents pour GskiEpreuves. . 
 Ne pas modifier cette ligne, ni tout le contenu précedant.  #/gskiepreuve -
 -> <a href="https://skivosges.net/agenda/a-venir/detailevenement/1279/-/cd2
 -u16-a-masters-acw-carrosserie-gerardmer?tmpl=component">Cet évènement a ét
 é importé depuis :https://skivosges.net/agenda/a-venir/detailevenement/1279
 /-/cd2-u16-a-masters-acw-carrosserie-gerardmer?tmpl=component</a>DTSTAMP:20260423T174105
DTSTART;TZID=Europe/Paris;VALUE=DATE:20190216
DTEND;TZID=Europe/Paris;VALUE=DATE:20190217
SEQUENCE:0
TRANSP:OPAQUE
END:VEVENT
END:VCALENDAR