BEGIN:VCALENDAR
VERSION:2.0
PRODID:-//jEvents 2.0 for Joomla//EN
CALSCALE:GREGORIAN
METHOD:PUBLISH
BEGIN:VTIMEZONE
TZID:Europe/Paris
BEGIN:STANDARD
DTSTART:20180301T000000
RDATE:20180325T030000
TZOFFSETFROM:+0200
TZOFFSETTO:+0100
TZNAME:Europe/Paris CET
END:STANDARD
BEGIN:STANDARD
DTSTART:20181028T020000
RDATE:20190331T030000
TZOFFSETFROM:+0200
TZOFFSETTO:+0100
TZNAME:Europe/Paris CET
END:STANDARD
BEGIN:STANDARD
DTSTART:20191027T020000
RDATE:20200329T030000
TZOFFSETFROM:+0200
TZOFFSETTO:+0100
TZNAME:Europe/Paris CET
END:STANDARD
BEGIN:STANDARD
DTSTART:20201025T020000
RDATE:20210328T030000
TZOFFSETFROM:+0200
TZOFFSETTO:+0100
TZNAME:Europe/Paris CET
END:STANDARD
BEGIN:STANDARD
DTSTART:20211031T020000
RDATE:20220327T030000
TZOFFSETFROM:+0200
TZOFFSETTO:+0100
TZNAME:Europe/Paris CET
END:STANDARD
BEGIN:STANDARD
DTSTART:20221030T020000
RDATE:20230326T030000
TZOFFSETFROM:+0200
TZOFFSETTO:+0100
TZNAME:Europe/Paris CET
END:STANDARD
BEGIN:STANDARD
DTSTART:20231029T020000
RDATE:20240331T030000
TZOFFSETFROM:+0200
TZOFFSETTO:+0100
TZNAME:Europe/Paris CET
END:STANDARD
BEGIN:STANDARD
DTSTART:20241027T020000
RDATE:20250330T030000
TZOFFSETFROM:+0200
TZOFFSETTO:+0100
TZNAME:Europe/Paris CET
END:STANDARD
BEGIN:STANDARD
DTSTART:20251026T020000
RDATE:20260329T030000
TZOFFSETFROM:+0200
TZOFFSETTO:+0100
TZNAME:Europe/Paris CET
END:STANDARD
BEGIN:STANDARD
DTSTART:20261025T020000
RDATE:20270328T030000
TZOFFSETFROM:+0200
TZOFFSETTO:+0100
TZNAME:Europe/Paris CET
END:STANDARD
BEGIN:DAYLIGHT
DTSTART:20180325T030000
RDATE:20181028T020000
TZOFFSETFROM:+0100
TZOFFSETTO:+0200
TZNAME:Europe/Paris CEST
END:DAYLIGHT
BEGIN:DAYLIGHT
DTSTART:20190331T030000
RDATE:20191027T020000
TZOFFSETFROM:+0100
TZOFFSETTO:+0200
TZNAME:Europe/Paris CEST
END:DAYLIGHT
BEGIN:DAYLIGHT
DTSTART:20200329T030000
RDATE:20201025T020000
TZOFFSETFROM:+0100
TZOFFSETTO:+0200
TZNAME:Europe/Paris CEST
END:DAYLIGHT
BEGIN:DAYLIGHT
DTSTART:20210328T030000
RDATE:20211031T020000
TZOFFSETFROM:+0100
TZOFFSETTO:+0200
TZNAME:Europe/Paris CEST
END:DAYLIGHT
BEGIN:DAYLIGHT
DTSTART:20220327T030000
RDATE:20221030T020000
TZOFFSETFROM:+0100
TZOFFSETTO:+0200
TZNAME:Europe/Paris CEST
END:DAYLIGHT
BEGIN:DAYLIGHT
DTSTART:20230326T030000
RDATE:20231029T020000
TZOFFSETFROM:+0100
TZOFFSETTO:+0200
TZNAME:Europe/Paris CEST
END:DAYLIGHT
BEGIN:DAYLIGHT
DTSTART:20240331T030000
RDATE:20241027T020000
TZOFFSETFROM:+0100
TZOFFSETTO:+0200
TZNAME:Europe/Paris CEST
END:DAYLIGHT
BEGIN:DAYLIGHT
DTSTART:20250330T030000
RDATE:20251026T020000
TZOFFSETFROM:+0100
TZOFFSETTO:+0200
TZNAME:Europe/Paris CEST
END:DAYLIGHT
BEGIN:DAYLIGHT
DTSTART:20260329T030000
RDATE:20261025T020000
TZOFFSETFROM:+0100
TZOFFSETTO:+0200
TZNAME:Europe/Paris CEST
END:DAYLIGHT
END:VTIMEZONE
BEGIN:VEVENT
UID:0ea5fa927a7501558f779fbf9635467a
CATEGORIES:Circuit Alsace Jeunes (alpin)
CREATED:20190220T202536
SUMMARY:CJA Coupe Bronze U12 /U14 prix Coupe Scoseg **REPORTE**
URL;VALUE=URI:https://skivosges.net/agenda/a-venir/detailevenement/1280/-/cja-coupe-bronz
 e-u12-u14-prix-coupe-scoseg-reporte?tmpl=component
DESCRIPTION:CJA Coupe Bronze U12 /U14 prix Coupe Scoseg (Epreuve reportée, date à deter
 miner)\n - Codex évenement AMVT0210\n - Lieu : Stade Lang\n - Station : MAR
 KSTEIN\n - Piste : Stade de Slalom\n - Organisateur : 14356 S.C.O.S.E.G. GU
 EBWILLER\n - Courriel : RegularLabs.EmailProtector.unCloak("ep_34b8a425");\
 n - Téléphone : 06 81 99 73 62\n - Délégué Technique : MULLER JEAN CLAUDEPé
 riode d'inscription à l'evènement du samedi 23 février 2019 à 00:00 au vend
 redi 01 mars 2019 à 12:00 (Inscriptions impossibles).Inscriptions ouvertes 
 aux detenteurs des titres Fédéraux valides suivants : Licenciés Compétiteur
 sL'épreuve sera chronometrée avec les résultats publiés en direct (live)Epr
 euves :\n - Le samedi 02 mars 2019 à 10:30\n - Codex épreuve AMVM0211\n - S
 lalom Geant\n - Catégorie(s) : U12 (Garçons)\n - Le samedi 02 mars 2019 à 1
 0:30\n - Codex épreuve AMVF0211\n - Slalom Geant\n - Catégorie(s) : U12 (Fi
 lles)\n - Le samedi 02 mars 2019 à 10:30\n - Codex épreuve AMVM0212\n - Sla
 lom Geant\n - Catégorie(s) : U14 (Garçons)\n - Le samedi 02 mars 2019 à 10:
 30\n - Codex épreuve AMVF0212\n - Slalom Geant\n - Catégorie(s) : U14 (Fill
 es)\n - Voir les informations dans l'agenda... (/index.php?option=com_jeven
 ts&amp;task=icalevent.detail&amp;evid=1275&amp;Itemid=6289)\n - Vers la lis
 te de départs... (/index.php?option=com_gskiepreuves&amp;view=affichedepart
 s&amp;format_option=tous&amp;filter[search]=AMVT0210&amp;filter[date_debut]
 =02-03-2019&amp;filter[date_fin]=02-03-2019&amp;Itemid=6289)\n - Publicatio
 ns concernant cet évènement :\n - Vendredi 1 Mars 2019 à 16:51 : Le 02/03/2
 019 MARKSTEIN Liste de départs\n - Vendredi 1 Mars 2019 à 14:22 : Le 13/01/
 2019 MARKSTEIN Liste de départs Cet évènement a été importé depuis :https:/
 /skivosges.net/agenda/a-venir/detailevenement/1280/-/cja-coupe-bronze-u12-u
 14-prix-coupe-scoseg-reporte?tmpl=component
X-ALT-DESC;FMTTYPE=text/html:<!-- #gskiepreuve code généré par le plugin jevents pour GskiEpreuves. Ne p
 as modifier cette ligne, ni tout le contenu suivant  #gskiepreuve --><div c
 lass="gski-evenement_infos"><div class="gski-evenement-nom">CJA Coupe Bronz
 e U12 /U14 prix Coupe Scoseg</div><div class="gski-evenement-report"> <font
  class="gskiattention">(Epreuve reportée, date à determiner)</font></div><u
 l class="gski-evenement-liste-infos"><li>Codex évenement AMVT0210</li><li>L
 ieu : Stade Lang</li><li>Station : MARKSTEIN</li><li>Piste : Stade de Slalo
 m</li><li>Organisateur : 14356 S.C.O.S.E.G. GUEBWILLER</li><li>Courriel : <
 !-- Cette adresse électronique est protégée contre les robots spammeurs. --
 ><span class="cloaked_email ep_34b8a425"><span data-ep-a="df&#101;r" data-e
 p-b="&#114;"><span data-ep-a="&#110;&#97;&#110;&#100;" data-ep-b="&#97;l&#4
 6;f"><span data-ep-a="&#64;&#112;u&#98;" data-ep-b="&#108;&#121;q&#117;"></
 span></span></span></span><script>RegularLabs.EmailProtector.unCloak("ep_34
 b8a425");</script></li><li>Téléphone : 06 81 99 73 62</li><li><span class="
 gski-evenement-obs">Délégué Technique : MULLER JEAN CLAUDE</span></li></ul>
 <div class="gski-evenement-infos-2"><div class="gski-evenement-info-inscrip
 tions"><div class="gski-evenement-inscriptions-periodes">Période d'inscript
 ion à l'evènement du samedi 23 février 2019 à 00:00 au vendredi 01 mars 201
 9 à 12:00 <span class="gski-evenement-inscriptions-impossibles">(Inscriptio
 ns impossibles).</span><div class="gski-evenement-inscriptions-types-titres
 ">Inscriptions ouvertes aux detenteurs des titres Fédéraux valides suivants
  : Licenciés Compétiteurs</div></div></div><div class="gski-evenement-info-
 live">L'épreuve sera chronometrée avec les résultats publiés en direct (liv
 e)</div><div class="gski-evenement-epreuves"><div class="gski-evenement-epr
 euves-titres">Epreuves :</div><ul class="gski-evenement-epreuves-list"><li>
 <div class="gski-epreuve-date">Le samedi 02 mars 2019 à 10:30</div><ul clas
 s="gski-epreuve-liste-infos"><li>Codex épreuve AMVM0211</li><li>Slalom Gean
 t</li><li>Catégorie(s) : U12 (Garçons)</li></ul></li><li><div class="gski-e
 preuve-date">Le samedi 02 mars 2019 à 10:30</div><ul class="gski-epreuve-li
 ste-infos"><li>Codex épreuve AMVF0211</li><li>Slalom Geant</li><li>Catégori
 e(s) : U12 (Filles)</li></ul></li><li><div class="gski-epreuve-date">Le sam
 edi 02 mars 2019 à 10:30</div><ul class="gski-epreuve-liste-infos"><li>Code
 x épreuve AMVM0212</li><li>Slalom Geant</li><li>Catégorie(s) : U14 (Garçons
 )</li></ul></li><li><div class="gski-epreuve-date">Le samedi 02 mars 2019 à
  10:30</div><ul class="gski-epreuve-liste-infos"><li>Codex épreuve AMVF0212
 </li><li>Slalom Geant</li><li>Catégorie(s) : U14 (Filles)</li></ul></li></u
 l></div><div class="gskiepreuves-links"><ul><li><a href="https://skivosges.
 net/index.php?option=com_jevents&task=icalevent.detail&evid=1275&Itemid=628
 9">Voir les informations dans l'agenda...</a></li><li><a href="https://skiv
 osges.net/index.php?option=com_gskiepreuves&view=affichedeparts&format_opti
 on=tous&filter[search]=AMVT0210&filter[date_debut]=02-03-2019&filter[date_f
 in]=02-03-2019&Itemid=6289">Vers la liste de départs...</a></li><li>Publica
 tions concernant cet évènement :<ul><li><a href="https://skivosges.net/inde
 x.php?option=com_content&view=article&id=6741&Itemid=6289">Vendredi 1 Mars 
 2019 à 16:51 : Le 02/03/2019 MARKSTEIN Liste de départs</a></li><li><a href
 ="https://skivosges.net/index.php?option=com_content&view=article&id=6740&I
 temid=6289">Vendredi 1 Mars 2019 à 14:22 : Le 13/01/2019 MARKSTEIN Liste de
  départs</a></li></ul></li></ul></div></div"><!-- #/gskiepreuve fin du dode
  généré par le plugin jevents pour GskiEpreuves. . Ne pas modifier cette li
 gne, ni tout le contenu précedant.  #/gskiepreuve --> <a href="https://skiv
 osges.net/agenda/a-venir/detailevenement/1280/-/cja-coupe-bronze-u12-u14-pr
 ix-coupe-scoseg-reporte?tmpl=component">Cet évènement a été importé depuis 
 :https://skivosges.net/agenda/a-venir/detailevenement/1280/-/cja-coupe-bron
 ze-u12-u14-prix-coupe-scoseg-reporte?tmpl=component</a>DTSTAMP:20260423T174110
DTSTART;TZID=Europe/Paris;VALUE=DATE:20190302
DTEND;TZID=Europe/Paris;VALUE=DATE:20190303
SEQUENCE:0
TRANSP:OPAQUE
END:VEVENT
END:VCALENDAR