BEGIN:VCALENDAR
VERSION:2.0
PRODID:-//jEvents 2.0 for Joomla//EN
CALSCALE:GREGORIAN
METHOD:PUBLISH
BEGIN:VTIMEZONE
TZID:Europe/Paris
BEGIN:STANDARD
DTSTART:20180301T000000
RDATE:20180325T030000
TZOFFSETFROM:+0200
TZOFFSETTO:+0100
TZNAME:Europe/Paris CET
END:STANDARD
BEGIN:STANDARD
DTSTART:20181028T020000
RDATE:20190331T030000
TZOFFSETFROM:+0200
TZOFFSETTO:+0100
TZNAME:Europe/Paris CET
END:STANDARD
BEGIN:STANDARD
DTSTART:20191027T020000
RDATE:20200329T030000
TZOFFSETFROM:+0200
TZOFFSETTO:+0100
TZNAME:Europe/Paris CET
END:STANDARD
BEGIN:STANDARD
DTSTART:20201025T020000
RDATE:20210328T030000
TZOFFSETFROM:+0200
TZOFFSETTO:+0100
TZNAME:Europe/Paris CET
END:STANDARD
BEGIN:STANDARD
DTSTART:20211031T020000
RDATE:20220327T030000
TZOFFSETFROM:+0200
TZOFFSETTO:+0100
TZNAME:Europe/Paris CET
END:STANDARD
BEGIN:STANDARD
DTSTART:20221030T020000
RDATE:20230326T030000
TZOFFSETFROM:+0200
TZOFFSETTO:+0100
TZNAME:Europe/Paris CET
END:STANDARD
BEGIN:STANDARD
DTSTART:20231029T020000
RDATE:20240331T030000
TZOFFSETFROM:+0200
TZOFFSETTO:+0100
TZNAME:Europe/Paris CET
END:STANDARD
BEGIN:STANDARD
DTSTART:20241027T020000
RDATE:20250330T030000
TZOFFSETFROM:+0200
TZOFFSETTO:+0100
TZNAME:Europe/Paris CET
END:STANDARD
BEGIN:STANDARD
DTSTART:20251026T020000
RDATE:20260329T030000
TZOFFSETFROM:+0200
TZOFFSETTO:+0100
TZNAME:Europe/Paris CET
END:STANDARD
BEGIN:STANDARD
DTSTART:20261025T020000
RDATE:20270328T030000
TZOFFSETFROM:+0200
TZOFFSETTO:+0100
TZNAME:Europe/Paris CET
END:STANDARD
BEGIN:DAYLIGHT
DTSTART:20180325T030000
RDATE:20181028T020000
TZOFFSETFROM:+0100
TZOFFSETTO:+0200
TZNAME:Europe/Paris CEST
END:DAYLIGHT
BEGIN:DAYLIGHT
DTSTART:20190331T030000
RDATE:20191027T020000
TZOFFSETFROM:+0100
TZOFFSETTO:+0200
TZNAME:Europe/Paris CEST
END:DAYLIGHT
BEGIN:DAYLIGHT
DTSTART:20200329T030000
RDATE:20201025T020000
TZOFFSETFROM:+0100
TZOFFSETTO:+0200
TZNAME:Europe/Paris CEST
END:DAYLIGHT
BEGIN:DAYLIGHT
DTSTART:20210328T030000
RDATE:20211031T020000
TZOFFSETFROM:+0100
TZOFFSETTO:+0200
TZNAME:Europe/Paris CEST
END:DAYLIGHT
BEGIN:DAYLIGHT
DTSTART:20220327T030000
RDATE:20221030T020000
TZOFFSETFROM:+0100
TZOFFSETTO:+0200
TZNAME:Europe/Paris CEST
END:DAYLIGHT
BEGIN:DAYLIGHT
DTSTART:20230326T030000
RDATE:20231029T020000
TZOFFSETFROM:+0100
TZOFFSETTO:+0200
TZNAME:Europe/Paris CEST
END:DAYLIGHT
BEGIN:DAYLIGHT
DTSTART:20240331T030000
RDATE:20241027T020000
TZOFFSETFROM:+0100
TZOFFSETTO:+0200
TZNAME:Europe/Paris CEST
END:DAYLIGHT
BEGIN:DAYLIGHT
DTSTART:20250330T030000
RDATE:20251026T020000
TZOFFSETFROM:+0100
TZOFFSETTO:+0200
TZNAME:Europe/Paris CEST
END:DAYLIGHT
BEGIN:DAYLIGHT
DTSTART:20260329T030000
RDATE:20261025T020000
TZOFFSETFROM:+0100
TZOFFSETTO:+0200
TZNAME:Europe/Paris CEST
END:DAYLIGHT
END:VTIMEZONE
BEGIN:VEVENT
UID:35889ca34c0d1885f88ec0a469e5dd30
CATEGORIES:Circuit Lorraine Jeunes (alpin)
CREATED:20190223T093819
SUMMARY:CJL Coupe de Bronze U8 à U14 Prix G. Lemaire / Credit Agricole
URL;VALUE=URI:https://skivosges.net/agenda/a-venir/detailevenement/1281/-/cjl-coupe-de-br
 onze-u8-a-u14-prix-g-lemaire-credit-agricole?tmpl=component
DESCRIPTION:CJL Coupe de Bronze U8 à U14 Prix G. Lemaire / Credit Agricole (Report de l
 'épreuve initialement prévue le 06/01/2019)\n - Codex évenement AMVT0080\n 
 - Lieu : STATION LABELLEMONTAGNE\n - Station : LA BRESSE\n - Piste : Stade 
 de Slalom\n - Organisateur : 14024 LA BRESSAUDE SECTION SKI\n - Courriel : 
 RegularLabs.EmailProtector.unCloak("ep_66556531");\n - Téléphone : 06088552
 52\n - Délégué Technique : LEPAGE REMIPériode d'inscription à l'evènement d
 u samedi 23 février 2019 à 00:00 au vendredi 01 mars 2019 à 17:00 (Inscript
 ions impossibles).Inscriptions ouvertes aux detenteurs des titres Fédéraux 
 valides suivants : Licenciés CompétiteursEpreuves :\n - Le samedi 02 mars 2
 019 à 10:00\n - Codex épreuve AMVM0081\n - Slalom Geant\n - Catégorie(s) : 
 U8/U10 (Garçons)\n - Le samedi 02 mars 2019 à 10:00\n - Codex épreuve AMVF0
 081\n - Slalom Geant\n - Catégorie(s) : U8/U10 (Filles)\n - Le samedi 02 ma
 rs 2019 à 10:00\n - Codex épreuve AMVM0082\n - Slalom Geant\n - Catégorie(s
 ) : U12 (Garçons)\n - Le samedi 02 mars 2019 à 10:00\n - Codex épreuve AMVF
 0082\n - Slalom Geant\n - Catégorie(s) : U12 (Filles)\n - Le samedi 02 mars
  2019 à 10:00\n - Codex épreuve AMVM0083\n - Slalom Geant\n - Catégorie(s) 
 : U14 (Garçons)\n - Le samedi 02 mars 2019 à 10:00\n - Codex épreuve AMVF00
 83\n - Slalom Geant\n - Catégorie(s) : U14 (Filles)\n - Voir les informatio
 ns dans l'agenda... (/index.php?option=com_jevents&amp;task=icalevent.detai
 l&amp;evid=1276&amp;Itemid=6289)\n - Vers les résultats... (/index.php?opti
 on=com_gskiepreuves&amp;view=afficheresultats&amp;format_option=tous&amp;fi
 lter[search]=AMVT0080&amp;filter[date_debut]=02-03-2019&amp;filter[date_fin
 ]=02-03-2019&amp;code_activite=ALP&amp;Itemid=6289)\n - Publications concer
 nant cet évènement :\n - Samedi 2 Mars 2019 à 16:47 : Le 02/03/2019 LA BRES
 SE Résultats Cet évènement a été importé depuis :https://skivosges.net/agen
 da/a-venir/detailevenement/1281/-/cjl-coupe-de-bronze-u8-a-u14-prix-g-lemai
 re-credit-agricole?tmpl=component
X-ALT-DESC;FMTTYPE=text/html:<!-- #gskiepreuve code généré par le plugin jevents pour GskiEpreuves. Ne p
 as modifier cette ligne, ni tout le contenu suivant  #gskiepreuve --><div c
 lass="gski-evenement_infos"><div class="gski-evenement-nom">CJL Coupe de Br
 onze U8 à U14 Prix G. Lemaire / Credit Agricole</div><div class="gski-evene
 ment-report"> <font class="gskiattention">(Report de l'épreuve initialement
  prévue le 06/01/2019)</font></div><ul class="gski-evenement-liste-infos"><
 li>Codex évenement AMVT0080</li><li>Lieu : STATION LABELLEMONTAGNE</li><li>
 Station : LA BRESSE</li><li>Piste : Stade de Slalom</li><li>Organisateur : 
 14024 LA BRESSAUDE SECTION SKI</li><li>Courriel : <!-- Cette adresse électr
 onique est protégée contre les robots spammeurs. --><span class="cloaked_em
 ail ep_66556531"><span data-ep-a="o&#100;&#105;&#108;e" data-ep-b="&#102;&#
 114;"><span data-ep-a="&#46;&#109;&#117;ns" data-ep-b="&#97;n&#103;&#101;."
 ><span data-ep-a="&#99;&#104;.&#115;c" data-ep-b="&#108;&#98;&#64;or"></spa
 n></span></span></span><script>RegularLabs.EmailProtector.unCloak("ep_66556
 531");</script></li><li>Téléphone : 0608855252</li><li><span class="gski-ev
 enement-obs">Délégué Technique : LEPAGE REMI</span></li></ul><div class="gs
 ki-evenement-infos-2"><div class="gski-evenement-info-inscriptions"><div cl
 ass="gski-evenement-inscriptions-periodes">Période d'inscription à l'evènem
 ent du samedi 23 février 2019 à 00:00 au vendredi 01 mars 2019 à 17:00 <spa
 n class="gski-evenement-inscriptions-impossibles">(Inscriptions impossibles
 ).</span><div class="gski-evenement-inscriptions-types-titres">Inscriptions
  ouvertes aux detenteurs des titres Fédéraux valides suivants : Licenciés C
 ompétiteurs</div></div></div><div class="gski-evenement-epreuves"><div clas
 s="gski-evenement-epreuves-titres">Epreuves :</div><ul class="gski-evenemen
 t-epreuves-list"><li><div class="gski-epreuve-date">Le samedi 02 mars 2019 
 à 10:00</div><ul class="gski-epreuve-liste-infos"><li>Codex épreuve AMVM008
 1</li><li>Slalom Geant</li><li>Catégorie(s) : U8/U10 (Garçons)</li></ul></l
 i><li><div class="gski-epreuve-date">Le samedi 02 mars 2019 à 10:00</div><u
 l class="gski-epreuve-liste-infos"><li>Codex épreuve AMVF0081</li><li>Slalo
 m Geant</li><li>Catégorie(s) : U8/U10 (Filles)</li></ul></li><li><div class
 ="gski-epreuve-date">Le samedi 02 mars 2019 à 10:00</div><ul class="gski-ep
 reuve-liste-infos"><li>Codex épreuve AMVM0082</li><li>Slalom Geant</li><li>
 Catégorie(s) : U12 (Garçons)</li></ul></li><li><div class="gski-epreuve-dat
 e">Le samedi 02 mars 2019 à 10:00</div><ul class="gski-epreuve-liste-infos"
 ><li>Codex épreuve AMVF0082</li><li>Slalom Geant</li><li>Catégorie(s) : U12
  (Filles)</li></ul></li><li><div class="gski-epreuve-date">Le samedi 02 mar
 s 2019 à 10:00</div><ul class="gski-epreuve-liste-infos"><li>Codex épreuve 
 AMVM0083</li><li>Slalom Geant</li><li>Catégorie(s) : U14 (Garçons)</li></ul
 ></li><li><div class="gski-epreuve-date">Le samedi 02 mars 2019 à 10:00</di
 v><ul class="gski-epreuve-liste-infos"><li>Codex épreuve AMVF0083</li><li>S
 lalom Geant</li><li>Catégorie(s) : U14 (Filles)</li></ul></li></ul></div><d
 iv class="gskiepreuves-links"><ul><li><a href="https://skivosges.net/index.
 php?option=com_jevents&task=icalevent.detail&evid=1276&Itemid=6289">Voir le
 s informations dans l'agenda...</a></li><li><a href="https://skivosges.net/
 index.php?option=com_gskiepreuves&view=afficheresultats&format_option=tous&
 filter[search]=AMVT0080&filter[date_debut]=02-03-2019&filter[date_fin]=02-0
 3-2019&code_activite=ALP&Itemid=6289">Vers les résultats...</a></li><li>Pub
 lications concernant cet évènement :<ul><li><a href="https://skivosges.net/
 index.php?option=com_content&view=article&id=6761&Itemid=6289">Samedi 2 Mar
 s 2019 à 16:47 : Le 02/03/2019 LA BRESSE Résultats</a></li></ul></li></ul><
 /div></div"><!-- #/gskiepreuve fin du dode généré par le plugin jevents pou
 r GskiEpreuves. . Ne pas modifier cette ligne, ni tout le contenu précedant
 .  #/gskiepreuve --> <a href="https://skivosges.net/agenda/a-venir/detailev
 enement/1281/-/cjl-coupe-de-bronze-u8-a-u14-prix-g-lemaire-credit-agricole?
 tmpl=component">Cet évènement a été importé depuis :https://skivosges.net/a
 genda/a-venir/detailevenement/1281/-/cjl-coupe-de-bronze-u8-a-u14-prix-g-le
 maire-credit-agricole?tmpl=component</a>DTSTAMP:20260423T174038
DTSTART;TZID=Europe/Paris;VALUE=DATE:20190302
DTEND;TZID=Europe/Paris;VALUE=DATE:20190303
SEQUENCE:0
TRANSP:OPAQUE
END:VEVENT
END:VCALENDAR