BEGIN:VCALENDAR
VERSION:2.0
PRODID:-//jEvents 2.0 for Joomla//EN
CALSCALE:GREGORIAN
METHOD:PUBLISH
BEGIN:VTIMEZONE
TZID:Europe/Paris
BEGIN:STANDARD
DTSTART:20180226T000000
RDATE:20180325T030000
TZOFFSETFROM:+0200
TZOFFSETTO:+0100
TZNAME:Europe/Paris CET
END:STANDARD
BEGIN:STANDARD
DTSTART:20181028T020000
RDATE:20190331T030000
TZOFFSETFROM:+0200
TZOFFSETTO:+0100
TZNAME:Europe/Paris CET
END:STANDARD
BEGIN:STANDARD
DTSTART:20191027T020000
RDATE:20200329T030000
TZOFFSETFROM:+0200
TZOFFSETTO:+0100
TZNAME:Europe/Paris CET
END:STANDARD
BEGIN:STANDARD
DTSTART:20201025T020000
RDATE:20210328T030000
TZOFFSETFROM:+0200
TZOFFSETTO:+0100
TZNAME:Europe/Paris CET
END:STANDARD
BEGIN:STANDARD
DTSTART:20211031T020000
RDATE:20220327T030000
TZOFFSETFROM:+0200
TZOFFSETTO:+0100
TZNAME:Europe/Paris CET
END:STANDARD
BEGIN:STANDARD
DTSTART:20221030T020000
RDATE:20230326T030000
TZOFFSETFROM:+0200
TZOFFSETTO:+0100
TZNAME:Europe/Paris CET
END:STANDARD
BEGIN:STANDARD
DTSTART:20231029T020000
RDATE:20240331T030000
TZOFFSETFROM:+0200
TZOFFSETTO:+0100
TZNAME:Europe/Paris CET
END:STANDARD
BEGIN:STANDARD
DTSTART:20241027T020000
RDATE:20250330T030000
TZOFFSETFROM:+0200
TZOFFSETTO:+0100
TZNAME:Europe/Paris CET
END:STANDARD
BEGIN:STANDARD
DTSTART:20251026T020000
RDATE:20260329T030000
TZOFFSETFROM:+0200
TZOFFSETTO:+0100
TZNAME:Europe/Paris CET
END:STANDARD
BEGIN:STANDARD
DTSTART:20261025T020000
RDATE:20270328T030000
TZOFFSETFROM:+0200
TZOFFSETTO:+0100
TZNAME:Europe/Paris CET
END:STANDARD
BEGIN:DAYLIGHT
DTSTART:20180325T030000
RDATE:20181028T020000
TZOFFSETFROM:+0100
TZOFFSETTO:+0200
TZNAME:Europe/Paris CEST
END:DAYLIGHT
BEGIN:DAYLIGHT
DTSTART:20190331T030000
RDATE:20191027T020000
TZOFFSETFROM:+0100
TZOFFSETTO:+0200
TZNAME:Europe/Paris CEST
END:DAYLIGHT
BEGIN:DAYLIGHT
DTSTART:20200329T030000
RDATE:20201025T020000
TZOFFSETFROM:+0100
TZOFFSETTO:+0200
TZNAME:Europe/Paris CEST
END:DAYLIGHT
BEGIN:DAYLIGHT
DTSTART:20210328T030000
RDATE:20211031T020000
TZOFFSETFROM:+0100
TZOFFSETTO:+0200
TZNAME:Europe/Paris CEST
END:DAYLIGHT
BEGIN:DAYLIGHT
DTSTART:20220327T030000
RDATE:20221030T020000
TZOFFSETFROM:+0100
TZOFFSETTO:+0200
TZNAME:Europe/Paris CEST
END:DAYLIGHT
BEGIN:DAYLIGHT
DTSTART:20230326T030000
RDATE:20231029T020000
TZOFFSETFROM:+0100
TZOFFSETTO:+0200
TZNAME:Europe/Paris CEST
END:DAYLIGHT
BEGIN:DAYLIGHT
DTSTART:20240331T030000
RDATE:20241027T020000
TZOFFSETFROM:+0100
TZOFFSETTO:+0200
TZNAME:Europe/Paris CEST
END:DAYLIGHT
BEGIN:DAYLIGHT
DTSTART:20250330T030000
RDATE:20251026T020000
TZOFFSETFROM:+0100
TZOFFSETTO:+0200
TZNAME:Europe/Paris CEST
END:DAYLIGHT
BEGIN:DAYLIGHT
DTSTART:20260329T030000
RDATE:20261025T020000
TZOFFSETFROM:+0100
TZOFFSETTO:+0200
TZNAME:Europe/Paris CEST
END:DAYLIGHT
END:VTIMEZONE
BEGIN:VEVENT
UID:d1aafb72868e7ed3d874c03c2b136217
CATEGORIES:Compétition Ski de Fond
CREATED:20190224T101908
SUMMARY:Mercredi de la glisse nordique des jeunes
URL;VALUE=URI:https://skivosges.net/agenda/a-venir/detailevenement/1285/-/mercredi-de-la-
 glisse-nordique-des-jeunes?tmpl=component
DESCRIPTION:Mercredi de la glisse nordique des jeunes\n - Codex évenement FMVT0310\n - 
 Station : CHAMP DU FEU\n - Organisateur : 14448 MOLSHEIM SKI NORDIQUE\n - C
 ourriel : RegularLabs.EmailProtector.unCloak("ep_2a2e0670");Période d'inscr
 iption à l'evènement du mercredi 20 février 2019 à 00:00 au mardi 26 févrie
 r 2019 à 19:00 (Inscriptions impossibles).Inscriptions ouvertes aux detente
 urs des titres Fédéraux valides suivants : Licenciés Compétiteurs et Titres
  Loisirs et DirigeantsEpreuves :\n - Le mercredi 27 février 2019\n - Codex 
 épreuve FMVF0311\n - Mass Start (Depart ligne)\n - Catégorie(s) : U9 (Fille
 s)\n - Le mercredi 27 février 2019\n - Codex épreuve FMVM0311\n - Mass Star
 t (Depart ligne)\n - Catégorie(s) : U9 (Garçons)\n - Le mercredi 27 février
  2019\n - Codex épreuve FMVF0312\n - Depart Individuel\n - Catégorie(s) : U
 11 (Filles)\n - Le mercredi 27 février 2019\n - Codex épreuve FMVM0312\n - 
 Depart Individuel\n - Catégorie(s) : U11 (Garçons)\n - Le mercredi 27 févri
 er 2019\n - Codex épreuve FMVF0313\n - Depart Individuel\n - Catégorie(s) :
  U13 (Filles)\n - Le mercredi 27 février 2019\n - Codex épreuve FMVM0313\n 
 - Depart Individuel\n - Catégorie(s) : U13 (Garçons)\n - Le mercredi 27 fév
 rier 2019\n - Codex épreuve FMVF0314\n - Depart Individuel\n - Catégorie(s)
  : U15 (Filles)\n - Le mercredi 27 février 2019\n - Codex épreuve FMVM0314\
 n - Depart Individuel\n - Catégorie(s) : U15 (Garçons)\n - Voir les informa
 tions dans l'agenda... (/index.php?option=com_jevents&amp;task=icalevent.de
 tail&amp;evid=1280&amp;Itemid=6289)\n - Vers les résultats... (/index.php?o
 ption=com_gskiepreuves&amp;view=afficheresultats&amp;format_option=tous&amp
 ;filter[search]=FMVT0310&amp;filter[date_debut]=27-02-2019&amp;filter[date_
 fin]=27-02-2019&amp;code_activite=FOND&amp;Itemid=6289) Cet évènement a été
  importé depuis :https://skivosges.net/agenda/a-venir/detailevenement/1285/
 -/mercredi-de-la-glisse-nordique-des-jeunes?tmpl=component
X-ALT-DESC;FMTTYPE=text/html:<!-- #gskiepreuve code généré par le plugin jevents pour GskiEpreuves. Ne p
 as modifier cette ligne, ni tout le contenu suivant  #gskiepreuve --><div c
 lass="gski-evenement_infos"><div class="gski-evenement-nom">Mercredi de la 
 glisse nordique des jeunes</div><div class="gski-evenement-report"></div><u
 l class="gski-evenement-liste-infos"><li>Codex évenement FMVT0310</li><li>S
 tation : CHAMP DU FEU</li><li>Organisateur : 14448 MOLSHEIM SKI NORDIQUE</l
 i><li>Courriel : <!-- Cette adresse électronique est protégée contre les ro
 bots spammeurs. --><span class="cloaked_email ep_2a2e0670"><span data-ep-b=
 ".&#102;r" data-ep-a="&#112;&#105;&#101;&#114;re"><span data-ep-b="i&#99;&#
 97;&#98;l&#101;" data-ep-a="&#45;&#99;&#104;ar&#98;"><span data-ep-b="&#64;
 n&#117;m&#101;&#114;" data-ep-a="&#111;&#110;&#110;i&#101;&#114;"></span></
 span></span></span><script>RegularLabs.EmailProtector.unCloak("ep_2a2e0670"
 );</script></li></ul><div class="gski-evenement-infos-2"><div class="gski-e
 venement-info-inscriptions"><div class="gski-evenement-inscriptions-periode
 s">Période d'inscription à l'evènement du mercredi 20 février 2019 à 00:00 
 au mardi 26 février 2019 à 19:00 <span class="gski-evenement-inscriptions-i
 mpossibles">(Inscriptions impossibles).</span><div class="gski-evenement-in
 scriptions-types-titres">Inscriptions ouvertes aux detenteurs des titres Fé
 déraux valides suivants : Licenciés Compétiteurs et Titres Loisirs et Dirig
 eants</div></div></div><div class="gski-evenement-epreuves"><div class="gsk
 i-evenement-epreuves-titres">Epreuves :</div><ul class="gski-evenement-epre
 uves-list"><li><div class="gski-epreuve-date">Le mercredi 27 février 2019</
 div><ul class="gski-epreuve-liste-infos"><li>Codex épreuve FMVF0311</li><li
 >Mass Start (Depart ligne)</li><li>Catégorie(s) : U9 (Filles)</li></ul></li
 ><li><div class="gski-epreuve-date">Le mercredi 27 février 2019</div><ul cl
 ass="gski-epreuve-liste-infos"><li>Codex épreuve FMVM0311</li><li>Mass Star
 t (Depart ligne)</li><li>Catégorie(s) : U9 (Garçons)</li></ul></li><li><div
  class="gski-epreuve-date">Le mercredi 27 février 2019</div><ul class="gski
 -epreuve-liste-infos"><li>Codex épreuve FMVF0312</li><li>Depart Individuel<
 /li><li>Catégorie(s) : U11 (Filles)</li></ul></li><li><div class="gski-epre
 uve-date">Le mercredi 27 février 2019</div><ul class="gski-epreuve-liste-in
 fos"><li>Codex épreuve FMVM0312</li><li>Depart Individuel</li><li>Catégorie
 (s) : U11 (Garçons)</li></ul></li><li><div class="gski-epreuve-date">Le mer
 credi 27 février 2019</div><ul class="gski-epreuve-liste-infos"><li>Codex é
 preuve FMVF0313</li><li>Depart Individuel</li><li>Catégorie(s) : U13 (Fille
 s)</li></ul></li><li><div class="gski-epreuve-date">Le mercredi 27 février 
 2019</div><ul class="gski-epreuve-liste-infos"><li>Codex épreuve FMVM0313</
 li><li>Depart Individuel</li><li>Catégorie(s) : U13 (Garçons)</li></ul></li
 ><li><div class="gski-epreuve-date">Le mercredi 27 février 2019</div><ul cl
 ass="gski-epreuve-liste-infos"><li>Codex épreuve FMVF0314</li><li>Depart In
 dividuel</li><li>Catégorie(s) : U15 (Filles)</li></ul></li><li><div class="
 gski-epreuve-date">Le mercredi 27 février 2019</div><ul class="gski-epreuve
 -liste-infos"><li>Codex épreuve FMVM0314</li><li>Depart Individuel</li><li>
 Catégorie(s) : U15 (Garçons)</li></ul></li></ul></div><div class="gskiepreu
 ves-links"><ul><li><a href="https://skivosges.net/index.php?option=com_jeve
 nts&task=icalevent.detail&evid=1280&Itemid=6289">Voir les informations dans
  l'agenda...</a></li><li><a href="https://skivosges.net/index.php?option=co
 m_gskiepreuves&view=afficheresultats&format_option=tous&filter[search]=FMVT
 0310&filter[date_debut]=27-02-2019&filter[date_fin]=27-02-2019&code_activit
 e=FOND&Itemid=6289">Vers les résultats...</a></li></ul></div></div"><!-- #/
 gskiepreuve fin du dode généré par le plugin jevents pour GskiEpreuves. . N
 e pas modifier cette ligne, ni tout le contenu précedant.  #/gskiepreuve --
 > <a href="https://skivosges.net/agenda/a-venir/detailevenement/1285/-/merc
 redi-de-la-glisse-nordique-des-jeunes?tmpl=component">Cet évènement a été i
 mporté depuis :https://skivosges.net/agenda/a-venir/detailevenement/1285/-/
 mercredi-de-la-glisse-nordique-des-jeunes?tmpl=component</a>DTSTAMP:20260423T174117
DTSTART;TZID=Europe/Paris;VALUE=DATE:20190227
DTEND;TZID=Europe/Paris;VALUE=DATE:20190228
SEQUENCE:0
TRANSP:OPAQUE
END:VEVENT
END:VCALENDAR