BEGIN:VCALENDAR
VERSION:2.0
PRODID:-//jEvents 2.0 for Joomla//EN
CALSCALE:GREGORIAN
METHOD:PUBLISH
BEGIN:VTIMEZONE
TZID:Europe/Paris
BEGIN:STANDARD
DTSTART:20181028T020000
RDATE:20190331T030000
TZOFFSETFROM:+0200
TZOFFSETTO:+0100
TZNAME:Europe/Paris CET
END:STANDARD
BEGIN:STANDARD
DTSTART:20191027T020000
RDATE:20200329T030000
TZOFFSETFROM:+0200
TZOFFSETTO:+0100
TZNAME:Europe/Paris CET
END:STANDARD
BEGIN:STANDARD
DTSTART:20201025T020000
RDATE:20210328T030000
TZOFFSETFROM:+0200
TZOFFSETTO:+0100
TZNAME:Europe/Paris CET
END:STANDARD
BEGIN:STANDARD
DTSTART:20211031T020000
RDATE:20220327T030000
TZOFFSETFROM:+0200
TZOFFSETTO:+0100
TZNAME:Europe/Paris CET
END:STANDARD
BEGIN:STANDARD
DTSTART:20221030T020000
RDATE:20230326T030000
TZOFFSETFROM:+0200
TZOFFSETTO:+0100
TZNAME:Europe/Paris CET
END:STANDARD
BEGIN:STANDARD
DTSTART:20231029T020000
RDATE:20240331T030000
TZOFFSETFROM:+0200
TZOFFSETTO:+0100
TZNAME:Europe/Paris CET
END:STANDARD
BEGIN:STANDARD
DTSTART:20241027T020000
RDATE:20250330T030000
TZOFFSETFROM:+0200
TZOFFSETTO:+0100
TZNAME:Europe/Paris CET
END:STANDARD
BEGIN:STANDARD
DTSTART:20251026T020000
RDATE:20260329T030000
TZOFFSETFROM:+0200
TZOFFSETTO:+0100
TZNAME:Europe/Paris CET
END:STANDARD
BEGIN:STANDARD
DTSTART:20261025T020000
RDATE:20270328T030000
TZOFFSETFROM:+0200
TZOFFSETTO:+0100
TZNAME:Europe/Paris CET
END:STANDARD
BEGIN:DAYLIGHT
DTSTART:20180326T010000
RDATE:20181028T020000
TZOFFSETFROM:+0100
TZOFFSETTO:+0200
TZNAME:Europe/Paris CEST
END:DAYLIGHT
BEGIN:DAYLIGHT
DTSTART:20190331T030000
RDATE:20191027T020000
TZOFFSETFROM:+0100
TZOFFSETTO:+0200
TZNAME:Europe/Paris CEST
END:DAYLIGHT
BEGIN:DAYLIGHT
DTSTART:20200329T030000
RDATE:20201025T020000
TZOFFSETFROM:+0100
TZOFFSETTO:+0200
TZNAME:Europe/Paris CEST
END:DAYLIGHT
BEGIN:DAYLIGHT
DTSTART:20210328T030000
RDATE:20211031T020000
TZOFFSETFROM:+0100
TZOFFSETTO:+0200
TZNAME:Europe/Paris CEST
END:DAYLIGHT
BEGIN:DAYLIGHT
DTSTART:20220327T030000
RDATE:20221030T020000
TZOFFSETFROM:+0100
TZOFFSETTO:+0200
TZNAME:Europe/Paris CEST
END:DAYLIGHT
BEGIN:DAYLIGHT
DTSTART:20230326T030000
RDATE:20231029T020000
TZOFFSETFROM:+0100
TZOFFSETTO:+0200
TZNAME:Europe/Paris CEST
END:DAYLIGHT
BEGIN:DAYLIGHT
DTSTART:20240331T030000
RDATE:20241027T020000
TZOFFSETFROM:+0100
TZOFFSETTO:+0200
TZNAME:Europe/Paris CEST
END:DAYLIGHT
BEGIN:DAYLIGHT
DTSTART:20250330T030000
RDATE:20251026T020000
TZOFFSETFROM:+0100
TZOFFSETTO:+0200
TZNAME:Europe/Paris CEST
END:DAYLIGHT
BEGIN:DAYLIGHT
DTSTART:20260329T030000
RDATE:20261025T020000
TZOFFSETFROM:+0100
TZOFFSETTO:+0200
TZNAME:Europe/Paris CEST
END:DAYLIGHT
END:VTIMEZONE
BEGIN:VEVENT
UID:b8692154939d7a11cb751a49870473ce
CATEGORIES:Compétition Ski Alpin
CREATED:20190224T101909
SUMMARY:Promo finale des clubs lorrains
URL;VALUE=URI:https://skivosges.net/agenda/a-venir/detailevenement/1287/-/promo-finale-de
 s-clubs-lorrains?tmpl=component
DESCRIPTION:<!-- #gskiepreuve code généré par le plugin jevents pour GskiEpreuves. Ne p
 as modifier cette ligne, ni tout le contenu suivant  #gskiepreuve --><div c
 lass="gski-evenement_infos"><div class="gski-evenement-nom">Promo finale de
 s clubs lorrains</div><div class="gski-evenement-report"></div><ul class="g
 ski-evenement-liste-infos"><li>Codex évenement AMVT0890</li><li>Station : L
 A BRESSE</li><li>Piste : PARTIE HAUTE PISTE VOLOGNE</li><li>Organisateur : 
 14024 LA BRESSAUDE SECTION SKI</li><li>Courriel : <!-- Cette adresse électr
 onique est protégée contre les robots spammeurs. --><span class="cloaked_em
 ail ep_8ee10471"><span data-ep-b="&#102;&#114;" data-ep-a="odil&#101;"><spa
 n data-ep-b="&#97;&#110;g&#101;&#46;" data-ep-a="&#46;mu&#110;&#115;"><span
  data-ep-a="&#99;&#104;&#46;sc" data-ep-b="&#108;&#98;&#64;or"></span></spa
 n></span></span><script>RegularLabs.EmailProtector.unCloak("ep_8ee10471");<
 /script></li><li>Téléphone : 0608855252</li></ul><div class="gski-evenement
 -infos-2"><div class="gski-evenement-info-inscriptions"><div class="gski-ev
 enement-inscriptions-periodes">Période d'inscription à l'evènement du mercr
 edi 20 mars 2019 à 00:00 au mardi 26 mars 2019 à 17:00 <span class="gski-ev
 enement-inscriptions-impossibles">(Inscriptions impossibles).</span><div cl
 ass="gski-evenement-inscriptions-types-titres">Inscriptions ouvertes aux de
 tenteurs des titres Fédéraux valides suivants : Licenciés Compétiteurs, Tit
 res Loisirs et Dirigeants et Tickets course</div></div></div><div class="gs
 ki-evenement-epreuves"><div class="gski-evenement-epreuves-titres">Epreuves
  :</div><ul class="gski-evenement-epreuves-list"><li><div class="gski-epreu
 ve-date">Le mercredi 27 mars 2019 à 14:30</div><ul class="gski-epreuve-list
 e-infos"><li>Codex épreuve AMVM0891</li><li>Combine Race</li><li>Catégorie(
 s) : U8/U10 (Garçons)</li></ul></li><li><div class="gski-epreuve-date">Le m
 ercredi 27 mars 2019 à 14:30</div><ul class="gski-epreuve-liste-infos"><li>
 Codex épreuve AMVF0891</li><li>Combine Race</li><li>Catégorie(s) : U8/U10 (
 Filles)</li></ul></li><li><div class="gski-epreuve-date">Le mercredi 27 mar
 s 2019 à 14:30</div><ul class="gski-epreuve-liste-infos"><li>Codex épreuve 
 AMVM0892</li><li>Combine Race</li><li>Catégorie(s) : U12/U14 (Garçons)</li>
 </ul></li><li><div class="gski-epreuve-date">Le mercredi 27 mars 2019 à 14:
 30</div><ul class="gski-epreuve-liste-infos"><li>Codex épreuve AMVF0892</li
 ><li>Combine Race</li><li>Catégorie(s) : U12/U14 (Filles)</li></ul></li></u
 l></div><div class="gskiepreuves-links"><ul><li><a href="/index.php?option=
 com_jevents&task=icalevent.detail&evid=1282&Itemid=6289">Voir les informati
 ons dans l'agenda...</a></li><li><a href="/index.php?option=com_gskiepreuve
 s&view=afficheresultats&format_option=tous&filter[search]=AMVT0890&filter[d
 ate_debut]=27-03-2019&filter[date_fin]=27-03-2019&code_activite=ALP&Itemid=
 6289">Vers les résultats...</a></li><li>Publications concernant cet évèneme
 nt :<ul><li><a href="/index.php?option=com_content&view=article&id=6880&Ite
 mid=6289">Mercredi 27 Mars 2019 à 19:50 : Le 27/03/2019 LA BRESSE Résultats
 </a></li></ul></li></ul></div></div"><!-- #/gskiepreuve fin du dode généré 
 par le plugin jevents pour GskiEpreuves. . Ne pas modifier cette ligne, ni 
 tout le contenu précedant.  #/gskiepreuve --> <a href="https://skivosges.ne
 t/agenda/a-venir/detailevenement/1287/-/promo-finale-des-clubs-lorrains?tmp
 l=component">Cet évènement a été importé depuis :https://skivosges.net/agen
 da/a-venir/detailevenement/1287/-/promo-finale-des-clubs-lorrains?tmpl=comp
 onent</a>
X-ALT-DESC;FMTTYPE=text/html:<!-- #gskiepreuve code généré par le plugin jevents pour GskiEpreuves. Ne p
 as modifier cette ligne, ni tout le contenu suivant  #gskiepreuve --><div c
 lass="gski-evenement_infos"><div class="gski-evenement-nom">Promo finale de
 s clubs lorrains</div><div class="gski-evenement-report"></div><ul class="g
 ski-evenement-liste-infos"><li>Codex évenement AMVT0890</li><li>Station : L
 A BRESSE</li><li>Piste : PARTIE HAUTE PISTE VOLOGNE</li><li>Organisateur : 
 14024 LA BRESSAUDE SECTION SKI</li><li>Courriel : <!-- Cette adresse électr
 onique est protégée contre les robots spammeurs. --><span class="cloaked_em
 ail ep_8ee10471"><span data-ep-b="&#102;&#114;" data-ep-a="odil&#101;"><spa
 n data-ep-b="&#97;&#110;g&#101;&#46;" data-ep-a="&#46;mu&#110;&#115;"><span
  data-ep-a="&#99;&#104;&#46;sc" data-ep-b="&#108;&#98;&#64;or"></span></spa
 n></span></span><script>RegularLabs.EmailProtector.unCloak("ep_8ee10471");<
 /script></li><li>Téléphone : 0608855252</li></ul><div class="gski-evenement
 -infos-2"><div class="gski-evenement-info-inscriptions"><div class="gski-ev
 enement-inscriptions-periodes">Période d'inscription à l'evènement du mercr
 edi 20 mars 2019 à 00:00 au mardi 26 mars 2019 à 17:00 <span class="gski-ev
 enement-inscriptions-impossibles">(Inscriptions impossibles).</span><div cl
 ass="gski-evenement-inscriptions-types-titres">Inscriptions ouvertes aux de
 tenteurs des titres Fédéraux valides suivants : Licenciés Compétiteurs, Tit
 res Loisirs et Dirigeants et Tickets course</div></div></div><div class="gs
 ki-evenement-epreuves"><div class="gski-evenement-epreuves-titres">Epreuves
  :</div><ul class="gski-evenement-epreuves-list"><li><div class="gski-epreu
 ve-date">Le mercredi 27 mars 2019 à 14:30</div><ul class="gski-epreuve-list
 e-infos"><li>Codex épreuve AMVM0891</li><li>Combine Race</li><li>Catégorie(
 s) : U8/U10 (Garçons)</li></ul></li><li><div class="gski-epreuve-date">Le m
 ercredi 27 mars 2019 à 14:30</div><ul class="gski-epreuve-liste-infos"><li>
 Codex épreuve AMVF0891</li><li>Combine Race</li><li>Catégorie(s) : U8/U10 (
 Filles)</li></ul></li><li><div class="gski-epreuve-date">Le mercredi 27 mar
 s 2019 à 14:30</div><ul class="gski-epreuve-liste-infos"><li>Codex épreuve 
 AMVM0892</li><li>Combine Race</li><li>Catégorie(s) : U12/U14 (Garçons)</li>
 </ul></li><li><div class="gski-epreuve-date">Le mercredi 27 mars 2019 à 14:
 30</div><ul class="gski-epreuve-liste-infos"><li>Codex épreuve AMVF0892</li
 ><li>Combine Race</li><li>Catégorie(s) : U12/U14 (Filles)</li></ul></li></u
 l></div><div class="gskiepreuves-links"><ul><li><a href="https://skivosges.
 net/index.php?option=com_jevents&task=icalevent.detail&evid=1282&Itemid=628
 9">Voir les informations dans l'agenda...</a></li><li><a href="https://skiv
 osges.net/index.php?option=com_gskiepreuves&view=afficheresultats&format_op
 tion=tous&filter[search]=AMVT0890&filter[date_debut]=27-03-2019&filter[date
 _fin]=27-03-2019&code_activite=ALP&Itemid=6289">Vers les résultats...</a></
 li><li>Publications concernant cet évènement :<ul><li><a href="https://skiv
 osges.net/index.php?option=com_content&view=article&id=6880&Itemid=6289">Me
 rcredi 27 Mars 2019 à 19:50 : Le 27/03/2019 LA BRESSE Résultats</a></li></u
 l></li></ul></div></div"><!-- #/gskiepreuve fin du dode généré par le plugi
 n jevents pour GskiEpreuves. . Ne pas modifier cette ligne, ni tout le cont
 enu précedant.  #/gskiepreuve --> <a href="https://skivosges.net/agenda/a-v
 enir/detailevenement/1287/-/promo-finale-des-clubs-lorrains?tmpl=component"
 >Cet évènement a été importé depuis :https://skivosges.net/agenda/a-venir/d
 etailevenement/1287/-/promo-finale-des-clubs-lorrains?tmpl=component</a>DTSTAMP:20260424T012654
DTSTART;TZID=Europe/Paris;VALUE=DATE:20190327
DTEND;TZID=Europe/Paris;VALUE=DATE:20190328
SEQUENCE:0
TRANSP:OPAQUE
END:VEVENT
END:VCALENDAR