BEGIN:VCALENDAR
VERSION:2.0
PRODID:-//jEvents 2.0 for Joomla//EN
CALSCALE:GREGORIAN
METHOD:PUBLISH
BEGIN:VTIMEZONE
TZID:Europe/Paris
BEGIN:STANDARD
DTSTART:20180322T000000
RDATE:20180325T030000
TZOFFSETFROM:+0200
TZOFFSETTO:+0100
TZNAME:Europe/Paris CET
END:STANDARD
BEGIN:STANDARD
DTSTART:20181028T020000
RDATE:20190331T030000
TZOFFSETFROM:+0200
TZOFFSETTO:+0100
TZNAME:Europe/Paris CET
END:STANDARD
BEGIN:STANDARD
DTSTART:20191027T020000
RDATE:20200329T030000
TZOFFSETFROM:+0200
TZOFFSETTO:+0100
TZNAME:Europe/Paris CET
END:STANDARD
BEGIN:STANDARD
DTSTART:20201025T020000
RDATE:20210328T030000
TZOFFSETFROM:+0200
TZOFFSETTO:+0100
TZNAME:Europe/Paris CET
END:STANDARD
BEGIN:STANDARD
DTSTART:20211031T020000
RDATE:20220327T030000
TZOFFSETFROM:+0200
TZOFFSETTO:+0100
TZNAME:Europe/Paris CET
END:STANDARD
BEGIN:STANDARD
DTSTART:20221030T020000
RDATE:20230326T030000
TZOFFSETFROM:+0200
TZOFFSETTO:+0100
TZNAME:Europe/Paris CET
END:STANDARD
BEGIN:STANDARD
DTSTART:20231029T020000
RDATE:20240331T030000
TZOFFSETFROM:+0200
TZOFFSETTO:+0100
TZNAME:Europe/Paris CET
END:STANDARD
BEGIN:STANDARD
DTSTART:20241027T020000
RDATE:20250330T030000
TZOFFSETFROM:+0200
TZOFFSETTO:+0100
TZNAME:Europe/Paris CET
END:STANDARD
BEGIN:STANDARD
DTSTART:20251026T020000
RDATE:20260329T030000
TZOFFSETFROM:+0200
TZOFFSETTO:+0100
TZNAME:Europe/Paris CET
END:STANDARD
BEGIN:STANDARD
DTSTART:20261025T020000
RDATE:20270328T030000
TZOFFSETFROM:+0200
TZOFFSETTO:+0100
TZNAME:Europe/Paris CET
END:STANDARD
BEGIN:DAYLIGHT
DTSTART:20180325T030000
RDATE:20181028T020000
TZOFFSETFROM:+0100
TZOFFSETTO:+0200
TZNAME:Europe/Paris CEST
END:DAYLIGHT
BEGIN:DAYLIGHT
DTSTART:20190331T030000
RDATE:20191027T020000
TZOFFSETFROM:+0100
TZOFFSETTO:+0200
TZNAME:Europe/Paris CEST
END:DAYLIGHT
BEGIN:DAYLIGHT
DTSTART:20200329T030000
RDATE:20201025T020000
TZOFFSETFROM:+0100
TZOFFSETTO:+0200
TZNAME:Europe/Paris CEST
END:DAYLIGHT
BEGIN:DAYLIGHT
DTSTART:20210328T030000
RDATE:20211031T020000
TZOFFSETFROM:+0100
TZOFFSETTO:+0200
TZNAME:Europe/Paris CEST
END:DAYLIGHT
BEGIN:DAYLIGHT
DTSTART:20220327T030000
RDATE:20221030T020000
TZOFFSETFROM:+0100
TZOFFSETTO:+0200
TZNAME:Europe/Paris CEST
END:DAYLIGHT
BEGIN:DAYLIGHT
DTSTART:20230326T030000
RDATE:20231029T020000
TZOFFSETFROM:+0100
TZOFFSETTO:+0200
TZNAME:Europe/Paris CEST
END:DAYLIGHT
BEGIN:DAYLIGHT
DTSTART:20240331T030000
RDATE:20241027T020000
TZOFFSETFROM:+0100
TZOFFSETTO:+0200
TZNAME:Europe/Paris CEST
END:DAYLIGHT
BEGIN:DAYLIGHT
DTSTART:20250330T030000
RDATE:20251026T020000
TZOFFSETFROM:+0100
TZOFFSETTO:+0200
TZNAME:Europe/Paris CEST
END:DAYLIGHT
BEGIN:DAYLIGHT
DTSTART:20260329T030000
RDATE:20261025T020000
TZOFFSETFROM:+0100
TZOFFSETTO:+0200
TZNAME:Europe/Paris CEST
END:DAYLIGHT
END:VTIMEZONE
BEGIN:VEVENT
UID:cf475a617f6501202edf7e0c15a4aa7c
CATEGORIES:Circuit Alsace Jeunes (alpin)
CREATED:20190317T231653
SUMMARY:CJA Coupe de Bronze Prix de la ville de St Amarin
URL;VALUE=URI:https://skivosges.net/agenda/a-venir/detailevenement/1291/-/cja-coupe-de-br
 onze-prix-de-la-ville-de-st-amarin?tmpl=component
DESCRIPTION:CJA Coupe de Bronze Prix de la ville de St Amarin (Report de l'épreuve init
 ialement prévue le 10/03/2019)\n - Codex évenement AMVT0620\n - Station : M
 ARKSTEIN\n - Organisateur : 14058 SKI CLUB EDELWEISS SAINT AMARIN\n - Courr
 iel : RegularLabs.EmailProtector.unCloak("ep_c2cb83e6");\n - Délégué Techni
 que : MULLER JEAN CLAUDEPériode d'inscription à l'evènement du samedi 16 ma
 rs 2019 à 00:00 au jeudi 21 mars 2019 à 23:00 (Inscriptions impossibles).In
 scriptions ouvertes aux detenteurs des titres Fédéraux valides suivants : L
 icenciés CompétiteursEpreuves :\n - Le samedi 23 mars 2019\n - Codex épreuv
 e AMVM0621\n - Slalom\n - Catégorie(s) : U8/U10 (Garçons)\n - Le samedi 23 
 mars 2019\n - Codex épreuve AMVF0621\n - Slalom\n - Catégorie(s) : U8/U10 (
 Filles)\n - Le samedi 23 mars 2019\n - Codex épreuve AMVM0622\n - Slalom\n 
 - Catégorie(s) : U12/U14 (Garçons)\n - Le samedi 23 mars 2019\n - Codex épr
 euve AMVF0622\n - Slalom\n - Catégorie(s) : U12/U14 (Filles)\n - Voir les i
 nformations dans l'agenda... (/index.php?option=com_jevents&amp;task=icalev
 ent.detail&amp;evid=1286&amp;Itemid=6289)\n - Vers les résultats... (/index
 .php?option=com_gskiepreuves&amp;view=afficheresultats&amp;format_option=to
 us&amp;filter[search]=AMVT0620&amp;filter[date_debut]=23-03-2019&amp;filter
 [date_fin]=23-03-2019&amp;code_activite=ALP&amp;Itemid=6289) Cet évènement 
 a été importé depuis :https://skivosges.net/agenda/a-venir/detailevenement/
 1291/-/cja-coupe-de-bronze-prix-de-la-ville-de-st-amarin?tmpl=component
X-ALT-DESC;FMTTYPE=text/html:<!-- #gskiepreuve code généré par le plugin jevents pour GskiEpreuves. Ne p
 as modifier cette ligne, ni tout le contenu suivant  #gskiepreuve --><div c
 lass="gski-evenement_infos"><div class="gski-evenement-nom">CJA Coupe de Br
 onze Prix de la ville de St Amarin</div><div class="gski-evenement-report">
  <font class="gskiattention">(Report de l'épreuve initialement prévue le 10
 /03/2019)</font></div><ul class="gski-evenement-liste-infos"><li>Codex éven
 ement AMVT0620</li><li>Station : MARKSTEIN</li><li>Organisateur : 14058 SKI
  CLUB EDELWEISS SAINT AMARIN</li><li>Courriel : <!-- Cette adresse électron
 ique est protégée contre les robots spammeurs. --><span class="cloaked_emai
 l ep_c2cb83e6"><span data-ep-a="&#109;&#97;&#116;&#116;&#104;" data-ep-b=""
 ><span data-ep-b="&#103;&#101;&#46;&#102;&#114;" data-ep-a="&#105;&#101;&#1
 17;&#46;g"><span data-ep-b="&#64;o&#114;&#97;&#110;" data-ep-a="&#101;&#114
 ;&#114;e&#114;"></span></span></span></span><script>RegularLabs.EmailProtec
 tor.unCloak("ep_c2cb83e6");</script></li><li><span class="gski-evenement-ob
 s">Délégué Technique : MULLER JEAN CLAUDE</span></li></ul><div class="gski-
 evenement-infos-2"><div class="gski-evenement-info-inscriptions"><div class
 ="gski-evenement-inscriptions-periodes">Période d'inscription à l'evènement
  du samedi 16 mars 2019 à 00:00 au jeudi 21 mars 2019 à 23:00 <span class="
 gski-evenement-inscriptions-impossibles">(Inscriptions impossibles).</span>
 <div class="gski-evenement-inscriptions-types-titres">Inscriptions ouvertes
  aux detenteurs des titres Fédéraux valides suivants : Licenciés Compétiteu
 rs</div></div></div><div class="gski-evenement-epreuves"><div class="gski-e
 venement-epreuves-titres">Epreuves :</div><ul class="gski-evenement-epreuve
 s-list"><li><div class="gski-epreuve-date">Le samedi 23 mars 2019</div><ul 
 class="gski-epreuve-liste-infos"><li>Codex épreuve AMVM0621</li><li>Slalom<
 /li><li>Catégorie(s) : U8/U10 (Garçons)</li></ul></li><li><div class="gski-
 epreuve-date">Le samedi 23 mars 2019</div><ul class="gski-epreuve-liste-inf
 os"><li>Codex épreuve AMVF0621</li><li>Slalom</li><li>Catégorie(s) : U8/U10
  (Filles)</li></ul></li><li><div class="gski-epreuve-date">Le samedi 23 mar
 s 2019</div><ul class="gski-epreuve-liste-infos"><li>Codex épreuve AMVM0622
 </li><li>Slalom</li><li>Catégorie(s) : U12/U14 (Garçons)</li></ul></li><li>
 <div class="gski-epreuve-date">Le samedi 23 mars 2019</div><ul class="gski-
 epreuve-liste-infos"><li>Codex épreuve AMVF0622</li><li>Slalom</li><li>Caté
 gorie(s) : U12/U14 (Filles)</li></ul></li></ul></div><div class="gskiepreuv
 es-links"><ul><li><a href="https://skivosges.net/index.php?option=com_jeven
 ts&task=icalevent.detail&evid=1286&Itemid=6289">Voir les informations dans 
 l'agenda...</a></li><li><a href="https://skivosges.net/index.php?option=com
 _gskiepreuves&view=afficheresultats&format_option=tous&filter[search]=AMVT0
 620&filter[date_debut]=23-03-2019&filter[date_fin]=23-03-2019&code_activite
 =ALP&Itemid=6289">Vers les résultats...</a></li></ul></div></div"><!-- #/gs
 kiepreuve fin du dode généré par le plugin jevents pour GskiEpreuves. . Ne 
 pas modifier cette ligne, ni tout le contenu précedant.  #/gskiepreuve --> 
 <a href="https://skivosges.net/agenda/a-venir/detailevenement/1291/-/cja-co
 upe-de-bronze-prix-de-la-ville-de-st-amarin?tmpl=component">Cet évènement a
  été importé depuis :https://skivosges.net/agenda/a-venir/detailevenement/1
 291/-/cja-coupe-de-bronze-prix-de-la-ville-de-st-amarin?tmpl=component</a>DTSTAMP:20260424T012540
DTSTART;TZID=Europe/Paris;VALUE=DATE:20190323
DTEND;TZID=Europe/Paris;VALUE=DATE:20190324
SEQUENCE:0
TRANSP:OPAQUE
END:VEVENT
END:VCALENDAR