BEGIN:VCALENDAR
VERSION:2.0
PRODID:-//jEvents 2.0 for Joomla//EN
CALSCALE:GREGORIAN
METHOD:PUBLISH
BEGIN:VTIMEZONE
TZID:Europe/Paris
BEGIN:STANDARD
DTSTART:20181028T020000
RDATE:20190331T030000
TZOFFSETFROM:+0200
TZOFFSETTO:+0100
TZNAME:Europe/Paris CET
END:STANDARD
BEGIN:STANDARD
DTSTART:20191027T020000
RDATE:20200329T030000
TZOFFSETFROM:+0200
TZOFFSETTO:+0100
TZNAME:Europe/Paris CET
END:STANDARD
BEGIN:STANDARD
DTSTART:20201025T020000
RDATE:20210328T030000
TZOFFSETFROM:+0200
TZOFFSETTO:+0100
TZNAME:Europe/Paris CET
END:STANDARD
BEGIN:STANDARD
DTSTART:20211031T020000
RDATE:20220327T030000
TZOFFSETFROM:+0200
TZOFFSETTO:+0100
TZNAME:Europe/Paris CET
END:STANDARD
BEGIN:STANDARD
DTSTART:20221030T020000
RDATE:20230326T030000
TZOFFSETFROM:+0200
TZOFFSETTO:+0100
TZNAME:Europe/Paris CET
END:STANDARD
BEGIN:STANDARD
DTSTART:20231029T020000
RDATE:20240331T030000
TZOFFSETFROM:+0200
TZOFFSETTO:+0100
TZNAME:Europe/Paris CET
END:STANDARD
BEGIN:STANDARD
DTSTART:20241027T020000
RDATE:20250330T030000
TZOFFSETFROM:+0200
TZOFFSETTO:+0100
TZNAME:Europe/Paris CET
END:STANDARD
BEGIN:STANDARD
DTSTART:20251026T020000
RDATE:20260329T030000
TZOFFSETFROM:+0200
TZOFFSETTO:+0100
TZNAME:Europe/Paris CET
END:STANDARD
BEGIN:STANDARD
DTSTART:20261025T020000
RDATE:20270328T030000
TZOFFSETFROM:+0200
TZOFFSETTO:+0100
TZNAME:Europe/Paris CET
END:STANDARD
BEGIN:DAYLIGHT
DTSTART:20180621T000000
RDATE:20181028T020000
TZOFFSETFROM:+0100
TZOFFSETTO:+0200
TZNAME:Europe/Paris CEST
END:DAYLIGHT
BEGIN:DAYLIGHT
DTSTART:20190331T030000
RDATE:20191027T020000
TZOFFSETFROM:+0100
TZOFFSETTO:+0200
TZNAME:Europe/Paris CEST
END:DAYLIGHT
BEGIN:DAYLIGHT
DTSTART:20200329T030000
RDATE:20201025T020000
TZOFFSETFROM:+0100
TZOFFSETTO:+0200
TZNAME:Europe/Paris CEST
END:DAYLIGHT
BEGIN:DAYLIGHT
DTSTART:20210328T030000
RDATE:20211031T020000
TZOFFSETFROM:+0100
TZOFFSETTO:+0200
TZNAME:Europe/Paris CEST
END:DAYLIGHT
BEGIN:DAYLIGHT
DTSTART:20220327T030000
RDATE:20221030T020000
TZOFFSETFROM:+0100
TZOFFSETTO:+0200
TZNAME:Europe/Paris CEST
END:DAYLIGHT
BEGIN:DAYLIGHT
DTSTART:20230326T030000
RDATE:20231029T020000
TZOFFSETFROM:+0100
TZOFFSETTO:+0200
TZNAME:Europe/Paris CEST
END:DAYLIGHT
BEGIN:DAYLIGHT
DTSTART:20240331T030000
RDATE:20241027T020000
TZOFFSETFROM:+0100
TZOFFSETTO:+0200
TZNAME:Europe/Paris CEST
END:DAYLIGHT
BEGIN:DAYLIGHT
DTSTART:20250330T030000
RDATE:20251026T020000
TZOFFSETFROM:+0100
TZOFFSETTO:+0200
TZNAME:Europe/Paris CEST
END:DAYLIGHT
BEGIN:DAYLIGHT
DTSTART:20260329T030000
RDATE:20261025T020000
TZOFFSETFROM:+0100
TZOFFSETTO:+0200
TZNAME:Europe/Paris CEST
END:DAYLIGHT
END:VTIMEZONE
BEGIN:VEVENT
UID:16418dcb163b7fdc48899798cf6a83e0
CATEGORIES:Compétition Saut
CREATED:20190617T104836
SUMMARY:Epreuve de Xonrupt
URL;VALUE=URI:https://skivosges.net/agenda/a-venir/detailevenement/1298/-/epreuve-de-xonr
 upt?tmpl=component
DESCRIPTION:<!-- #gskiepreuve code généré par le plugin jevents pour GskiEpreuves. Ne p
 as modifier cette ligne, ni tout le contenu suivant  #gskiepreuve --><div c
 lass="gski-evenement_infos"><div class="gski-evenement-nom">Epreuve de Xonr
 upt</div><div class="gski-evenement-report"></div><ul class="gski-evenement
 -liste-infos"><li>Codex évenement TMVT0100</li><li>Station : XONRUPT</li><l
 i>Organisateur : 14102 SKI CLUB XONRUPT</li></ul><div class="gski-evenement
 -infos-2"><div class="gski-evenement-info-inscriptions"><div class="gski-ev
 enement-inscriptions-periodes">Période d'inscription à l'evènement du samed
 i 15 juin 2019 à 00:00 au jeudi 20 juin 2019 à 12:00 <span class="gski-even
 ement-inscriptions-impossibles">(Inscriptions impossibles).</span><div clas
 s="gski-evenement-inscriptions-types-titres">Inscriptions ouvertes aux dete
 nteurs des titres Fédéraux valides suivants : Licenciés Compétiteurs</div><
 /div></div><div class="gski-evenement-epreuves"><div class="gski-evenement-
 epreuves-titres">Epreuves :</div><ul class="gski-evenement-epreuves-list"><
 li><div class="gski-epreuve-date">Le samedi 22 juin 2019</div><ul class="gs
 ki-epreuve-liste-infos"><li>Codex épreuve TMVM0101</li><li>Saut Special</li
 ><li>Catégorie(s) : U7 a U20 (Garçons)</li></ul></li><li><div class="gski-e
 preuve-date">Le samedi 22 juin 2019</div><ul class="gski-epreuve-liste-info
 s"><li>Codex épreuve TMVF0101</li><li>Saut Special</li><li>Catégorie(s) : U
 7 a U20 (Filles)</li></ul></li><li><div class="gski-epreuve-date">Le samedi
  22 juin 2019</div><ul class="gski-epreuve-liste-infos"><li>Codex épreuve T
 MVM0102</li><li>Saut Special</li><li>Catégorie(s) : Senior (Hommes)</li></u
 l></li><li><div class="gski-epreuve-date">Le samedi 22 juin 2019</div><ul c
 lass="gski-epreuve-liste-infos"><li>Codex épreuve TMVF0102</li><li>Saut Spe
 cial</li><li>Catégorie(s) : Senior (Dames)</li></ul></li></ul></div><div cl
 ass="gskiepreuves-links"><ul><li><a href="/index.php?option=com_jevents&tas
 k=icalevent.detail&evid=1293&Itemid=6289">Voir les informations dans l'agen
 da...</a></li><li><a href="/index.php?option=com_gskiepreuves&view=afficher
 esultats&format_option=tous&filter[search]=TMVT0100&filter[date_debut]=22-0
 6-2019&filter[date_fin]=22-06-2019&code_activite=SAUT&Itemid=6289">Vers les
  résultats...</a></li></ul></div></div"><!-- #/gskiepreuve fin du dode géné
 ré par le plugin jevents pour GskiEpreuves. . Ne pas modifier cette ligne, 
 ni tout le contenu précedant.  #/gskiepreuve --> <a href="https://skivosges
 .net/agenda/a-venir/detailevenement/1298/-/epreuve-de-xonrupt?tmpl=componen
 t">Cet évènement a été importé depuis :https://skivosges.net/agenda/a-venir
 /detailevenement/1298/-/epreuve-de-xonrupt?tmpl=component</a>
X-ALT-DESC;FMTTYPE=text/html:<!-- #gskiepreuve code généré par le plugin jevents pour GskiEpreuves. Ne p
 as modifier cette ligne, ni tout le contenu suivant  #gskiepreuve --><div c
 lass="gski-evenement_infos"><div class="gski-evenement-nom">Epreuve de Xonr
 upt</div><div class="gski-evenement-report"></div><ul class="gski-evenement
 -liste-infos"><li>Codex évenement TMVT0100</li><li>Station : XONRUPT</li><l
 i>Organisateur : 14102 SKI CLUB XONRUPT</li></ul><div class="gski-evenement
 -infos-2"><div class="gski-evenement-info-inscriptions"><div class="gski-ev
 enement-inscriptions-periodes">Période d'inscription à l'evènement du samed
 i 15 juin 2019 à 00:00 au jeudi 20 juin 2019 à 12:00 <span class="gski-even
 ement-inscriptions-impossibles">(Inscriptions impossibles).</span><div clas
 s="gski-evenement-inscriptions-types-titres">Inscriptions ouvertes aux dete
 nteurs des titres Fédéraux valides suivants : Licenciés Compétiteurs</div><
 /div></div><div class="gski-evenement-epreuves"><div class="gski-evenement-
 epreuves-titres">Epreuves :</div><ul class="gski-evenement-epreuves-list"><
 li><div class="gski-epreuve-date">Le samedi 22 juin 2019</div><ul class="gs
 ki-epreuve-liste-infos"><li>Codex épreuve TMVM0101</li><li>Saut Special</li
 ><li>Catégorie(s) : U7 a U20 (Garçons)</li></ul></li><li><div class="gski-e
 preuve-date">Le samedi 22 juin 2019</div><ul class="gski-epreuve-liste-info
 s"><li>Codex épreuve TMVF0101</li><li>Saut Special</li><li>Catégorie(s) : U
 7 a U20 (Filles)</li></ul></li><li><div class="gski-epreuve-date">Le samedi
  22 juin 2019</div><ul class="gski-epreuve-liste-infos"><li>Codex épreuve T
 MVM0102</li><li>Saut Special</li><li>Catégorie(s) : Senior (Hommes)</li></u
 l></li><li><div class="gski-epreuve-date">Le samedi 22 juin 2019</div><ul c
 lass="gski-epreuve-liste-infos"><li>Codex épreuve TMVF0102</li><li>Saut Spe
 cial</li><li>Catégorie(s) : Senior (Dames)</li></ul></li></ul></div><div cl
 ass="gskiepreuves-links"><ul><li><a href="https://skivosges.net/index.php?o
 ption=com_jevents&task=icalevent.detail&evid=1293&Itemid=6289">Voir les inf
 ormations dans l'agenda...</a></li><li><a href="https://skivosges.net/index
 .php?option=com_gskiepreuves&view=afficheresultats&format_option=tous&filte
 r[search]=TMVT0100&filter[date_debut]=22-06-2019&filter[date_fin]=22-06-201
 9&code_activite=SAUT&Itemid=6289">Vers les résultats...</a></li></ul></div>
 </div"><!-- #/gskiepreuve fin du dode généré par le plugin jevents pour Gsk
 iEpreuves. . Ne pas modifier cette ligne, ni tout le contenu précedant.  #/
 gskiepreuve --> <a href="https://skivosges.net/agenda/a-venir/detaileveneme
 nt/1298/-/epreuve-de-xonrupt?tmpl=component">Cet évènement a été importé de
 puis :https://skivosges.net/agenda/a-venir/detailevenement/1298/-/epreuve-d
 e-xonrupt?tmpl=component</a>DTSTAMP:20260424T012653
DTSTART;TZID=Europe/Paris;VALUE=DATE:20190622
DTEND;TZID=Europe/Paris;VALUE=DATE:20190623
SEQUENCE:0
TRANSP:OPAQUE
END:VEVENT
END:VCALENDAR