BEGIN:VCALENDAR
VERSION:2.0
PRODID:-//jEvents 2.0 for Joomla//EN
CALSCALE:GREGORIAN
METHOD:PUBLISH
BEGIN:VTIMEZONE
TZID:Europe/Paris
BEGIN:STANDARD
DTSTART:20130208T080000
RDATE:20130331T030000
TZOFFSETFROM:+0200
TZOFFSETTO:+0100
TZNAME:Europe/Paris CET
END:STANDARD
BEGIN:STANDARD
DTSTART:20131027T020000
RDATE:20140330T030000
TZOFFSETFROM:+0200
TZOFFSETTO:+0100
TZNAME:Europe/Paris CET
END:STANDARD
BEGIN:STANDARD
DTSTART:20141026T020000
RDATE:20150329T030000
TZOFFSETFROM:+0200
TZOFFSETTO:+0100
TZNAME:Europe/Paris CET
END:STANDARD
BEGIN:STANDARD
DTSTART:20151025T020000
RDATE:20160327T030000
TZOFFSETFROM:+0200
TZOFFSETTO:+0100
TZNAME:Europe/Paris CET
END:STANDARD
BEGIN:STANDARD
DTSTART:20161030T020000
RDATE:20170326T030000
TZOFFSETFROM:+0200
TZOFFSETTO:+0100
TZNAME:Europe/Paris CET
END:STANDARD
BEGIN:STANDARD
DTSTART:20171029T020000
RDATE:20180325T030000
TZOFFSETFROM:+0200
TZOFFSETTO:+0100
TZNAME:Europe/Paris CET
END:STANDARD
BEGIN:STANDARD
DTSTART:20181028T020000
RDATE:20190331T030000
TZOFFSETFROM:+0200
TZOFFSETTO:+0100
TZNAME:Europe/Paris CET
END:STANDARD
BEGIN:STANDARD
DTSTART:20191027T020000
RDATE:20200329T030000
TZOFFSETFROM:+0200
TZOFFSETTO:+0100
TZNAME:Europe/Paris CET
END:STANDARD
BEGIN:STANDARD
DTSTART:20201025T020000
RDATE:20210328T030000
TZOFFSETFROM:+0200
TZOFFSETTO:+0100
TZNAME:Europe/Paris CET
END:STANDARD
BEGIN:STANDARD
DTSTART:20211031T020000
RDATE:20220327T030000
TZOFFSETFROM:+0200
TZOFFSETTO:+0100
TZNAME:Europe/Paris CET
END:STANDARD
BEGIN:STANDARD
DTSTART:20221030T020000
RDATE:20230326T030000
TZOFFSETFROM:+0200
TZOFFSETTO:+0100
TZNAME:Europe/Paris CET
END:STANDARD
BEGIN:STANDARD
DTSTART:20231029T020000
RDATE:20240331T030000
TZOFFSETFROM:+0200
TZOFFSETTO:+0100
TZNAME:Europe/Paris CET
END:STANDARD
BEGIN:STANDARD
DTSTART:20241027T020000
RDATE:20250330T030000
TZOFFSETFROM:+0200
TZOFFSETTO:+0100
TZNAME:Europe/Paris CET
END:STANDARD
BEGIN:STANDARD
DTSTART:20251026T020000
RDATE:20260329T030000
TZOFFSETFROM:+0200
TZOFFSETTO:+0100
TZNAME:Europe/Paris CET
END:STANDARD
BEGIN:STANDARD
DTSTART:20261025T020000
RDATE:20270328T030000
TZOFFSETFROM:+0200
TZOFFSETTO:+0100
TZNAME:Europe/Paris CET
END:STANDARD
BEGIN:DAYLIGHT
DTSTART:20130331T030000
RDATE:20131027T020000
TZOFFSETFROM:+0100
TZOFFSETTO:+0200
TZNAME:Europe/Paris CEST
END:DAYLIGHT
BEGIN:DAYLIGHT
DTSTART:20140330T030000
RDATE:20141026T020000
TZOFFSETFROM:+0100
TZOFFSETTO:+0200
TZNAME:Europe/Paris CEST
END:DAYLIGHT
BEGIN:DAYLIGHT
DTSTART:20150329T030000
RDATE:20151025T020000
TZOFFSETFROM:+0100
TZOFFSETTO:+0200
TZNAME:Europe/Paris CEST
END:DAYLIGHT
BEGIN:DAYLIGHT
DTSTART:20160327T030000
RDATE:20161030T020000
TZOFFSETFROM:+0100
TZOFFSETTO:+0200
TZNAME:Europe/Paris CEST
END:DAYLIGHT
BEGIN:DAYLIGHT
DTSTART:20170326T030000
RDATE:20171029T020000
TZOFFSETFROM:+0100
TZOFFSETTO:+0200
TZNAME:Europe/Paris CEST
END:DAYLIGHT
BEGIN:DAYLIGHT
DTSTART:20180325T030000
RDATE:20181028T020000
TZOFFSETFROM:+0100
TZOFFSETTO:+0200
TZNAME:Europe/Paris CEST
END:DAYLIGHT
BEGIN:DAYLIGHT
DTSTART:20190331T030000
RDATE:20191027T020000
TZOFFSETFROM:+0100
TZOFFSETTO:+0200
TZNAME:Europe/Paris CEST
END:DAYLIGHT
BEGIN:DAYLIGHT
DTSTART:20200329T030000
RDATE:20201025T020000
TZOFFSETFROM:+0100
TZOFFSETTO:+0200
TZNAME:Europe/Paris CEST
END:DAYLIGHT
BEGIN:DAYLIGHT
DTSTART:20210328T030000
RDATE:20211031T020000
TZOFFSETFROM:+0100
TZOFFSETTO:+0200
TZNAME:Europe/Paris CEST
END:DAYLIGHT
BEGIN:DAYLIGHT
DTSTART:20220327T030000
RDATE:20221030T020000
TZOFFSETFROM:+0100
TZOFFSETTO:+0200
TZNAME:Europe/Paris CEST
END:DAYLIGHT
BEGIN:DAYLIGHT
DTSTART:20230326T030000
RDATE:20231029T020000
TZOFFSETFROM:+0100
TZOFFSETTO:+0200
TZNAME:Europe/Paris CEST
END:DAYLIGHT
BEGIN:DAYLIGHT
DTSTART:20240331T030000
RDATE:20241027T020000
TZOFFSETFROM:+0100
TZOFFSETTO:+0200
TZNAME:Europe/Paris CEST
END:DAYLIGHT
BEGIN:DAYLIGHT
DTSTART:20250330T030000
RDATE:20251026T020000
TZOFFSETFROM:+0100
TZOFFSETTO:+0200
TZNAME:Europe/Paris CEST
END:DAYLIGHT
BEGIN:DAYLIGHT
DTSTART:20260329T030000
RDATE:20261025T020000
TZOFFSETFROM:+0100
TZOFFSETTO:+0200
TZNAME:Europe/Paris CEST
END:DAYLIGHT
END:VTIMEZONE
BEGIN:VEVENT
UID:53359e1244c061c08826ba545eba6a14
CATEGORIES:Compétition Saut
CREATED:20131203T122100
SUMMARY:Jeux du Saut n°3 Credit Mutuel  K15m
URL;VALUE=URI:https://skivosges.net/agenda/a-venir/detailevenement/130/-/jeux-du-saut-n-3
 -credit-mutuel-k15m?tmpl=component
DESCRIPTION:Jeux du Saut n°3 Credit Mutuel  K15m\n\nLieu : BUSSANG LARCENAIRE \nOrganis
 ateur : UNION SPORTIVE BUSSANG  (14007 UNION SPORTIVE BUSSANG)\n - TMVF0061
  épreuve Dames\n  Jeux du Saut n°3 Credit Mutuel  K15m\n - TMVF0062 épreuve
  Dames\n  Jeux du Saut n°3 Credit Mutuel  K15m\n - TMVF0063 épreuve Dames\n
   Jeux du Saut n°3 Credit Mutuel  K15m\n - TMVM0061 épreuve Hommes\n  Jeux 
 du Saut n°3 Credit Mutuel  K15m\n - TMVM0062 épreuve Hommes\n  Jeux du Saut
  n°3 Credit Mutuel  K15m\n - TMVM0063 épreuve Hommes\n  Jeux du Saut n°3 Cr
 edit Mutuel  K15m Cet évènement a été importé depuis :https://skivosges.net
 /agenda/a-venir/detailevenement/130/-/jeux-du-saut-n-3-credit-mutuel-k15m?t
 mpl=component
X-ALT-DESC;FMTTYPE=text/html:<strong>Jeux du Saut n°3 Credit Mutuel  K15m</strong><br /><br />Lieu : BUS
 SANG LARCENAIRE <br />Organisateur : UNION SPORTIVE BUSSANG  <small>(14007 
 UNION SPORTIVE BUSSANG)</small><ul type="disc"><li>TMVF0061 épreuve Dames<b
 r />&nbsp;&nbsp;Jeux du Saut n°3 Credit Mutuel  K15m</li><li>TMVF0062 épreu
 ve Dames<br />&nbsp;&nbsp;Jeux du Saut n°3 Credit Mutuel  K15m</li><li>TMVF
 0063 épreuve Dames<br />&nbsp;&nbsp;Jeux du Saut n°3 Credit Mutuel  K15m</l
 i><li>TMVM0061 épreuve Hommes<br />&nbsp;&nbsp;Jeux du Saut n°3 Credit Mutu
 el  K15m</li><li>TMVM0062 épreuve Hommes<br />&nbsp;&nbsp;Jeux du Saut n°3 
 Credit Mutuel  K15m</li><li>TMVM0063 épreuve Hommes<br />&nbsp;&nbsp;Jeux d
 u Saut n°3 Credit Mutuel  K15m</li></ul> <a href="https://skivosges.net/age
 nda/a-venir/detailevenement/130/-/jeux-du-saut-n-3-credit-mutuel-k15m?tmpl=
 component">Cet évènement a été importé depuis :https://skivosges.net/agenda
 /a-venir/detailevenement/130/-/jeux-du-saut-n-3-credit-mutuel-k15m?tmpl=com
 ponent</a>DTSTAMP:20260424T073935
DTSTART;TZID=Europe/Paris:20140209T080000
DTEND;TZID=Europe/Paris:20140209T170000
SEQUENCE:0
TRANSP:OPAQUE
END:VEVENT
END:VCALENDAR