BEGIN:VCALENDAR
VERSION:2.0
PRODID:-//jEvents 2.0 for Joomla//EN
CALSCALE:GREGORIAN
METHOD:PUBLISH
BEGIN:VTIMEZONE
TZID:Europe/Paris
BEGIN:STANDARD
DTSTART:20181028T020000
RDATE:20190331T030000
TZOFFSETFROM:+0200
TZOFFSETTO:+0100
TZNAME:Europe/Paris CET
END:STANDARD
BEGIN:STANDARD
DTSTART:20191027T020000
RDATE:20200329T030000
TZOFFSETFROM:+0200
TZOFFSETTO:+0100
TZNAME:Europe/Paris CET
END:STANDARD
BEGIN:STANDARD
DTSTART:20201025T020000
RDATE:20210328T030000
TZOFFSETFROM:+0200
TZOFFSETTO:+0100
TZNAME:Europe/Paris CET
END:STANDARD
BEGIN:STANDARD
DTSTART:20211031T020000
RDATE:20220327T030000
TZOFFSETFROM:+0200
TZOFFSETTO:+0100
TZNAME:Europe/Paris CET
END:STANDARD
BEGIN:STANDARD
DTSTART:20221030T020000
RDATE:20230326T030000
TZOFFSETFROM:+0200
TZOFFSETTO:+0100
TZNAME:Europe/Paris CET
END:STANDARD
BEGIN:STANDARD
DTSTART:20231029T020000
RDATE:20240331T030000
TZOFFSETFROM:+0200
TZOFFSETTO:+0100
TZNAME:Europe/Paris CET
END:STANDARD
BEGIN:STANDARD
DTSTART:20241027T020000
RDATE:20250330T030000
TZOFFSETFROM:+0200
TZOFFSETTO:+0100
TZNAME:Europe/Paris CET
END:STANDARD
BEGIN:STANDARD
DTSTART:20251026T020000
RDATE:20260329T030000
TZOFFSETFROM:+0200
TZOFFSETTO:+0100
TZNAME:Europe/Paris CET
END:STANDARD
BEGIN:STANDARD
DTSTART:20261025T020000
RDATE:20270328T030000
TZOFFSETFROM:+0200
TZOFFSETTO:+0100
TZNAME:Europe/Paris CET
END:STANDARD
BEGIN:DAYLIGHT
DTSTART:20180705T000000
RDATE:20181028T020000
TZOFFSETFROM:+0100
TZOFFSETTO:+0200
TZNAME:Europe/Paris CEST
END:DAYLIGHT
BEGIN:DAYLIGHT
DTSTART:20190331T030000
RDATE:20191027T020000
TZOFFSETFROM:+0100
TZOFFSETTO:+0200
TZNAME:Europe/Paris CEST
END:DAYLIGHT
BEGIN:DAYLIGHT
DTSTART:20200329T030000
RDATE:20201025T020000
TZOFFSETFROM:+0100
TZOFFSETTO:+0200
TZNAME:Europe/Paris CEST
END:DAYLIGHT
BEGIN:DAYLIGHT
DTSTART:20210328T030000
RDATE:20211031T020000
TZOFFSETFROM:+0100
TZOFFSETTO:+0200
TZNAME:Europe/Paris CEST
END:DAYLIGHT
BEGIN:DAYLIGHT
DTSTART:20220327T030000
RDATE:20221030T020000
TZOFFSETFROM:+0100
TZOFFSETTO:+0200
TZNAME:Europe/Paris CEST
END:DAYLIGHT
BEGIN:DAYLIGHT
DTSTART:20230326T030000
RDATE:20231029T020000
TZOFFSETFROM:+0100
TZOFFSETTO:+0200
TZNAME:Europe/Paris CEST
END:DAYLIGHT
BEGIN:DAYLIGHT
DTSTART:20240331T030000
RDATE:20241027T020000
TZOFFSETFROM:+0100
TZOFFSETTO:+0200
TZNAME:Europe/Paris CEST
END:DAYLIGHT
BEGIN:DAYLIGHT
DTSTART:20250330T030000
RDATE:20251026T020000
TZOFFSETFROM:+0100
TZOFFSETTO:+0200
TZNAME:Europe/Paris CEST
END:DAYLIGHT
BEGIN:DAYLIGHT
DTSTART:20260329T030000
RDATE:20261025T020000
TZOFFSETFROM:+0100
TZOFFSETTO:+0200
TZNAME:Europe/Paris CEST
END:DAYLIGHT
END:VTIMEZONE
BEGIN:VEVENT
UID:d1f8b6b9a513959e1d525b9119ddd201
CATEGORIES:Compétition Saut
CREATED:20190702T093042
SUMMARY:SAMSE SUMMER TOUR U15 LA BRESSE
URL;VALUE=URI:https://skivosges.net/agenda/a-venir/detailevenement/1300/-/samse-summer-to
 ur-u15-la-bresse?tmpl=component
DESCRIPTION:SAMSE SUMMER TOUR U15 LA BRESSE\n - Codex évenement TNAT0150\n - Station : 
 LA BRESSE\n - Organisateur : 14024 LA BRESSAUDE SECTION SKIPériode d'inscri
 ption à l'evènement du samedi 29 juin 2019 à 00:00 au jeudi 04 juillet 2019
  à 12:00 (Inscriptions impossibles).Inscriptions ouvertes aux detenteurs de
 s titres Fédéraux valides suivants : Licenciés CompétiteursEpreuves :\n - L
 e samedi 06 juillet 2019\n - Codex épreuve TNAM0151\n - Saut Special\n - Ca
 tégorie(s) : U7 a U15 (Garçons)\n - Le samedi 06 juillet 2019\n - Codex épr
 euve TNAF0151\n - Saut Special\n - Catégorie(s) : U7 a U15 (Filles)\n - Le 
 samedi 06 juillet 2019\n - Codex épreuve TNAM0152\n - Saut Special\n - Caté
 gorie(s) : U17 (Garçons)\n - Le samedi 06 juillet 2019\n - Codex épreuve TN
 AF0152\n - Saut Special\n - Catégorie(s) : U17 (Filles)\n - Voir les inform
 ations dans l'agenda... (/index.php?option=com_jevents&amp;task=icalevent.d
 etail&amp;evid=1295&amp;Itemid=6289) Cet évènement a été importé depuis :ht
 tps://skivosges.net/agenda/a-venir/detailevenement/1300/-/samse-summer-tour
 -u15-la-bresse?tmpl=component
X-ALT-DESC;FMTTYPE=text/html:<!-- #gskiepreuve code généré par le plugin jevents pour GskiEpreuves. Ne p
 as modifier cette ligne, ni tout le contenu suivant  #gskiepreuve --><div c
 lass="gski-evenement_infos"><div class="gski-evenement-nom">SAMSE SUMMER TO
 UR U15 LA BRESSE</div><div class="gski-evenement-report"></div><ul class="g
 ski-evenement-liste-infos"><li>Codex évenement TNAT0150</li><li>Station : L
 A BRESSE</li><li>Organisateur : 14024 LA BRESSAUDE SECTION SKI</li></ul><di
 v class="gski-evenement-infos-2"><div class="gski-evenement-info-inscriptio
 ns"><div class="gski-evenement-inscriptions-periodes">Période d'inscription
  à l'evènement du samedi 29 juin 2019 à 00:00 au jeudi 04 juillet 2019 à 12
 :00 <span class="gski-evenement-inscriptions-impossibles">(Inscriptions imp
 ossibles).</span><div class="gski-evenement-inscriptions-types-titres">Insc
 riptions ouvertes aux detenteurs des titres Fédéraux valides suivants : Lic
 enciés Compétiteurs</div></div></div><div class="gski-evenement-epreuves"><
 div class="gski-evenement-epreuves-titres">Epreuves :</div><ul class="gski-
 evenement-epreuves-list"><li><div class="gski-epreuve-date">Le samedi 06 ju
 illet 2019</div><ul class="gski-epreuve-liste-infos"><li>Codex épreuve TNAM
 0151</li><li>Saut Special</li><li>Catégorie(s) : U7 a U15 (Garçons)</li></u
 l></li><li><div class="gski-epreuve-date">Le samedi 06 juillet 2019</div><u
 l class="gski-epreuve-liste-infos"><li>Codex épreuve TNAF0151</li><li>Saut 
 Special</li><li>Catégorie(s) : U7 a U15 (Filles)</li></ul></li><li><div cla
 ss="gski-epreuve-date">Le samedi 06 juillet 2019</div><ul class="gski-epreu
 ve-liste-infos"><li>Codex épreuve TNAM0152</li><li>Saut Special</li><li>Cat
 égorie(s) : U17 (Garçons)</li></ul></li><li><div class="gski-epreuve-date">
 Le samedi 06 juillet 2019</div><ul class="gski-epreuve-liste-infos"><li>Cod
 ex épreuve TNAF0152</li><li>Saut Special</li><li>Catégorie(s) : U17 (Filles
 )</li></ul></li></ul></div><div class="gskiepreuves-links"><ul><li><a href=
 "https://skivosges.net/index.php?option=com_jevents&task=icalevent.detail&e
 vid=1295&Itemid=6289">Voir les informations dans l'agenda...</a></li></ul><
 /div></div"><!-- #/gskiepreuve fin du dode généré par le plugin jevents pou
 r GskiEpreuves. . Ne pas modifier cette ligne, ni tout le contenu précedant
 .  #/gskiepreuve --> <a href="https://skivosges.net/agenda/a-venir/detailev
 enement/1300/-/samse-summer-tour-u15-la-bresse?tmpl=component">Cet évènemen
 t a été importé depuis :https://skivosges.net/agenda/a-venir/detailevenemen
 t/1300/-/samse-summer-tour-u15-la-bresse?tmpl=component</a>DTSTAMP:20260423T174055
DTSTART;TZID=Europe/Paris;VALUE=DATE:20190706
DTEND;TZID=Europe/Paris;VALUE=DATE:20190707
SEQUENCE:0
TRANSP:OPAQUE
END:VEVENT
END:VCALENDAR