BEGIN:VCALENDAR
VERSION:2.0
PRODID:-//jEvents 2.0 for Joomla//EN
CALSCALE:GREGORIAN
METHOD:PUBLISH
BEGIN:VTIMEZONE
TZID:Europe/Paris
BEGIN:STANDARD
DTSTART:20181028T020000
RDATE:20190331T030000
TZOFFSETFROM:+0200
TZOFFSETTO:+0100
TZNAME:Europe/Paris CET
END:STANDARD
BEGIN:STANDARD
DTSTART:20191027T020000
RDATE:20200329T030000
TZOFFSETFROM:+0200
TZOFFSETTO:+0100
TZNAME:Europe/Paris CET
END:STANDARD
BEGIN:STANDARD
DTSTART:20201025T020000
RDATE:20210328T030000
TZOFFSETFROM:+0200
TZOFFSETTO:+0100
TZNAME:Europe/Paris CET
END:STANDARD
BEGIN:STANDARD
DTSTART:20211031T020000
RDATE:20220327T030000
TZOFFSETFROM:+0200
TZOFFSETTO:+0100
TZNAME:Europe/Paris CET
END:STANDARD
BEGIN:STANDARD
DTSTART:20221030T020000
RDATE:20230326T030000
TZOFFSETFROM:+0200
TZOFFSETTO:+0100
TZNAME:Europe/Paris CET
END:STANDARD
BEGIN:STANDARD
DTSTART:20231029T020000
RDATE:20240331T030000
TZOFFSETFROM:+0200
TZOFFSETTO:+0100
TZNAME:Europe/Paris CET
END:STANDARD
BEGIN:STANDARD
DTSTART:20241027T020000
RDATE:20250330T030000
TZOFFSETFROM:+0200
TZOFFSETTO:+0100
TZNAME:Europe/Paris CET
END:STANDARD
BEGIN:STANDARD
DTSTART:20251026T020000
RDATE:20260329T030000
TZOFFSETFROM:+0200
TZOFFSETTO:+0100
TZNAME:Europe/Paris CET
END:STANDARD
BEGIN:STANDARD
DTSTART:20261025T020000
RDATE:20270328T030000
TZOFFSETFROM:+0200
TZOFFSETTO:+0100
TZNAME:Europe/Paris CET
END:STANDARD
BEGIN:DAYLIGHT
DTSTART:20180725T000000
RDATE:20181028T020000
TZOFFSETFROM:+0100
TZOFFSETTO:+0200
TZNAME:Europe/Paris CEST
END:DAYLIGHT
BEGIN:DAYLIGHT
DTSTART:20190331T030000
RDATE:20191027T020000
TZOFFSETFROM:+0100
TZOFFSETTO:+0200
TZNAME:Europe/Paris CEST
END:DAYLIGHT
BEGIN:DAYLIGHT
DTSTART:20200329T030000
RDATE:20201025T020000
TZOFFSETFROM:+0100
TZOFFSETTO:+0200
TZNAME:Europe/Paris CEST
END:DAYLIGHT
BEGIN:DAYLIGHT
DTSTART:20210328T030000
RDATE:20211031T020000
TZOFFSETFROM:+0100
TZOFFSETTO:+0200
TZNAME:Europe/Paris CEST
END:DAYLIGHT
BEGIN:DAYLIGHT
DTSTART:20220327T030000
RDATE:20221030T020000
TZOFFSETFROM:+0100
TZOFFSETTO:+0200
TZNAME:Europe/Paris CEST
END:DAYLIGHT
BEGIN:DAYLIGHT
DTSTART:20230326T030000
RDATE:20231029T020000
TZOFFSETFROM:+0100
TZOFFSETTO:+0200
TZNAME:Europe/Paris CEST
END:DAYLIGHT
BEGIN:DAYLIGHT
DTSTART:20240331T030000
RDATE:20241027T020000
TZOFFSETFROM:+0100
TZOFFSETTO:+0200
TZNAME:Europe/Paris CEST
END:DAYLIGHT
BEGIN:DAYLIGHT
DTSTART:20250330T030000
RDATE:20251026T020000
TZOFFSETFROM:+0100
TZOFFSETTO:+0200
TZNAME:Europe/Paris CEST
END:DAYLIGHT
BEGIN:DAYLIGHT
DTSTART:20260329T030000
RDATE:20261025T020000
TZOFFSETFROM:+0100
TZOFFSETTO:+0200
TZNAME:Europe/Paris CEST
END:DAYLIGHT
END:VTIMEZONE
BEGIN:VEVENT
UID:c046b411e4b9ebb90d2285d598bd59b8
CATEGORIES:Compétition Saut
CREATED:20190702T093042
SUMMARY:TOURNEE DES VOSGES XONRUPT
URL;VALUE=URI:https://skivosges.net/agenda/a-venir/detailevenement/1302/-/tournee-des-vos
 ges-xonrupt?tmpl=component
DESCRIPTION:TOURNEE DES VOSGES XONRUPT\n - Codex évenement TNAT0170\n - Station : XONRU
 PT\n - Organisateur : 14102 SKI CLUB XONRUPT\n - Courriel : RegularLabs.Ema
 ilProtector.unCloak("ep_3212f730");\n - Téléphone : 03 29 60 96 29Période d
 'inscription à l'evènement du vendredi 19 juillet 2019 à 00:00 au mercredi 
 24 juillet 2019 à 17:00 (Inscriptions impossibles).Inscriptions ouvertes au
 x detenteurs des titres Fédéraux valides suivants : Licenciés Compétiteurs 
 et Titres Loisirs et DirigeantsEpreuves :\n - Le vendredi 26 juillet 2019\n
  - Codex épreuve TNAM0171\n - Saut Special\n - Catégorie(s) : U7 a U13 (Gar
 çons)\n - Le vendredi 26 juillet 2019\n - Codex épreuve TNAF0171\n - Saut S
 pecial\n - Catégorie(s) : U7 a U13 (Filles)\n - Le vendredi 26 juillet 2019
 \n - Codex épreuve TNAF0172\n - Saut Special\n - Catégorie(s) : U7 a U13 (F
 illes)\n - Voir les informations dans l'agenda... (/index.php?option=com_je
 vents&amp;task=icalevent.detail&amp;evid=1297&amp;Itemid=6289) Cet évènemen
 t a été importé depuis :https://skivosges.net/agenda/a-venir/detailevenemen
 t/1302/-/tournee-des-vosges-xonrupt?tmpl=component
X-ALT-DESC;FMTTYPE=text/html:<!-- #gskiepreuve code généré par le plugin jevents pour GskiEpreuves. Ne p
 as modifier cette ligne, ni tout le contenu suivant  #gskiepreuve --><div c
 lass="gski-evenement_infos"><div class="gski-evenement-nom">TOURNEE DES VOS
 GES XONRUPT</div><div class="gski-evenement-report"></div><ul class="gski-e
 venement-liste-infos"><li>Codex évenement TNAT0170</li><li>Station : XONRUP
 T</li><li>Organisateur : 14102 SKI CLUB XONRUPT</li><li>Courriel : <!-- Cet
 te adresse électronique est protégée contre les robots spammeurs. --><span 
 class="cloaked_email ep_3212f730"><span data-ep-b="&#109;" data-ep-a="rem&#
 121;"><span data-ep-a="&#97;&#108;&#97;i" data-ep-b="&#108;&#46;&#99;&#111;
 "><span data-ep-b="&#103;&#109;&#97;&#105;" data-ep-a="&#110;8&#56;&#64;"><
 /span></span></span></span><script>RegularLabs.EmailProtector.unCloak("ep_3
 212f730");</script></li><li>Téléphone : 03 29 60 96 29</li></ul><div class=
 "gski-evenement-infos-2"><div class="gski-evenement-info-inscriptions"><div
  class="gski-evenement-inscriptions-periodes">Période d'inscription à l'evè
 nement du vendredi 19 juillet 2019 à 00:00 au mercredi 24 juillet 2019 à 17
 :00 <span class="gski-evenement-inscriptions-impossibles">(Inscriptions imp
 ossibles).</span><div class="gski-evenement-inscriptions-types-titres">Insc
 riptions ouvertes aux detenteurs des titres Fédéraux valides suivants : Lic
 enciés Compétiteurs et Titres Loisirs et Dirigeants</div></div></div><div c
 lass="gski-evenement-epreuves"><div class="gski-evenement-epreuves-titres">
 Epreuves :</div><ul class="gski-evenement-epreuves-list"><li><div class="gs
 ki-epreuve-date">Le vendredi 26 juillet 2019</div><ul class="gski-epreuve-l
 iste-infos"><li>Codex épreuve TNAM0171</li><li>Saut Special</li><li>Catégor
 ie(s) : U7 a U13 (Garçons)</li></ul></li><li><div class="gski-epreuve-date"
 >Le vendredi 26 juillet 2019</div><ul class="gski-epreuve-liste-infos"><li>
 Codex épreuve TNAF0171</li><li>Saut Special</li><li>Catégorie(s) : U7 a U13
  (Filles)</li></ul></li><li><div class="gski-epreuve-date">Le vendredi 26 j
 uillet 2019</div><ul class="gski-epreuve-liste-infos"><li>Codex épreuve TNA
 F0172</li><li>Saut Special</li><li>Catégorie(s) : U7 a U13 (Filles)</li></u
 l></li></ul></div><div class="gskiepreuves-links"><ul><li><a href="https://
 skivosges.net/index.php?option=com_jevents&task=icalevent.detail&evid=1297&
 Itemid=6289">Voir les informations dans l'agenda...</a></li></ul></div></di
 v"><!-- #/gskiepreuve fin du dode généré par le plugin jevents pour GskiEpr
 euves. . Ne pas modifier cette ligne, ni tout le contenu précedant.  #/gski
 epreuve --> <a href="https://skivosges.net/agenda/a-venir/detailevenement/1
 302/-/tournee-des-vosges-xonrupt?tmpl=component">Cet évènement a été import
 é depuis :https://skivosges.net/agenda/a-venir/detailevenement/1302/-/tourn
 ee-des-vosges-xonrupt?tmpl=component</a>DTSTAMP:20260423T222549
DTSTART;TZID=Europe/Paris;VALUE=DATE:20190726
DTEND;TZID=Europe/Paris;VALUE=DATE:20190727
SEQUENCE:0
TRANSP:OPAQUE
END:VEVENT
END:VCALENDAR