BEGIN:VCALENDAR
VERSION:2.0
PRODID:-//jEvents 2.0 for Joomla//EN
CALSCALE:GREGORIAN
METHOD:PUBLISH
BEGIN:VTIMEZONE
TZID:Europe/Paris
BEGIN:STANDARD
DTSTART:20181028T020000
RDATE:20190331T030000
TZOFFSETFROM:+0200
TZOFFSETTO:+0100
TZNAME:Europe/Paris CET
END:STANDARD
BEGIN:STANDARD
DTSTART:20191027T020000
RDATE:20200329T030000
TZOFFSETFROM:+0200
TZOFFSETTO:+0100
TZNAME:Europe/Paris CET
END:STANDARD
BEGIN:STANDARD
DTSTART:20201025T020000
RDATE:20210328T030000
TZOFFSETFROM:+0200
TZOFFSETTO:+0100
TZNAME:Europe/Paris CET
END:STANDARD
BEGIN:STANDARD
DTSTART:20211031T020000
RDATE:20220327T030000
TZOFFSETFROM:+0200
TZOFFSETTO:+0100
TZNAME:Europe/Paris CET
END:STANDARD
BEGIN:STANDARD
DTSTART:20221030T020000
RDATE:20230326T030000
TZOFFSETFROM:+0200
TZOFFSETTO:+0100
TZNAME:Europe/Paris CET
END:STANDARD
BEGIN:STANDARD
DTSTART:20231029T020000
RDATE:20240331T030000
TZOFFSETFROM:+0200
TZOFFSETTO:+0100
TZNAME:Europe/Paris CET
END:STANDARD
BEGIN:STANDARD
DTSTART:20241027T020000
RDATE:20250330T030000
TZOFFSETFROM:+0200
TZOFFSETTO:+0100
TZNAME:Europe/Paris CET
END:STANDARD
BEGIN:STANDARD
DTSTART:20251026T020000
RDATE:20260329T030000
TZOFFSETFROM:+0200
TZOFFSETTO:+0100
TZNAME:Europe/Paris CET
END:STANDARD
BEGIN:STANDARD
DTSTART:20261025T020000
RDATE:20270328T030000
TZOFFSETFROM:+0200
TZOFFSETTO:+0100
TZNAME:Europe/Paris CET
END:STANDARD
BEGIN:DAYLIGHT
DTSTART:20180726T000000
RDATE:20181028T020000
TZOFFSETFROM:+0100
TZOFFSETTO:+0200
TZNAME:Europe/Paris CEST
END:DAYLIGHT
BEGIN:DAYLIGHT
DTSTART:20190331T030000
RDATE:20191027T020000
TZOFFSETFROM:+0100
TZOFFSETTO:+0200
TZNAME:Europe/Paris CEST
END:DAYLIGHT
BEGIN:DAYLIGHT
DTSTART:20200329T030000
RDATE:20201025T020000
TZOFFSETFROM:+0100
TZOFFSETTO:+0200
TZNAME:Europe/Paris CEST
END:DAYLIGHT
BEGIN:DAYLIGHT
DTSTART:20210328T030000
RDATE:20211031T020000
TZOFFSETFROM:+0100
TZOFFSETTO:+0200
TZNAME:Europe/Paris CEST
END:DAYLIGHT
BEGIN:DAYLIGHT
DTSTART:20220327T030000
RDATE:20221030T020000
TZOFFSETFROM:+0100
TZOFFSETTO:+0200
TZNAME:Europe/Paris CEST
END:DAYLIGHT
BEGIN:DAYLIGHT
DTSTART:20230326T030000
RDATE:20231029T020000
TZOFFSETFROM:+0100
TZOFFSETTO:+0200
TZNAME:Europe/Paris CEST
END:DAYLIGHT
BEGIN:DAYLIGHT
DTSTART:20240331T030000
RDATE:20241027T020000
TZOFFSETFROM:+0100
TZOFFSETTO:+0200
TZNAME:Europe/Paris CEST
END:DAYLIGHT
BEGIN:DAYLIGHT
DTSTART:20250330T030000
RDATE:20251026T020000
TZOFFSETFROM:+0100
TZOFFSETTO:+0200
TZNAME:Europe/Paris CEST
END:DAYLIGHT
BEGIN:DAYLIGHT
DTSTART:20260329T030000
RDATE:20261025T020000
TZOFFSETFROM:+0100
TZOFFSETTO:+0200
TZNAME:Europe/Paris CEST
END:DAYLIGHT
END:VTIMEZONE
BEGIN:VEVENT
UID:9f721f77e6a511bacdd45e9e8c4d1fe8
CATEGORIES:Compétition Saut
CREATED:20190702T093042
SUMMARY:TOURNEE DES VOSGES VENTRON
URL;VALUE=URI:https://skivosges.net/agenda/a-venir/detailevenement/1303/-/tournee-des-vos
 ges-ventron?tmpl=component
DESCRIPTION:TOURNEE DES VOSGES VENTRON\n - Codex évenement TNAT0180\n - Lieu : VENTRON\
 n - Organisateur : 14083 U.S VENTRONPériode d'inscription à l'evènement du 
 samedi 20 juillet 2019 à 00:00 au jeudi 25 juillet 2019 à 12:00 (Inscriptio
 ns impossibles).Inscriptions ouvertes aux detenteurs des titres Fédéraux va
 lides suivants : Licenciés Compétiteurs et Titres Loisirs et DirigeantsEpre
 uves :\n - Le samedi 27 juillet 2019\n - Codex épreuve TNAM0181\n - Saut Sp
 ecial\n - Catégorie(s) : U7 a U13 (Garçons)\n - Le samedi 27 juillet 2019\n
  - Codex épreuve TNAF0181\n - Saut Special\n - Catégorie(s) : U7 a U13 (Fil
 les)\n - Le samedi 27 juillet 2019\n - Codex épreuve TNAF0182\n - Saut Spec
 ial\n - Catégorie(s) : U7 a U13 (Filles)\n - Le samedi 27 juillet 2019\n - 
 Codex épreuve TNAF0183\n - Saut Special\n - Catégorie(s) : U15 (Filles)\n -
  Le samedi 27 juillet 2019\n - Codex épreuve TNAM0182\n - Saut Special\n - 
 Catégorie(s) : U15 (Garçons)\n - Voir les informations dans l'agenda... (/i
 ndex.php?option=com_jevents&amp;task=icalevent.detail&amp;evid=1298&amp;Ite
 mid=6289) Cet évènement a été importé depuis :https://skivosges.net/agenda/
 a-venir/detailevenement/1303/-/tournee-des-vosges-ventron?tmpl=component
X-ALT-DESC;FMTTYPE=text/html:<!-- #gskiepreuve code généré par le plugin jevents pour GskiEpreuves. Ne p
 as modifier cette ligne, ni tout le contenu suivant  #gskiepreuve --><div c
 lass="gski-evenement_infos"><div class="gski-evenement-nom">TOURNEE DES VOS
 GES VENTRON</div><div class="gski-evenement-report"></div><ul class="gski-e
 venement-liste-infos"><li>Codex évenement TNAT0180</li><li>Lieu : VENTRON</
 li><li>Organisateur : 14083 U.S VENTRON</li></ul><div class="gski-evenement
 -infos-2"><div class="gski-evenement-info-inscriptions"><div class="gski-ev
 enement-inscriptions-periodes">Période d'inscription à l'evènement du samed
 i 20 juillet 2019 à 00:00 au jeudi 25 juillet 2019 à 12:00 <span class="gsk
 i-evenement-inscriptions-impossibles">(Inscriptions impossibles).</span><di
 v class="gski-evenement-inscriptions-types-titres">Inscriptions ouvertes au
 x detenteurs des titres Fédéraux valides suivants : Licenciés Compétiteurs 
 et Titres Loisirs et Dirigeants</div></div></div><div class="gski-evenement
 -epreuves"><div class="gski-evenement-epreuves-titres">Epreuves :</div><ul 
 class="gski-evenement-epreuves-list"><li><div class="gski-epreuve-date">Le 
 samedi 27 juillet 2019</div><ul class="gski-epreuve-liste-infos"><li>Codex 
 épreuve TNAM0181</li><li>Saut Special</li><li>Catégorie(s) : U7 a U13 (Garç
 ons)</li></ul></li><li><div class="gski-epreuve-date">Le samedi 27 juillet 
 2019</div><ul class="gski-epreuve-liste-infos"><li>Codex épreuve TNAF0181</
 li><li>Saut Special</li><li>Catégorie(s) : U7 a U13 (Filles)</li></ul></li>
 <li><div class="gski-epreuve-date">Le samedi 27 juillet 2019</div><ul class
 ="gski-epreuve-liste-infos"><li>Codex épreuve TNAF0182</li><li>Saut Special
 </li><li>Catégorie(s) : U7 a U13 (Filles)</li></ul></li><li><div class="gsk
 i-epreuve-date">Le samedi 27 juillet 2019</div><ul class="gski-epreuve-list
 e-infos"><li>Codex épreuve TNAF0183</li><li>Saut Special</li><li>Catégorie(
 s) : U15 (Filles)</li></ul></li><li><div class="gski-epreuve-date">Le samed
 i 27 juillet 2019</div><ul class="gski-epreuve-liste-infos"><li>Codex épreu
 ve TNAM0182</li><li>Saut Special</li><li>Catégorie(s) : U15 (Garçons)</li><
 /ul></li></ul></div><div class="gskiepreuves-links"><ul><li><a href="https:
 //skivosges.net/index.php?option=com_jevents&task=icalevent.detail&evid=129
 8&Itemid=6289">Voir les informations dans l'agenda...</a></li></ul></div></
 div"><!-- #/gskiepreuve fin du dode généré par le plugin jevents pour GskiE
 preuves. . Ne pas modifier cette ligne, ni tout le contenu précedant.  #/gs
 kiepreuve --> <a href="https://skivosges.net/agenda/a-venir/detailevenement
 /1303/-/tournee-des-vosges-ventron?tmpl=component">Cet évènement a été impo
 rté depuis :https://skivosges.net/agenda/a-venir/detailevenement/1303/-/tou
 rnee-des-vosges-ventron?tmpl=component</a>DTSTAMP:20260423T174102
DTSTART;TZID=Europe/Paris;VALUE=DATE:20190727
DTEND;TZID=Europe/Paris;VALUE=DATE:20190728
SEQUENCE:0
TRANSP:OPAQUE
END:VEVENT
END:VCALENDAR