BEGIN:VCALENDAR
VERSION:2.0
PRODID:-//jEvents 2.0 for Joomla//EN
CALSCALE:GREGORIAN
METHOD:PUBLISH
BEGIN:VTIMEZONE
TZID:Europe/Paris
BEGIN:STANDARD
DTSTART:20181028T020000
RDATE:20190331T030000
TZOFFSETFROM:+0200
TZOFFSETTO:+0100
TZNAME:Europe/Paris CET
END:STANDARD
BEGIN:STANDARD
DTSTART:20191027T020000
RDATE:20200329T030000
TZOFFSETFROM:+0200
TZOFFSETTO:+0100
TZNAME:Europe/Paris CET
END:STANDARD
BEGIN:STANDARD
DTSTART:20201025T020000
RDATE:20210328T030000
TZOFFSETFROM:+0200
TZOFFSETTO:+0100
TZNAME:Europe/Paris CET
END:STANDARD
BEGIN:STANDARD
DTSTART:20211031T020000
RDATE:20220327T030000
TZOFFSETFROM:+0200
TZOFFSETTO:+0100
TZNAME:Europe/Paris CET
END:STANDARD
BEGIN:STANDARD
DTSTART:20221030T020000
RDATE:20230326T030000
TZOFFSETFROM:+0200
TZOFFSETTO:+0100
TZNAME:Europe/Paris CET
END:STANDARD
BEGIN:STANDARD
DTSTART:20231029T020000
RDATE:20240331T030000
TZOFFSETFROM:+0200
TZOFFSETTO:+0100
TZNAME:Europe/Paris CET
END:STANDARD
BEGIN:STANDARD
DTSTART:20241027T020000
RDATE:20250330T030000
TZOFFSETFROM:+0200
TZOFFSETTO:+0100
TZNAME:Europe/Paris CET
END:STANDARD
BEGIN:STANDARD
DTSTART:20251026T020000
RDATE:20260329T030000
TZOFFSETFROM:+0200
TZOFFSETTO:+0100
TZNAME:Europe/Paris CET
END:STANDARD
BEGIN:STANDARD
DTSTART:20261025T020000
RDATE:20270328T030000
TZOFFSETFROM:+0200
TZOFFSETTO:+0100
TZNAME:Europe/Paris CET
END:STANDARD
BEGIN:DAYLIGHT
DTSTART:20180727T000000
RDATE:20181028T020000
TZOFFSETFROM:+0100
TZOFFSETTO:+0200
TZNAME:Europe/Paris CEST
END:DAYLIGHT
BEGIN:DAYLIGHT
DTSTART:20190331T030000
RDATE:20191027T020000
TZOFFSETFROM:+0100
TZOFFSETTO:+0200
TZNAME:Europe/Paris CEST
END:DAYLIGHT
BEGIN:DAYLIGHT
DTSTART:20200329T030000
RDATE:20201025T020000
TZOFFSETFROM:+0100
TZOFFSETTO:+0200
TZNAME:Europe/Paris CEST
END:DAYLIGHT
BEGIN:DAYLIGHT
DTSTART:20210328T030000
RDATE:20211031T020000
TZOFFSETFROM:+0100
TZOFFSETTO:+0200
TZNAME:Europe/Paris CEST
END:DAYLIGHT
BEGIN:DAYLIGHT
DTSTART:20220327T030000
RDATE:20221030T020000
TZOFFSETFROM:+0100
TZOFFSETTO:+0200
TZNAME:Europe/Paris CEST
END:DAYLIGHT
BEGIN:DAYLIGHT
DTSTART:20230326T030000
RDATE:20231029T020000
TZOFFSETFROM:+0100
TZOFFSETTO:+0200
TZNAME:Europe/Paris CEST
END:DAYLIGHT
BEGIN:DAYLIGHT
DTSTART:20240331T030000
RDATE:20241027T020000
TZOFFSETFROM:+0100
TZOFFSETTO:+0200
TZNAME:Europe/Paris CEST
END:DAYLIGHT
BEGIN:DAYLIGHT
DTSTART:20250330T030000
RDATE:20251026T020000
TZOFFSETFROM:+0100
TZOFFSETTO:+0200
TZNAME:Europe/Paris CEST
END:DAYLIGHT
BEGIN:DAYLIGHT
DTSTART:20260329T030000
RDATE:20261025T020000
TZOFFSETFROM:+0100
TZOFFSETTO:+0200
TZNAME:Europe/Paris CEST
END:DAYLIGHT
END:VTIMEZONE
BEGIN:VEVENT
UID:fc3616427a2490ca112cd6d85e04634f
CATEGORIES:Compétition Saut
CREATED:20190702T093042
SUMMARY:TOURNEE DES VOSGES BUSSANG
URL;VALUE=URI:https://skivosges.net/agenda/a-venir/detailevenement/1304/-/tournee-des-vos
 ges-bussang?tmpl=component
DESCRIPTION:TOURNEE DES VOSGES BUSSANG\n - Codex évenement TNAT0190\n - Station : BUSSA
 NG\n - Organisateur : 14007 UNION SPORTIVE BUSSANGPériode d'inscription à l
 'evènement du dimanche 21 juillet 2019 à 00:00 au vendredi 26 juillet 2019 
 à 12:00 (Inscriptions impossibles).Inscriptions ouvertes aux detenteurs des
  titres Fédéraux valides suivants : Licenciés Compétiteurs et Titres Loisir
 s et DirigeantsEpreuves :\n - Le dimanche 28 juillet 2019\n - Codex épreuve
  TNAM0191\n - Saut Special\n - Catégorie(s) : U7 a U13 (Garçons)\n - Le dim
 anche 28 juillet 2019\n - Codex épreuve TNAF0191\n - Saut Special\n - Catég
 orie(s) : U7 a U13 (Filles)\n - Le dimanche 28 juillet 2019\n - Codex épreu
 ve TNAM0192\n - Saut Special\n - Catégorie(s) : U7 a U13 (Garçons)\n - Le d
 imanche 28 juillet 2019\n - Codex épreuve TNAF0192\n - Saut Special\n - Cat
 égorie(s) : U15 (Filles)\n - Le dimanche 28 juillet 2019\n - Codex épreuve 
 TNAM0193\n - Saut Special\n - Catégorie(s) : U15 (Garçons)\n - Voir les inf
 ormations dans l'agenda... (/index.php?option=com_jevents&amp;task=icaleven
 t.detail&amp;evid=1299&amp;Itemid=6289) Cet évènement a été importé depuis 
 :https://skivosges.net/agenda/a-venir/detailevenement/1304/-/tournee-des-vo
 sges-bussang?tmpl=component
X-ALT-DESC;FMTTYPE=text/html:<!-- #gskiepreuve code généré par le plugin jevents pour GskiEpreuves. Ne p
 as modifier cette ligne, ni tout le contenu suivant  #gskiepreuve --><div c
 lass="gski-evenement_infos"><div class="gski-evenement-nom">TOURNEE DES VOS
 GES BUSSANG</div><div class="gski-evenement-report"></div><ul class="gski-e
 venement-liste-infos"><li>Codex évenement TNAT0190</li><li>Station : BUSSAN
 G</li><li>Organisateur : 14007 UNION SPORTIVE BUSSANG</li></ul><div class="
 gski-evenement-infos-2"><div class="gski-evenement-info-inscriptions"><div 
 class="gski-evenement-inscriptions-periodes">Période d'inscription à l'evèn
 ement du dimanche 21 juillet 2019 à 00:00 au vendredi 26 juillet 2019 à 12:
 00 <span class="gski-evenement-inscriptions-impossibles">(Inscriptions impo
 ssibles).</span><div class="gski-evenement-inscriptions-types-titres">Inscr
 iptions ouvertes aux detenteurs des titres Fédéraux valides suivants : Lice
 nciés Compétiteurs et Titres Loisirs et Dirigeants</div></div></div><div cl
 ass="gski-evenement-epreuves"><div class="gski-evenement-epreuves-titres">E
 preuves :</div><ul class="gski-evenement-epreuves-list"><li><div class="gsk
 i-epreuve-date">Le dimanche 28 juillet 2019</div><ul class="gski-epreuve-li
 ste-infos"><li>Codex épreuve TNAM0191</li><li>Saut Special</li><li>Catégori
 e(s) : U7 a U13 (Garçons)</li></ul></li><li><div class="gski-epreuve-date">
 Le dimanche 28 juillet 2019</div><ul class="gski-epreuve-liste-infos"><li>C
 odex épreuve TNAF0191</li><li>Saut Special</li><li>Catégorie(s) : U7 a U13 
 (Filles)</li></ul></li><li><div class="gski-epreuve-date">Le dimanche 28 ju
 illet 2019</div><ul class="gski-epreuve-liste-infos"><li>Codex épreuve TNAM
 0192</li><li>Saut Special</li><li>Catégorie(s) : U7 a U13 (Garçons)</li></u
 l></li><li><div class="gski-epreuve-date">Le dimanche 28 juillet 2019</div>
 <ul class="gski-epreuve-liste-infos"><li>Codex épreuve TNAF0192</li><li>Sau
 t Special</li><li>Catégorie(s) : U15 (Filles)</li></ul></li><li><div class=
 "gski-epreuve-date">Le dimanche 28 juillet 2019</div><ul class="gski-epreuv
 e-liste-infos"><li>Codex épreuve TNAM0193</li><li>Saut Special</li><li>Caté
 gorie(s) : U15 (Garçons)</li></ul></li></ul></div><div class="gskiepreuves-
 links"><ul><li><a href="https://skivosges.net/index.php?option=com_jevents&
 task=icalevent.detail&evid=1299&Itemid=6289">Voir les informations dans l'a
 genda...</a></li></ul></div></div"><!-- #/gskiepreuve fin du dode généré pa
 r le plugin jevents pour GskiEpreuves. . Ne pas modifier cette ligne, ni to
 ut le contenu précedant.  #/gskiepreuve --> <a href="https://skivosges.net/
 agenda/a-venir/detailevenement/1304/-/tournee-des-vosges-bussang?tmpl=compo
 nent">Cet évènement a été importé depuis :https://skivosges.net/agenda/a-ve
 nir/detailevenement/1304/-/tournee-des-vosges-bussang?tmpl=component</a>DTSTAMP:20260423T174051
DTSTART;TZID=Europe/Paris;VALUE=DATE:20190728
DTEND;TZID=Europe/Paris;VALUE=DATE:20190729
SEQUENCE:0
TRANSP:OPAQUE
END:VEVENT
END:VCALENDAR