BEGIN:VCALENDAR
VERSION:2.0
PRODID:-//jEvents 2.0 for Joomla//EN
CALSCALE:GREGORIAN
METHOD:PUBLISH
BEGIN:VTIMEZONE
TZID:Europe/Paris
BEGIN:STANDARD
DTSTART:20181028T020000
RDATE:20190331T030000
TZOFFSETFROM:+0200
TZOFFSETTO:+0100
TZNAME:Europe/Paris CET
END:STANDARD
BEGIN:STANDARD
DTSTART:20191027T020000
RDATE:20200329T030000
TZOFFSETFROM:+0200
TZOFFSETTO:+0100
TZNAME:Europe/Paris CET
END:STANDARD
BEGIN:STANDARD
DTSTART:20201025T020000
RDATE:20210328T030000
TZOFFSETFROM:+0200
TZOFFSETTO:+0100
TZNAME:Europe/Paris CET
END:STANDARD
BEGIN:STANDARD
DTSTART:20211031T020000
RDATE:20220327T030000
TZOFFSETFROM:+0200
TZOFFSETTO:+0100
TZNAME:Europe/Paris CET
END:STANDARD
BEGIN:STANDARD
DTSTART:20221030T020000
RDATE:20230326T030000
TZOFFSETFROM:+0200
TZOFFSETTO:+0100
TZNAME:Europe/Paris CET
END:STANDARD
BEGIN:STANDARD
DTSTART:20231029T020000
RDATE:20240331T030000
TZOFFSETFROM:+0200
TZOFFSETTO:+0100
TZNAME:Europe/Paris CET
END:STANDARD
BEGIN:STANDARD
DTSTART:20241027T020000
RDATE:20250330T030000
TZOFFSETFROM:+0200
TZOFFSETTO:+0100
TZNAME:Europe/Paris CET
END:STANDARD
BEGIN:STANDARD
DTSTART:20251026T020000
RDATE:20260329T030000
TZOFFSETFROM:+0200
TZOFFSETTO:+0100
TZNAME:Europe/Paris CET
END:STANDARD
BEGIN:STANDARD
DTSTART:20261025T020000
RDATE:20270328T030000
TZOFFSETFROM:+0200
TZOFFSETTO:+0100
TZNAME:Europe/Paris CET
END:STANDARD
BEGIN:DAYLIGHT
DTSTART:20180716T000000
RDATE:20181028T020000
TZOFFSETFROM:+0100
TZOFFSETTO:+0200
TZNAME:Europe/Paris CEST
END:DAYLIGHT
BEGIN:DAYLIGHT
DTSTART:20190331T030000
RDATE:20191027T020000
TZOFFSETFROM:+0100
TZOFFSETTO:+0200
TZNAME:Europe/Paris CEST
END:DAYLIGHT
BEGIN:DAYLIGHT
DTSTART:20200329T030000
RDATE:20201025T020000
TZOFFSETFROM:+0100
TZOFFSETTO:+0200
TZNAME:Europe/Paris CEST
END:DAYLIGHT
BEGIN:DAYLIGHT
DTSTART:20210328T030000
RDATE:20211031T020000
TZOFFSETFROM:+0100
TZOFFSETTO:+0200
TZNAME:Europe/Paris CEST
END:DAYLIGHT
BEGIN:DAYLIGHT
DTSTART:20220327T030000
RDATE:20221030T020000
TZOFFSETFROM:+0100
TZOFFSETTO:+0200
TZNAME:Europe/Paris CEST
END:DAYLIGHT
BEGIN:DAYLIGHT
DTSTART:20230326T030000
RDATE:20231029T020000
TZOFFSETFROM:+0100
TZOFFSETTO:+0200
TZNAME:Europe/Paris CEST
END:DAYLIGHT
BEGIN:DAYLIGHT
DTSTART:20240331T030000
RDATE:20241027T020000
TZOFFSETFROM:+0100
TZOFFSETTO:+0200
TZNAME:Europe/Paris CEST
END:DAYLIGHT
BEGIN:DAYLIGHT
DTSTART:20250330T030000
RDATE:20251026T020000
TZOFFSETFROM:+0100
TZOFFSETTO:+0200
TZNAME:Europe/Paris CEST
END:DAYLIGHT
BEGIN:DAYLIGHT
DTSTART:20260329T030000
RDATE:20261025T020000
TZOFFSETFROM:+0100
TZOFFSETTO:+0200
TZNAME:Europe/Paris CEST
END:DAYLIGHT
END:VTIMEZONE
BEGIN:VEVENT
UID:64d44d751b113b5c161310bc0f1f882d
CATEGORIES:Compétition Saut
CREATED:20190816T090404
SUMMARY:COUPE DES VOSGES N°3
URL;VALUE=URI:https://skivosges.net/agenda/a-venir/detailevenement/1308/-/coupe-des-vosge
 s-n-3?tmpl=component
DESCRIPTION:COUPE DES VOSGES N°3\n - Codex évenement TMVT0120\n - Station : BUSSANG\n -
  Organisateur : 14007 UNION SPORTIVE BUSSANG\n - Courriel : RegularLabs.Ema
 ilProtector.unCloak("ep_c82fbd1f");\n - Délégué Technique : FRANCOIS JEAN P
 IERREPériode d'inscription à l'evènement du mercredi 10 juillet 2019 à 00:0
 0 au lundi 15 juillet 2019 à 12:00 (Inscriptions impossibles).Inscriptions 
 ouvertes aux detenteurs des titres Fédéraux valides suivants : Licenciés Co
 mpétiteursEpreuves :\n - Le mercredi 17 juillet 2019\n - Codex épreuve TMVM
 0121\n - Saut Special\n - Catégorie(s) : Toutes les Categories (Garçons)\n 
 - Le mercredi 17 juillet 2019\n - Codex épreuve TMVF0121\n - Saut Special\n
  - Catégorie(s) : Toutes les Categories (Filles)\n - Le mercredi 17 juillet
  2019\n - Codex épreuve TMVF0122\n - Saut Special\n - Catégorie(s) : Senior
  (Dames)\n - Le mercredi 17 juillet 2019\n - Codex épreuve TMVM0122\n - Sau
 t Special\n - Catégorie(s) : Senior (Hommes)\n - Voir les informations dans
  l'agenda... (/index.php?option=com_jevents&amp;task=icalevent.detail&amp;e
 vid=1303&amp;Itemid=6289) Cet évènement a été importé depuis :https://skivo
 sges.net/agenda/a-venir/detailevenement/1308/-/coupe-des-vosges-n-3?tmpl=co
 mponent
X-ALT-DESC;FMTTYPE=text/html:<!-- #gskiepreuve code généré par le plugin jevents pour GskiEpreuves. Ne p
 as modifier cette ligne, ni tout le contenu suivant  #gskiepreuve --><div c
 lass="gski-evenement_infos"><div class="gski-evenement-nom">COUPE DES VOSGE
 S N°3</div><div class="gski-evenement-report"></div><ul class="gski-eveneme
 nt-liste-infos"><li>Codex évenement TMVT0120</li><li>Station : BUSSANG</li>
 <li>Organisateur : 14007 UNION SPORTIVE BUSSANG</li><li>Courriel : <!-- Cet
 te adresse électronique est protégée contre les robots spammeurs. --><span 
 class="cloaked_email ep_c82fbd1f"><span data-ep-b="&#114;" data-ep-a="&#109
 ;a&#120;&#105;&#109;"><span data-ep-b="d&#111;&#111;&#46;&#102;" data-ep-a=
 "e&#46;&#108;au"><span data-ep-a="r&#101;nt3" data-ep-b="&#64;w&#97;n&#97;"
 ></span></span></span></span><script>RegularLabs.EmailProtector.unCloak("ep
 _c82fbd1f");</script></li><li><span class="gski-evenement-obs">Délégué Tech
 nique : FRANCOIS JEAN PIERRE</span></li></ul><div class="gski-evenement-inf
 os-2"><div class="gski-evenement-info-inscriptions"><div class="gski-evenem
 ent-inscriptions-periodes">Période d'inscription à l'evènement du mercredi 
 10 juillet 2019 à 00:00 au lundi 15 juillet 2019 à 12:00 <span class="gski-
 evenement-inscriptions-impossibles">(Inscriptions impossibles).</span><div 
 class="gski-evenement-inscriptions-types-titres">Inscriptions ouvertes aux 
 detenteurs des titres Fédéraux valides suivants : Licenciés Compétiteurs</d
 iv></div></div><div class="gski-evenement-epreuves"><div class="gski-evenem
 ent-epreuves-titres">Epreuves :</div><ul class="gski-evenement-epreuves-lis
 t"><li><div class="gski-epreuve-date">Le mercredi 17 juillet 2019</div><ul 
 class="gski-epreuve-liste-infos"><li>Codex épreuve TMVM0121</li><li>Saut Sp
 ecial</li><li>Catégorie(s) : Toutes les Categories (Garçons)</li></ul></li>
 <li><div class="gski-epreuve-date">Le mercredi 17 juillet 2019</div><ul cla
 ss="gski-epreuve-liste-infos"><li>Codex épreuve TMVF0121</li><li>Saut Speci
 al</li><li>Catégorie(s) : Toutes les Categories (Filles)</li></ul></li><li>
 <div class="gski-epreuve-date">Le mercredi 17 juillet 2019</div><ul class="
 gski-epreuve-liste-infos"><li>Codex épreuve TMVF0122</li><li>Saut Special</
 li><li>Catégorie(s) : Senior (Dames)</li></ul></li><li><div class="gski-epr
 euve-date">Le mercredi 17 juillet 2019</div><ul class="gski-epreuve-liste-i
 nfos"><li>Codex épreuve TMVM0122</li><li>Saut Special</li><li>Catégorie(s) 
 : Senior (Hommes)</li></ul></li></ul></div><div class="gskiepreuves-links">
 <ul><li><a href="https://skivosges.net/index.php?option=com_jevents&task=ic
 alevent.detail&evid=1303&Itemid=6289">Voir les informations dans l'agenda..
 .</a></li></ul></div></div"><!-- #/gskiepreuve fin du dode généré par le pl
 ugin jevents pour GskiEpreuves. . Ne pas modifier cette ligne, ni tout le c
 ontenu précedant.  #/gskiepreuve --> <a href="https://skivosges.net/agenda/
 a-venir/detailevenement/1308/-/coupe-des-vosges-n-3?tmpl=component">Cet évè
 nement a été importé depuis :https://skivosges.net/agenda/a-venir/detaileve
 nement/1308/-/coupe-des-vosges-n-3?tmpl=component</a>DTSTAMP:20260423T174045
DTSTART;TZID=Europe/Paris;VALUE=DATE:20190717
DTEND;TZID=Europe/Paris;VALUE=DATE:20190718
SEQUENCE:0
TRANSP:OPAQUE
END:VEVENT
END:VCALENDAR