BEGIN:VCALENDAR
VERSION:2.0
PRODID:-//jEvents 2.0 for Joomla//EN
CALSCALE:GREGORIAN
METHOD:PUBLISH
BEGIN:VTIMEZONE
TZID:Europe/Paris
BEGIN:STANDARD
DTSTART:20181028T020000
RDATE:20190331T030000
TZOFFSETFROM:+0200
TZOFFSETTO:+0100
TZNAME:Europe/Paris CET
END:STANDARD
BEGIN:STANDARD
DTSTART:20191027T020000
RDATE:20200329T030000
TZOFFSETFROM:+0200
TZOFFSETTO:+0100
TZNAME:Europe/Paris CET
END:STANDARD
BEGIN:STANDARD
DTSTART:20201025T020000
RDATE:20210328T030000
TZOFFSETFROM:+0200
TZOFFSETTO:+0100
TZNAME:Europe/Paris CET
END:STANDARD
BEGIN:STANDARD
DTSTART:20211031T020000
RDATE:20220327T030000
TZOFFSETFROM:+0200
TZOFFSETTO:+0100
TZNAME:Europe/Paris CET
END:STANDARD
BEGIN:STANDARD
DTSTART:20221030T020000
RDATE:20230326T030000
TZOFFSETFROM:+0200
TZOFFSETTO:+0100
TZNAME:Europe/Paris CET
END:STANDARD
BEGIN:STANDARD
DTSTART:20231029T020000
RDATE:20240331T030000
TZOFFSETFROM:+0200
TZOFFSETTO:+0100
TZNAME:Europe/Paris CET
END:STANDARD
BEGIN:STANDARD
DTSTART:20241027T020000
RDATE:20250330T030000
TZOFFSETFROM:+0200
TZOFFSETTO:+0100
TZNAME:Europe/Paris CET
END:STANDARD
BEGIN:STANDARD
DTSTART:20251026T020000
RDATE:20260329T030000
TZOFFSETFROM:+0200
TZOFFSETTO:+0100
TZNAME:Europe/Paris CET
END:STANDARD
BEGIN:STANDARD
DTSTART:20261025T020000
RDATE:20270328T030000
TZOFFSETFROM:+0200
TZOFFSETTO:+0100
TZNAME:Europe/Paris CET
END:STANDARD
BEGIN:DAYLIGHT
DTSTART:20180716T000000
RDATE:20181028T020000
TZOFFSETFROM:+0100
TZOFFSETTO:+0200
TZNAME:Europe/Paris CEST
END:DAYLIGHT
BEGIN:DAYLIGHT
DTSTART:20190331T030000
RDATE:20191027T020000
TZOFFSETFROM:+0100
TZOFFSETTO:+0200
TZNAME:Europe/Paris CEST
END:DAYLIGHT
BEGIN:DAYLIGHT
DTSTART:20200329T030000
RDATE:20201025T020000
TZOFFSETFROM:+0100
TZOFFSETTO:+0200
TZNAME:Europe/Paris CEST
END:DAYLIGHT
BEGIN:DAYLIGHT
DTSTART:20210328T030000
RDATE:20211031T020000
TZOFFSETFROM:+0100
TZOFFSETTO:+0200
TZNAME:Europe/Paris CEST
END:DAYLIGHT
BEGIN:DAYLIGHT
DTSTART:20220327T030000
RDATE:20221030T020000
TZOFFSETFROM:+0100
TZOFFSETTO:+0200
TZNAME:Europe/Paris CEST
END:DAYLIGHT
BEGIN:DAYLIGHT
DTSTART:20230326T030000
RDATE:20231029T020000
TZOFFSETFROM:+0100
TZOFFSETTO:+0200
TZNAME:Europe/Paris CEST
END:DAYLIGHT
BEGIN:DAYLIGHT
DTSTART:20240331T030000
RDATE:20241027T020000
TZOFFSETFROM:+0100
TZOFFSETTO:+0200
TZNAME:Europe/Paris CEST
END:DAYLIGHT
BEGIN:DAYLIGHT
DTSTART:20250330T030000
RDATE:20251026T020000
TZOFFSETFROM:+0100
TZOFFSETTO:+0200
TZNAME:Europe/Paris CEST
END:DAYLIGHT
BEGIN:DAYLIGHT
DTSTART:20260329T030000
RDATE:20261025T020000
TZOFFSETFROM:+0100
TZOFFSETTO:+0200
TZNAME:Europe/Paris CEST
END:DAYLIGHT
END:VTIMEZONE
BEGIN:VEVENT
UID:4d71bda1998cc3bdb5e862a23cb8ecd1
CATEGORIES:Combiné Nordique
CREATED:20190816T090404
SUMMARY:COUPE DES VOSGES CN N°3
URL;VALUE=URI:https://skivosges.net/agenda/a-venir/detailevenement/1309/-/coupe-des-vosge
 s-cn-n-3?tmpl=component
DESCRIPTION:COUPE DES VOSGES CN N°3\n - Codex évenement CMVT0030\n - Station : BUSSANG 
 LARCENAIRE\n - Organisateur : 14007 UNION SPORTIVE BUSSANG\n - Courriel : R
 egularLabs.EmailProtector.unCloak("ep_b4dbe327");\n - Délégué Technique : F
 RANCOIS JEAN PIERREPériode d'inscription à l'evènement du mercredi 10 juill
 et 2019 à 00:00 au lundi 15 juillet 2019 à 12:00 (Inscriptions impossibles)
 .Inscriptions ouvertes aux detenteurs des titres Fédéraux valides suivants 
 : Licenciés CompétiteursEpreuves :\n - Le mercredi 17 juillet 2019\n - Code
 x épreuve CMVM0031\n - Saut du Combine Nordique\n - Catégorie(s) : U7 a U20
  (Garçons)\n - Le mercredi 17 juillet 2019\n - Codex épreuve CMVF0031\n - S
 aut du Combine Nordique\n - Catégorie(s) : U7 a U20 (Filles)\n - Le mercred
 i 17 juillet 2019\n - Codex épreuve CMVF0032\n - Saut du Combine Nordique\n
  - Catégorie(s) : Senior (Dames)\n - Le mercredi 17 juillet 2019\n - Codex 
 épreuve CMVM0032\n - Saut du Combine Nordique\n - Catégorie(s) : Senior (Ho
 mmes)\n - Voir les informations dans l'agenda... (/index.php?option=com_jev
 ents&amp;task=icalevent.detail&amp;evid=1304&amp;Itemid=6289) Cet évènement
  a été importé depuis :https://skivosges.net/agenda/a-venir/detailevenement
 /1309/-/coupe-des-vosges-cn-n-3?tmpl=component
X-ALT-DESC;FMTTYPE=text/html:<!-- #gskiepreuve code généré par le plugin jevents pour GskiEpreuves. Ne p
 as modifier cette ligne, ni tout le contenu suivant  #gskiepreuve --><div c
 lass="gski-evenement_infos"><div class="gski-evenement-nom">COUPE DES VOSGE
 S CN N°3</div><div class="gski-evenement-report"></div><ul class="gski-even
 ement-liste-infos"><li>Codex évenement CMVT0030</li><li>Station : BUSSANG L
 ARCENAIRE</li><li>Organisateur : 14007 UNION SPORTIVE BUSSANG</li><li>Courr
 iel : <!-- Cette adresse électronique est protégée contre les robots spamme
 urs. --><span class="cloaked_email ep_b4dbe327"><span data-ep-a="&#109;&#97
 ;&#120;&#105;&#109;" data-ep-b="r"><span data-ep-b="&#100;oo&#46;f" data-ep
 -a="e.&#108;a&#117;"><span data-ep-b="&#64;&#119;&#97;&#110;&#97;" data-ep-
 a="ren&#116;&#51;"></span></span></span></span><script>RegularLabs.EmailPro
 tector.unCloak("ep_b4dbe327");</script></li><li><span class="gski-evenement
 -obs">Délégué Technique : FRANCOIS JEAN PIERRE</span></li></ul><div class="
 gski-evenement-infos-2"><div class="gski-evenement-info-inscriptions"><div 
 class="gski-evenement-inscriptions-periodes">Période d'inscription à l'evèn
 ement du mercredi 10 juillet 2019 à 00:00 au lundi 15 juillet 2019 à 12:00 
 <span class="gski-evenement-inscriptions-impossibles">(Inscriptions impossi
 bles).</span><div class="gski-evenement-inscriptions-types-titres">Inscript
 ions ouvertes aux detenteurs des titres Fédéraux valides suivants : Licenci
 és Compétiteurs</div></div></div><div class="gski-evenement-epreuves"><div 
 class="gski-evenement-epreuves-titres">Epreuves :</div><ul class="gski-even
 ement-epreuves-list"><li><div class="gski-epreuve-date">Le mercredi 17 juil
 let 2019</div><ul class="gski-epreuve-liste-infos"><li>Codex épreuve CMVM00
 31</li><li>Saut du Combine Nordique</li><li>Catégorie(s) : U7 a U20 (Garçon
 s)</li></ul></li><li><div class="gski-epreuve-date">Le mercredi 17 juillet 
 2019</div><ul class="gski-epreuve-liste-infos"><li>Codex épreuve CMVF0031</
 li><li>Saut du Combine Nordique</li><li>Catégorie(s) : U7 a U20 (Filles)</l
 i></ul></li><li><div class="gski-epreuve-date">Le mercredi 17 juillet 2019<
 /div><ul class="gski-epreuve-liste-infos"><li>Codex épreuve CMVF0032</li><l
 i>Saut du Combine Nordique</li><li>Catégorie(s) : Senior (Dames)</li></ul><
 /li><li><div class="gski-epreuve-date">Le mercredi 17 juillet 2019</div><ul
  class="gski-epreuve-liste-infos"><li>Codex épreuve CMVM0032</li><li>Saut d
 u Combine Nordique</li><li>Catégorie(s) : Senior (Hommes)</li></ul></li></u
 l></div><div class="gskiepreuves-links"><ul><li><a href="https://skivosges.
 net/index.php?option=com_jevents&task=icalevent.detail&evid=1304&Itemid=628
 9">Voir les informations dans l'agenda...</a></li></ul></div></div"><!-- #/
 gskiepreuve fin du dode généré par le plugin jevents pour GskiEpreuves. . N
 e pas modifier cette ligne, ni tout le contenu précedant.  #/gskiepreuve --
 > <a href="https://skivosges.net/agenda/a-venir/detailevenement/1309/-/coup
 e-des-vosges-cn-n-3?tmpl=component">Cet évènement a été importé depuis :htt
 ps://skivosges.net/agenda/a-venir/detailevenement/1309/-/coupe-des-vosges-c
 n-n-3?tmpl=component</a>DTSTAMP:20260423T174042
DTSTART;TZID=Europe/Paris;VALUE=DATE:20190717
DTEND;TZID=Europe/Paris;VALUE=DATE:20190718
SEQUENCE:0
TRANSP:OPAQUE
END:VEVENT
END:VCALENDAR