BEGIN:VCALENDAR
VERSION:2.0
PRODID:-//jEvents 2.0 for Joomla//EN
CALSCALE:GREGORIAN
METHOD:PUBLISH
BEGIN:VTIMEZONE
TZID:Europe/Paris
BEGIN:STANDARD
DTSTART:20130214T080000
RDATE:20130331T030000
TZOFFSETFROM:+0200
TZOFFSETTO:+0100
TZNAME:Europe/Paris CET
END:STANDARD
BEGIN:STANDARD
DTSTART:20131027T020000
RDATE:20140330T030000
TZOFFSETFROM:+0200
TZOFFSETTO:+0100
TZNAME:Europe/Paris CET
END:STANDARD
BEGIN:STANDARD
DTSTART:20141026T020000
RDATE:20150329T030000
TZOFFSETFROM:+0200
TZOFFSETTO:+0100
TZNAME:Europe/Paris CET
END:STANDARD
BEGIN:STANDARD
DTSTART:20151025T020000
RDATE:20160327T030000
TZOFFSETFROM:+0200
TZOFFSETTO:+0100
TZNAME:Europe/Paris CET
END:STANDARD
BEGIN:STANDARD
DTSTART:20161030T020000
RDATE:20170326T030000
TZOFFSETFROM:+0200
TZOFFSETTO:+0100
TZNAME:Europe/Paris CET
END:STANDARD
BEGIN:STANDARD
DTSTART:20171029T020000
RDATE:20180325T030000
TZOFFSETFROM:+0200
TZOFFSETTO:+0100
TZNAME:Europe/Paris CET
END:STANDARD
BEGIN:STANDARD
DTSTART:20181028T020000
RDATE:20190331T030000
TZOFFSETFROM:+0200
TZOFFSETTO:+0100
TZNAME:Europe/Paris CET
END:STANDARD
BEGIN:STANDARD
DTSTART:20191027T020000
RDATE:20200329T030000
TZOFFSETFROM:+0200
TZOFFSETTO:+0100
TZNAME:Europe/Paris CET
END:STANDARD
BEGIN:STANDARD
DTSTART:20201025T020000
RDATE:20210328T030000
TZOFFSETFROM:+0200
TZOFFSETTO:+0100
TZNAME:Europe/Paris CET
END:STANDARD
BEGIN:STANDARD
DTSTART:20211031T020000
RDATE:20220327T030000
TZOFFSETFROM:+0200
TZOFFSETTO:+0100
TZNAME:Europe/Paris CET
END:STANDARD
BEGIN:STANDARD
DTSTART:20221030T020000
RDATE:20230326T030000
TZOFFSETFROM:+0200
TZOFFSETTO:+0100
TZNAME:Europe/Paris CET
END:STANDARD
BEGIN:STANDARD
DTSTART:20231029T020000
RDATE:20240331T030000
TZOFFSETFROM:+0200
TZOFFSETTO:+0100
TZNAME:Europe/Paris CET
END:STANDARD
BEGIN:STANDARD
DTSTART:20241027T020000
RDATE:20250330T030000
TZOFFSETFROM:+0200
TZOFFSETTO:+0100
TZNAME:Europe/Paris CET
END:STANDARD
BEGIN:STANDARD
DTSTART:20251026T020000
RDATE:20260329T030000
TZOFFSETFROM:+0200
TZOFFSETTO:+0100
TZNAME:Europe/Paris CET
END:STANDARD
BEGIN:STANDARD
DTSTART:20261025T020000
RDATE:20270328T030000
TZOFFSETFROM:+0200
TZOFFSETTO:+0100
TZNAME:Europe/Paris CET
END:STANDARD
BEGIN:DAYLIGHT
DTSTART:20130331T030000
RDATE:20131027T020000
TZOFFSETFROM:+0100
TZOFFSETTO:+0200
TZNAME:Europe/Paris CEST
END:DAYLIGHT
BEGIN:DAYLIGHT
DTSTART:20140330T030000
RDATE:20141026T020000
TZOFFSETFROM:+0100
TZOFFSETTO:+0200
TZNAME:Europe/Paris CEST
END:DAYLIGHT
BEGIN:DAYLIGHT
DTSTART:20150329T030000
RDATE:20151025T020000
TZOFFSETFROM:+0100
TZOFFSETTO:+0200
TZNAME:Europe/Paris CEST
END:DAYLIGHT
BEGIN:DAYLIGHT
DTSTART:20160327T030000
RDATE:20161030T020000
TZOFFSETFROM:+0100
TZOFFSETTO:+0200
TZNAME:Europe/Paris CEST
END:DAYLIGHT
BEGIN:DAYLIGHT
DTSTART:20170326T030000
RDATE:20171029T020000
TZOFFSETFROM:+0100
TZOFFSETTO:+0200
TZNAME:Europe/Paris CEST
END:DAYLIGHT
BEGIN:DAYLIGHT
DTSTART:20180325T030000
RDATE:20181028T020000
TZOFFSETFROM:+0100
TZOFFSETTO:+0200
TZNAME:Europe/Paris CEST
END:DAYLIGHT
BEGIN:DAYLIGHT
DTSTART:20190331T030000
RDATE:20191027T020000
TZOFFSETFROM:+0100
TZOFFSETTO:+0200
TZNAME:Europe/Paris CEST
END:DAYLIGHT
BEGIN:DAYLIGHT
DTSTART:20200329T030000
RDATE:20201025T020000
TZOFFSETFROM:+0100
TZOFFSETTO:+0200
TZNAME:Europe/Paris CEST
END:DAYLIGHT
BEGIN:DAYLIGHT
DTSTART:20210328T030000
RDATE:20211031T020000
TZOFFSETFROM:+0100
TZOFFSETTO:+0200
TZNAME:Europe/Paris CEST
END:DAYLIGHT
BEGIN:DAYLIGHT
DTSTART:20220327T030000
RDATE:20221030T020000
TZOFFSETFROM:+0100
TZOFFSETTO:+0200
TZNAME:Europe/Paris CEST
END:DAYLIGHT
BEGIN:DAYLIGHT
DTSTART:20230326T030000
RDATE:20231029T020000
TZOFFSETFROM:+0100
TZOFFSETTO:+0200
TZNAME:Europe/Paris CEST
END:DAYLIGHT
BEGIN:DAYLIGHT
DTSTART:20240331T030000
RDATE:20241027T020000
TZOFFSETFROM:+0100
TZOFFSETTO:+0200
TZNAME:Europe/Paris CEST
END:DAYLIGHT
BEGIN:DAYLIGHT
DTSTART:20250330T030000
RDATE:20251026T020000
TZOFFSETFROM:+0100
TZOFFSETTO:+0200
TZNAME:Europe/Paris CEST
END:DAYLIGHT
BEGIN:DAYLIGHT
DTSTART:20260329T030000
RDATE:20261025T020000
TZOFFSETFROM:+0100
TZOFFSETTO:+0200
TZNAME:Europe/Paris CEST
END:DAYLIGHT
END:VTIMEZONE
BEGIN:VEVENT
UID:8f6b1e6158509036c03f890175561495
CATEGORIES:Autres Épreuves (alpin)
CREATED:20131203T122100
SUMMARY:Ski Chrono National Tour Technique Markstein - Lac Blanc **REPORTE**
URL;VALUE=URI:https://skivosges.net/agenda/a-venir/detailevenement/133/-/ski-chrono-natio
 nal-tour-technique-markstein-lac-blanc-reporte?tmpl=component
DESCRIPTION:Ski Chrono National Tour Technique Markstein - Lac Blanc (Epreuve reportée,
  date à determiner)\nEmail : RegularLabs.EmailProtector.unCloak("ep_6f57a7c
 7");\nTelecopie : 03.89.82.23.60\n  Piste:Markstein - Lac Blanc\n - Le 15/0
 2/2014\n5696  Slalom Toutes categories Dames\n  Ski Chrono National Tour Te
 chnique Markstein - Lac Blanc\n  Piste:Markstein - Lac Blanc\n - Le 16/02/2
 014\n5698  Slalom Toutes categories Dames\n  Ski Chrono National Tour Techn
 ique Markstein - Lac Blanc\n  Piste:Markstein - Lac Blanc\n - Le 17/02/2014
 \n5699  Slalom Geant Toutes categories Dames\n  Ski Chrono National Tour Te
 chnique Markstein - Lac Blanc\n  Piste:Markstein - Lac Blanc\n - Le 18/02/2
 014\n5700  Slalom Geant Toutes categories Dames\n  Ski Chrono National Tour
  Technique Markstein - Lac Blanc Cet évènement a été importé depuis :https:
 //skivosges.net/agenda/a-venir/detailevenement/133/-/ski-chrono-national-to
 ur-technique-markstein-lac-blanc-reporte?tmpl=component
X-ALT-DESC;FMTTYPE=text/html:<strong>Ski Chrono National Tour Technique Markstein - Lac Blanc</strong> <
 font class="attention4">(Epreuve reportée, date à determiner)</font><br />E
 mail : <!-- Cette adresse électronique est protégée contre les robots spamm
 eurs. --><span class="cloaked_email ep_6f57a7c7"><span data-ep-b="&#101;&#4
 6;&#102;&#114;" data-ep-a="klin"><span data-ep-a="&#103;&#101;ls" data-ep-b
 ="&#64;&#102;r&#101;"><span data-ep-a="&#99;h&#109;&#105;" data-ep-b="&#100
 ;t.&#103;"></span></span></span></span><script>RegularLabs.EmailProtector.u
 nCloak("ep_6f57a7c7");</script><br />Telecopie : 03.89.82.23.60<ul type="di
 sc"><br />&nbsp;&nbsp;Piste:Markstein - Lac Blanc<li><nobr>Le 15/02/2014</n
 obr><br />5696  Slalom <nobr>Toutes categories</nobr> Dames<br />&nbsp;&nbs
 p;Ski Chrono National Tour Technique Markstein - Lac Blanc</li><br />&nbsp;
 &nbsp;Piste:Markstein - Lac Blanc<li><nobr>Le 16/02/2014</nobr><br />5698  
 Slalom <nobr>Toutes categories</nobr> Dames<br />&nbsp;&nbsp;Ski Chrono Nat
 ional Tour Technique Markstein - Lac Blanc</li><br />&nbsp;&nbsp;Piste:Mark
 stein - Lac Blanc<li><nobr>Le 17/02/2014</nobr><br />5699  Slalom Geant <no
 br>Toutes categories</nobr> Dames<br />&nbsp;&nbsp;Ski Chrono National Tour
  Technique Markstein - Lac Blanc</li><br />&nbsp;&nbsp;Piste:Markstein - La
 c Blanc<li><nobr>Le 18/02/2014</nobr><br />5700  Slalom Geant <nobr>Toutes 
 categories</nobr> Dames<br />&nbsp;&nbsp;Ski Chrono National Tour Technique
  Markstein - Lac Blanc</li></ul> <a href="https://skivosges.net/agenda/a-ve
 nir/detailevenement/133/-/ski-chrono-national-tour-technique-markstein-lac-
 blanc-reporte?tmpl=component">Cet évènement a été importé depuis :https://s
 kivosges.net/agenda/a-venir/detailevenement/133/-/ski-chrono-national-tour-
 technique-markstein-lac-blanc-reporte?tmpl=component</a>DTSTAMP:20260424T030350
DTSTART;TZID=Europe/Paris:20140215T080000
DTEND;TZID=Europe/Paris:20140218T170000
SEQUENCE:0
TRANSP:OPAQUE
END:VEVENT
END:VCALENDAR