BEGIN:VCALENDAR
VERSION:2.0
PRODID:-//jEvents 2.0 for Joomla//EN
CALSCALE:GREGORIAN
METHOD:PUBLISH
BEGIN:VTIMEZONE
TZID:Europe/Paris
BEGIN:STANDARD
DTSTART:20181214T000000
RDATE:20190331T030000
TZOFFSETFROM:+0200
TZOFFSETTO:+0100
TZNAME:Europe/Paris CET
END:STANDARD
BEGIN:STANDARD
DTSTART:20191027T020000
RDATE:20200329T030000
TZOFFSETFROM:+0200
TZOFFSETTO:+0100
TZNAME:Europe/Paris CET
END:STANDARD
BEGIN:STANDARD
DTSTART:20201025T020000
RDATE:20210328T030000
TZOFFSETFROM:+0200
TZOFFSETTO:+0100
TZNAME:Europe/Paris CET
END:STANDARD
BEGIN:STANDARD
DTSTART:20211031T020000
RDATE:20220327T030000
TZOFFSETFROM:+0200
TZOFFSETTO:+0100
TZNAME:Europe/Paris CET
END:STANDARD
BEGIN:STANDARD
DTSTART:20221030T020000
RDATE:20230326T030000
TZOFFSETFROM:+0200
TZOFFSETTO:+0100
TZNAME:Europe/Paris CET
END:STANDARD
BEGIN:STANDARD
DTSTART:20231029T020000
RDATE:20240331T030000
TZOFFSETFROM:+0200
TZOFFSETTO:+0100
TZNAME:Europe/Paris CET
END:STANDARD
BEGIN:STANDARD
DTSTART:20241027T020000
RDATE:20250330T030000
TZOFFSETFROM:+0200
TZOFFSETTO:+0100
TZNAME:Europe/Paris CET
END:STANDARD
BEGIN:STANDARD
DTSTART:20251026T020000
RDATE:20260329T030000
TZOFFSETFROM:+0200
TZOFFSETTO:+0100
TZNAME:Europe/Paris CET
END:STANDARD
BEGIN:STANDARD
DTSTART:20261025T020000
RDATE:20270328T030000
TZOFFSETFROM:+0200
TZOFFSETTO:+0100
TZNAME:Europe/Paris CET
END:STANDARD
BEGIN:DAYLIGHT
DTSTART:20190331T030000
RDATE:20191027T020000
TZOFFSETFROM:+0100
TZOFFSETTO:+0200
TZNAME:Europe/Paris CEST
END:DAYLIGHT
BEGIN:DAYLIGHT
DTSTART:20200329T030000
RDATE:20201025T020000
TZOFFSETFROM:+0100
TZOFFSETTO:+0200
TZNAME:Europe/Paris CEST
END:DAYLIGHT
BEGIN:DAYLIGHT
DTSTART:20210328T030000
RDATE:20211031T020000
TZOFFSETFROM:+0100
TZOFFSETTO:+0200
TZNAME:Europe/Paris CEST
END:DAYLIGHT
BEGIN:DAYLIGHT
DTSTART:20220327T030000
RDATE:20221030T020000
TZOFFSETFROM:+0100
TZOFFSETTO:+0200
TZNAME:Europe/Paris CEST
END:DAYLIGHT
BEGIN:DAYLIGHT
DTSTART:20230326T030000
RDATE:20231029T020000
TZOFFSETFROM:+0100
TZOFFSETTO:+0200
TZNAME:Europe/Paris CEST
END:DAYLIGHT
BEGIN:DAYLIGHT
DTSTART:20240331T030000
RDATE:20241027T020000
TZOFFSETFROM:+0100
TZOFFSETTO:+0200
TZNAME:Europe/Paris CEST
END:DAYLIGHT
BEGIN:DAYLIGHT
DTSTART:20250330T030000
RDATE:20251026T020000
TZOFFSETFROM:+0100
TZOFFSETTO:+0200
TZNAME:Europe/Paris CEST
END:DAYLIGHT
BEGIN:DAYLIGHT
DTSTART:20260329T030000
RDATE:20261025T020000
TZOFFSETFROM:+0100
TZOFFSETTO:+0200
TZNAME:Europe/Paris CEST
END:DAYLIGHT
END:VTIMEZONE
BEGIN:VEVENT
UID:6be1fa8d978837146f0fbb121c2db617
CATEGORIES:Compétition Biathlon
CREATED:20191111T130349
SUMMARY:BIATHLON REGIONAL 50m CREDIT MUTUEL / TGL /SALOMON *** ANNULE(E) ***
URL;VALUE=URI:https://skivosges.net/agenda/a-venir/detailevenement/1331/-/biathlon-region
 al-50m-credit-mutuel-tgl-salomon-annule-e?tmpl=component
DESCRIPTION:BIATHLON REGIONAL 50m CREDIT MUTUEL / TGL /SALOMON (Epreuve annulée)\n - Co
 dex évenement BMVT0010\n - Lieu : stade de biathlon des Bottelets\n - Stati
 on : CHAMP DU FEU\n - Piste : biathlon\n - Organisateur : 14448 MOLSHEIM SK
 I NORDIQUE\n - Courriel : RegularLabs.EmailProtector.unCloak("ep_9baf1d05")
 ;\n - Délégué Technique : CLAUDE CHRISTINEPériode d'inscription à l'evèneme
 nt du dimanche 08 décembre 2019 à 18:00 au vendredi 13 décembre 2019 à 20:0
 0 (Inscriptions impossibles).Inscriptions ouvertes aux detenteurs des titre
 s Fédéraux valides suivants : Licenciés CompétiteursEpreuves :\n - Le diman
 che 15 décembre 2019 à 09:30\n - Codex épreuve BMVF0011\n - Mass start\n - 
 Catégorie(s) : U15/U17 (Filles)\n - Le dimanche 15 décembre 2019 à 09:30\n 
 - Codex épreuve BMVM0011\n - Mass start\n - Catégorie(s) : U15/U17 (Garçons
 )\n - Le dimanche 15 décembre 2019 à 09:30\n - Codex épreuve BMVF0012\n - M
 ass start\n - Catégorie(s) : U19 a SEN (Dames)\n - Le dimanche 15 décembre 
 2019 à 09:30\n - Codex épreuve BMVM0012\n - Mass start\n - Catégorie(s) : U
 19 a SEN (Hommes)\n - Voir les informations dans l'agenda... (/index.php?op
 tion=com_jevents&amp;task=icalevent.detail&amp;evid=1326&amp;Itemid=6289)\n
  - Publications concernant cet évènement :\n - Vendredi 13 Décembre 2019 à 
 16:41 : Le 15/12/2019 CHAMP DU FEU Informations Cet évènement a été importé
  depuis :https://skivosges.net/agenda/a-venir/detailevenement/1331/-/biathl
 on-regional-50m-credit-mutuel-tgl-salomon-annule-e?tmpl=component
X-ALT-DESC;FMTTYPE=text/html:<!-- #gskiepreuve code généré par le plugin jevents pour GskiEpreuves. Ne p
 as modifier cette ligne, ni tout le contenu suivant  #gskiepreuve --><div c
 lass="gski-evenement_infos"><div class="gski-evenement-nom">BIATHLON REGION
 AL 50m CREDIT MUTUEL / TGL /SALOMON</div><div class="gski-evenement-report"
 > <font class="gskiattention">(Epreuve annulée)</font></div><ul class="gski
 -evenement-liste-infos"><li>Codex évenement BMVT0010</li><li>Lieu : stade d
 e biathlon des Bottelets</li><li>Station : CHAMP DU FEU</li><li>Piste : bia
 thlon</li><li>Organisateur : 14448 MOLSHEIM SKI NORDIQUE</li><li>Courriel :
  <!-- Cette adresse électronique est protégée contre les robots spammeurs. 
 --><span class="cloaked_email ep_9baf1d05"><span data-ep-a="&#112;&#105;&#1
 01;r&#114;e" data-ep-b="&#46;fr"><span data-ep-b="i&#99;&#97;&#98;&#108;&#1
 01;" data-ep-a="&#45;&#99;h&#97;r&#98;"><span data-ep-b="&#64;&#110;&#117;&
 #109;&#101;&#114;" data-ep-a="o&#110;&#110;&#105;er"></span></span></span><
 /span><script>RegularLabs.EmailProtector.unCloak("ep_9baf1d05");</script></
 li><li><span class="gski-evenement-obs">Délégué Technique : CLAUDE CHRISTIN
 E</span></li></ul><div class="gski-evenement-infos-2"><div class="gski-even
 ement-info-inscriptions"><div class="gski-evenement-inscriptions-periodes">
 Période d'inscription à l'evènement du dimanche 08 décembre 2019 à 18:00 au
  vendredi 13 décembre 2019 à 20:00 <span class="gski-evenement-inscriptions
 -impossibles">(Inscriptions impossibles).</span><div class="gski-evenement-
 inscriptions-types-titres">Inscriptions ouvertes aux detenteurs des titres 
 Fédéraux valides suivants : Licenciés Compétiteurs</div></div></div><div cl
 ass="gski-evenement-epreuves"><div class="gski-evenement-epreuves-titres">E
 preuves :</div><ul class="gski-evenement-epreuves-list"><li><div class="gsk
 i-epreuve-date">Le dimanche 15 décembre 2019 à 09:30</div><ul class="gski-e
 preuve-liste-infos"><li>Codex épreuve BMVF0011</li><li>Mass start</li><li>C
 atégorie(s) : U15/U17 (Filles)</li></ul></li><li><div class="gski-epreuve-d
 ate">Le dimanche 15 décembre 2019 à 09:30</div><ul class="gski-epreuve-list
 e-infos"><li>Codex épreuve BMVM0011</li><li>Mass start</li><li>Catégorie(s)
  : U15/U17 (Garçons)</li></ul></li><li><div class="gski-epreuve-date">Le di
 manche 15 décembre 2019 à 09:30</div><ul class="gski-epreuve-liste-infos"><
 li>Codex épreuve BMVF0012</li><li>Mass start</li><li>Catégorie(s) : U19 a S
 EN (Dames)</li></ul></li><li><div class="gski-epreuve-date">Le dimanche 15 
 décembre 2019 à 09:30</div><ul class="gski-epreuve-liste-infos"><li>Codex é
 preuve BMVM0012</li><li>Mass start</li><li>Catégorie(s) : U19 a SEN (Hommes
 )</li></ul></li></ul></div><div class="gskiepreuves-links"><ul><li><a href=
 "https://skivosges.net/index.php?option=com_jevents&task=icalevent.detail&e
 vid=1326&Itemid=6289">Voir les informations dans l'agenda...</a></li><li>Pu
 blications concernant cet évènement :<ul><li><a href="https://skivosges.net
 /index.php?option=com_content&view=article&id=6992&Itemid=6289">Vendredi 13
  Décembre 2019 à 16:41 : Le 15/12/2019 CHAMP DU FEU Informations</a></li></
 ul></li></ul></div></div"><!-- #/gskiepreuve fin du dode généré par le plug
 in jevents pour GskiEpreuves. . Ne pas modifier cette ligne, ni tout le con
 tenu précedant.  #/gskiepreuve --> <a href="https://skivosges.net/agenda/a-
 venir/detailevenement/1331/-/biathlon-regional-50m-credit-mutuel-tgl-salomo
 n-annule-e?tmpl=component">Cet évènement a été importé depuis :https://skiv
 osges.net/agenda/a-venir/detailevenement/1331/-/biathlon-regional-50m-credi
 t-mutuel-tgl-salomon-annule-e?tmpl=component</a>DTSTAMP:20260423T142753
DTSTART;TZID=Europe/Paris;VALUE=DATE:20191215
DTEND;TZID=Europe/Paris;VALUE=DATE:20191216
SEQUENCE:0
TRANSP:OPAQUE
END:VEVENT
END:VCALENDAR