BEGIN:VCALENDAR
VERSION:2.0
PRODID:-//jEvents 2.0 for Joomla//EN
CALSCALE:GREGORIAN
METHOD:PUBLISH
BEGIN:VTIMEZONE
TZID:Europe/Paris
BEGIN:STANDARD
DTSTART:20181220T000000
RDATE:20190331T030000
TZOFFSETFROM:+0200
TZOFFSETTO:+0100
TZNAME:Europe/Paris CET
END:STANDARD
BEGIN:STANDARD
DTSTART:20191027T020000
RDATE:20200329T030000
TZOFFSETFROM:+0200
TZOFFSETTO:+0100
TZNAME:Europe/Paris CET
END:STANDARD
BEGIN:STANDARD
DTSTART:20201025T020000
RDATE:20210328T030000
TZOFFSETFROM:+0200
TZOFFSETTO:+0100
TZNAME:Europe/Paris CET
END:STANDARD
BEGIN:STANDARD
DTSTART:20211031T020000
RDATE:20220327T030000
TZOFFSETFROM:+0200
TZOFFSETTO:+0100
TZNAME:Europe/Paris CET
END:STANDARD
BEGIN:STANDARD
DTSTART:20221030T020000
RDATE:20230326T030000
TZOFFSETFROM:+0200
TZOFFSETTO:+0100
TZNAME:Europe/Paris CET
END:STANDARD
BEGIN:STANDARD
DTSTART:20231029T020000
RDATE:20240331T030000
TZOFFSETFROM:+0200
TZOFFSETTO:+0100
TZNAME:Europe/Paris CET
END:STANDARD
BEGIN:STANDARD
DTSTART:20241027T020000
RDATE:20250330T030000
TZOFFSETFROM:+0200
TZOFFSETTO:+0100
TZNAME:Europe/Paris CET
END:STANDARD
BEGIN:STANDARD
DTSTART:20251026T020000
RDATE:20260329T030000
TZOFFSETFROM:+0200
TZOFFSETTO:+0100
TZNAME:Europe/Paris CET
END:STANDARD
BEGIN:STANDARD
DTSTART:20261025T020000
RDATE:20270328T030000
TZOFFSETFROM:+0200
TZOFFSETTO:+0100
TZNAME:Europe/Paris CET
END:STANDARD
BEGIN:DAYLIGHT
DTSTART:20190331T030000
RDATE:20191027T020000
TZOFFSETFROM:+0100
TZOFFSETTO:+0200
TZNAME:Europe/Paris CEST
END:DAYLIGHT
BEGIN:DAYLIGHT
DTSTART:20200329T030000
RDATE:20201025T020000
TZOFFSETFROM:+0100
TZOFFSETTO:+0200
TZNAME:Europe/Paris CEST
END:DAYLIGHT
BEGIN:DAYLIGHT
DTSTART:20210328T030000
RDATE:20211031T020000
TZOFFSETFROM:+0100
TZOFFSETTO:+0200
TZNAME:Europe/Paris CEST
END:DAYLIGHT
BEGIN:DAYLIGHT
DTSTART:20220327T030000
RDATE:20221030T020000
TZOFFSETFROM:+0100
TZOFFSETTO:+0200
TZNAME:Europe/Paris CEST
END:DAYLIGHT
BEGIN:DAYLIGHT
DTSTART:20230326T030000
RDATE:20231029T020000
TZOFFSETFROM:+0100
TZOFFSETTO:+0200
TZNAME:Europe/Paris CEST
END:DAYLIGHT
BEGIN:DAYLIGHT
DTSTART:20240331T030000
RDATE:20241027T020000
TZOFFSETFROM:+0100
TZOFFSETTO:+0200
TZNAME:Europe/Paris CEST
END:DAYLIGHT
BEGIN:DAYLIGHT
DTSTART:20250330T030000
RDATE:20251026T020000
TZOFFSETFROM:+0100
TZOFFSETTO:+0200
TZNAME:Europe/Paris CEST
END:DAYLIGHT
BEGIN:DAYLIGHT
DTSTART:20260329T030000
RDATE:20261025T020000
TZOFFSETFROM:+0100
TZOFFSETTO:+0200
TZNAME:Europe/Paris CEST
END:DAYLIGHT
END:VTIMEZONE
BEGIN:VEVENT
UID:9db6bbb87d5d7a00390197b89ec75762
CATEGORIES:Compétition Ski de Fond
CREATED:20191111T130349
SUMMARY:GP DE LA BRESSE - Big Mat Atomic n°2 - Crédit Mutuel n°2
URL;VALUE=URI:https://skivosges.net/agenda/a-venir/detailevenement/1333/-/gp-de-la-bresse
 -big-mat-atomic-n-2-credit-mutuel-n-2?tmpl=component
DESCRIPTION:GP DE LA BRESSE - Big Mat Atomic n°2 - Crédit Mutuel n°2\n - Codex évenemen
 t FMVT0020\n - Lieu : Nordic Park\n - Station : LA BRESSE LISPACH\n - Organ
 isateur : 14024 LA BRESSAUDE SECTION SKI\n - Courriel : RegularLabs.EmailPr
 otector.unCloak("ep_1c932230");\n - Délégué Technique : COLIN FREDERICPério
 de d'inscription à l'evènement du samedi 14 décembre 2019 à 00:00 au jeudi 
 19 décembre 2019 à 12:00 (Inscriptions impossibles).Inscriptions ouvertes a
 ux detenteurs des titres Fédéraux valides suivants : Licenciés Compétiteurs
 Epreuves :\n - Le samedi 21 décembre 2019\n - Codex épreuve FMVF0021\n - KO
  - Sprint QUALIFICATION\n - Catégorie(s) : U13 (Filles)\n - Le samedi 21 dé
 cembre 2019\n - Codex épreuve FMVM0021\n - KO - Sprint QUALIFICATION\n - Ca
 tégorie(s) : U13 (Garçons)\n - Le samedi 21 décembre 2019\n - Codex épreuve
  FMVF0022\n - KO - Sprint QUALIFICATION\n - Catégorie(s) : U15 a SEN (Fille
 s)\n - Le samedi 21 décembre 2019\n - Codex épreuve FMVM0022\n - KO - Sprin
 t QUALIFICATION\n - Catégorie(s) : U15 a SEN (Garçons)\n - Voir les informa
 tions dans l'agenda... (/index.php?option=com_jevents&amp;task=icalevent.de
 tail&amp;evid=1328&amp;Itemid=6289)\n - Vers les résultats... (/index.php?o
 ption=com_gskiepreuves&amp;view=afficheresultats&amp;format_option=tous&amp
 ;filter[search]=FMVT0020&amp;filter[date_debut]=21-12-2019&amp;filter[date_
 fin]=21-12-2019&amp;code_activite=FOND&amp;Itemid=6289)\n - Publications co
 ncernant cet évènement :\n - Lundi 23 Décembre 2019 à 22:02 : Le 21/12/2019
  LA BRESSE LISPACH Résultats Cet évènement a été importé depuis :https://sk
 ivosges.net/agenda/a-venir/detailevenement/1333/-/gp-de-la-bresse-big-mat-a
 tomic-n-2-credit-mutuel-n-2?tmpl=component
X-ALT-DESC;FMTTYPE=text/html:<!-- #gskiepreuve code généré par le plugin jevents pour GskiEpreuves. Ne p
 as modifier cette ligne, ni tout le contenu suivant  #gskiepreuve --><div c
 lass="gski-evenement_infos"><div class="gski-evenement-nom">GP DE LA BRESSE
  - Big Mat Atomic n°2 - Crédit Mutuel n°2</div><div class="gski-evenement-r
 eport"></div><ul class="gski-evenement-liste-infos"><li>Codex évenement FMV
 T0020</li><li>Lieu : Nordic Park</li><li>Station : LA BRESSE LISPACH</li><l
 i>Organisateur : 14024 LA BRESSAUDE SECTION SKI</li><li>Courriel : <!-- Cet
 te adresse électronique est protégée contre les robots spammeurs. --><span 
 class="cloaked_email ep_1c932230"><span data-ep-b="&#102;&#114;" data-ep-a=
 "&#111;&#100;il&#101;"><span data-ep-b="an&#103;e." data-ep-a=".m&#117;&#11
 0;&#115;"><span data-ep-a="&#99;&#104;&#46;&#115;&#99;" data-ep-b="&#108;&#
 98;&#64;&#111;&#114;"></span></span></span></span><script>RegularLabs.Email
 Protector.unCloak("ep_1c932230");</script></li><li><span class="gski-evenem
 ent-obs">Délégué Technique : COLIN FREDERIC</span></li></ul><div class="gsk
 i-evenement-infos-2"><div class="gski-evenement-info-inscriptions"><div cla
 ss="gski-evenement-inscriptions-periodes">Période d'inscription à l'evèneme
 nt du samedi 14 décembre 2019 à 00:00 au jeudi 19 décembre 2019 à 12:00 <sp
 an class="gski-evenement-inscriptions-impossibles">(Inscriptions impossible
 s).</span><div class="gski-evenement-inscriptions-types-titres">Inscription
 s ouvertes aux detenteurs des titres Fédéraux valides suivants : Licenciés 
 Compétiteurs</div></div></div><div class="gski-evenement-epreuves"><div cla
 ss="gski-evenement-epreuves-titres">Epreuves :</div><ul class="gski-eveneme
 nt-epreuves-list"><li><div class="gski-epreuve-date">Le samedi 21 décembre 
 2019</div><ul class="gski-epreuve-liste-infos"><li>Codex épreuve FMVF0021</
 li><li>KO - Sprint QUALIFICATION</li><li>Catégorie(s) : U13 (Filles)</li></
 ul></li><li><div class="gski-epreuve-date">Le samedi 21 décembre 2019</div>
 <ul class="gski-epreuve-liste-infos"><li>Codex épreuve FMVM0021</li><li>KO 
 - Sprint QUALIFICATION</li><li>Catégorie(s) : U13 (Garçons)</li></ul></li><
 li><div class="gski-epreuve-date">Le samedi 21 décembre 2019</div><ul class
 ="gski-epreuve-liste-infos"><li>Codex épreuve FMVF0022</li><li>KO - Sprint 
 QUALIFICATION</li><li>Catégorie(s) : U15 a SEN (Filles)</li></ul></li><li><
 div class="gski-epreuve-date">Le samedi 21 décembre 2019</div><ul class="gs
 ki-epreuve-liste-infos"><li>Codex épreuve FMVM0022</li><li>KO - Sprint QUAL
 IFICATION</li><li>Catégorie(s) : U15 a SEN (Garçons)</li></ul></li></ul></d
 iv><div class="gskiepreuves-links"><ul><li><a href="https://skivosges.net/i
 ndex.php?option=com_jevents&task=icalevent.detail&evid=1328&Itemid=6289">Vo
 ir les informations dans l'agenda...</a></li><li><a href="https://skivosges
 .net/index.php?option=com_gskiepreuves&view=afficheresultats&format_option=
 tous&filter[search]=FMVT0020&filter[date_debut]=21-12-2019&filter[date_fin]
 =21-12-2019&code_activite=FOND&Itemid=6289">Vers les résultats...</a></li><
 li>Publications concernant cet évènement :<ul><li><a href="https://skivosge
 s.net/index.php?option=com_content&view=article&id=7009&Itemid=6289">Lundi 
 23 Décembre 2019 à 22:02 : Le 21/12/2019 LA BRESSE LISPACH Résultats</a></l
 i></ul></li></ul></div></div"><!-- #/gskiepreuve fin du dode généré par le 
 plugin jevents pour GskiEpreuves. . Ne pas modifier cette ligne, ni tout le
  contenu précedant.  #/gskiepreuve --> <a href="https://skivosges.net/agend
 a/a-venir/detailevenement/1333/-/gp-de-la-bresse-big-mat-atomic-n-2-credit-
 mutuel-n-2?tmpl=component">Cet évènement a été importé depuis :https://skiv
 osges.net/agenda/a-venir/detailevenement/1333/-/gp-de-la-bresse-big-mat-ato
 mic-n-2-credit-mutuel-n-2?tmpl=component</a>DTSTAMP:20260423T174110
DTSTART;TZID=Europe/Paris;VALUE=DATE:20191221
DTEND;TZID=Europe/Paris;VALUE=DATE:20191222
SEQUENCE:0
TRANSP:OPAQUE
END:VEVENT
END:VCALENDAR