BEGIN:VCALENDAR
VERSION:2.0
PRODID:-//jEvents 2.0 for Joomla//EN
CALSCALE:GREGORIAN
METHOD:PUBLISH
BEGIN:VTIMEZONE
TZID:Europe/Paris
BEGIN:STANDARD
DTSTART:20130214T080000
RDATE:20130331T030000
TZOFFSETFROM:+0200
TZOFFSETTO:+0100
TZNAME:Europe/Paris CET
END:STANDARD
BEGIN:STANDARD
DTSTART:20131027T020000
RDATE:20140330T030000
TZOFFSETFROM:+0200
TZOFFSETTO:+0100
TZNAME:Europe/Paris CET
END:STANDARD
BEGIN:STANDARD
DTSTART:20141026T020000
RDATE:20150329T030000
TZOFFSETFROM:+0200
TZOFFSETTO:+0100
TZNAME:Europe/Paris CET
END:STANDARD
BEGIN:STANDARD
DTSTART:20151025T020000
RDATE:20160327T030000
TZOFFSETFROM:+0200
TZOFFSETTO:+0100
TZNAME:Europe/Paris CET
END:STANDARD
BEGIN:STANDARD
DTSTART:20161030T020000
RDATE:20170326T030000
TZOFFSETFROM:+0200
TZOFFSETTO:+0100
TZNAME:Europe/Paris CET
END:STANDARD
BEGIN:STANDARD
DTSTART:20171029T020000
RDATE:20180325T030000
TZOFFSETFROM:+0200
TZOFFSETTO:+0100
TZNAME:Europe/Paris CET
END:STANDARD
BEGIN:STANDARD
DTSTART:20181028T020000
RDATE:20190331T030000
TZOFFSETFROM:+0200
TZOFFSETTO:+0100
TZNAME:Europe/Paris CET
END:STANDARD
BEGIN:STANDARD
DTSTART:20191027T020000
RDATE:20200329T030000
TZOFFSETFROM:+0200
TZOFFSETTO:+0100
TZNAME:Europe/Paris CET
END:STANDARD
BEGIN:STANDARD
DTSTART:20201025T020000
RDATE:20210328T030000
TZOFFSETFROM:+0200
TZOFFSETTO:+0100
TZNAME:Europe/Paris CET
END:STANDARD
BEGIN:STANDARD
DTSTART:20211031T020000
RDATE:20220327T030000
TZOFFSETFROM:+0200
TZOFFSETTO:+0100
TZNAME:Europe/Paris CET
END:STANDARD
BEGIN:STANDARD
DTSTART:20221030T020000
RDATE:20230326T030000
TZOFFSETFROM:+0200
TZOFFSETTO:+0100
TZNAME:Europe/Paris CET
END:STANDARD
BEGIN:STANDARD
DTSTART:20231029T020000
RDATE:20240331T030000
TZOFFSETFROM:+0200
TZOFFSETTO:+0100
TZNAME:Europe/Paris CET
END:STANDARD
BEGIN:STANDARD
DTSTART:20241027T020000
RDATE:20250330T030000
TZOFFSETFROM:+0200
TZOFFSETTO:+0100
TZNAME:Europe/Paris CET
END:STANDARD
BEGIN:STANDARD
DTSTART:20251026T020000
RDATE:20260329T030000
TZOFFSETFROM:+0200
TZOFFSETTO:+0100
TZNAME:Europe/Paris CET
END:STANDARD
BEGIN:STANDARD
DTSTART:20261025T020000
RDATE:20270328T030000
TZOFFSETFROM:+0200
TZOFFSETTO:+0100
TZNAME:Europe/Paris CET
END:STANDARD
BEGIN:DAYLIGHT
DTSTART:20130331T030000
RDATE:20131027T020000
TZOFFSETFROM:+0100
TZOFFSETTO:+0200
TZNAME:Europe/Paris CEST
END:DAYLIGHT
BEGIN:DAYLIGHT
DTSTART:20140330T030000
RDATE:20141026T020000
TZOFFSETFROM:+0100
TZOFFSETTO:+0200
TZNAME:Europe/Paris CEST
END:DAYLIGHT
BEGIN:DAYLIGHT
DTSTART:20150329T030000
RDATE:20151025T020000
TZOFFSETFROM:+0100
TZOFFSETTO:+0200
TZNAME:Europe/Paris CEST
END:DAYLIGHT
BEGIN:DAYLIGHT
DTSTART:20160327T030000
RDATE:20161030T020000
TZOFFSETFROM:+0100
TZOFFSETTO:+0200
TZNAME:Europe/Paris CEST
END:DAYLIGHT
BEGIN:DAYLIGHT
DTSTART:20170326T030000
RDATE:20171029T020000
TZOFFSETFROM:+0100
TZOFFSETTO:+0200
TZNAME:Europe/Paris CEST
END:DAYLIGHT
BEGIN:DAYLIGHT
DTSTART:20180325T030000
RDATE:20181028T020000
TZOFFSETFROM:+0100
TZOFFSETTO:+0200
TZNAME:Europe/Paris CEST
END:DAYLIGHT
BEGIN:DAYLIGHT
DTSTART:20190331T030000
RDATE:20191027T020000
TZOFFSETFROM:+0100
TZOFFSETTO:+0200
TZNAME:Europe/Paris CEST
END:DAYLIGHT
BEGIN:DAYLIGHT
DTSTART:20200329T030000
RDATE:20201025T020000
TZOFFSETFROM:+0100
TZOFFSETTO:+0200
TZNAME:Europe/Paris CEST
END:DAYLIGHT
BEGIN:DAYLIGHT
DTSTART:20210328T030000
RDATE:20211031T020000
TZOFFSETFROM:+0100
TZOFFSETTO:+0200
TZNAME:Europe/Paris CEST
END:DAYLIGHT
BEGIN:DAYLIGHT
DTSTART:20220327T030000
RDATE:20221030T020000
TZOFFSETFROM:+0100
TZOFFSETTO:+0200
TZNAME:Europe/Paris CEST
END:DAYLIGHT
BEGIN:DAYLIGHT
DTSTART:20230326T030000
RDATE:20231029T020000
TZOFFSETFROM:+0100
TZOFFSETTO:+0200
TZNAME:Europe/Paris CEST
END:DAYLIGHT
BEGIN:DAYLIGHT
DTSTART:20240331T030000
RDATE:20241027T020000
TZOFFSETFROM:+0100
TZOFFSETTO:+0200
TZNAME:Europe/Paris CEST
END:DAYLIGHT
BEGIN:DAYLIGHT
DTSTART:20250330T030000
RDATE:20251026T020000
TZOFFSETFROM:+0100
TZOFFSETTO:+0200
TZNAME:Europe/Paris CEST
END:DAYLIGHT
BEGIN:DAYLIGHT
DTSTART:20260329T030000
RDATE:20261025T020000
TZOFFSETFROM:+0100
TZOFFSETTO:+0200
TZNAME:Europe/Paris CEST
END:DAYLIGHT
END:VTIMEZONE
BEGIN:VEVENT
UID:11c1980b6eef06fdb034148191a5335a
CATEGORIES:Compétition Ski de Fond
CREATED:20131203T122100
SUMMARY:Coupe Bleu Forêt Challenge Michel Didierlaurent crédit Mutuel n° 5 BigMat n° 5
URL;VALUE=URI:https://skivosges.net/agenda/a-venir/detailevenement/134/-/coupe-bleu-foret
 -challenge-michel-didierlaurent-credit-mutuel-n-5-bigmat-n-5?tmpl=component
DESCRIPTION:Coupe Bleu Forêt Challenge Michel Didierlaurent crédit Mutuel n° 5 BigMat n
 ° 5\n\nLieu : hautes vannes (gerardmer)\nOrganisateur : CLUB VOSGIEN VAGNEY
  ROCHESSON  (14329 CLUB VOSGIEN VAGNEY ROCHESSON)\nTelecopie : 0608347483\n
 \npremier départ 14h30 \naux hautes vannes\n\nInscriptions en cours sur ce 
 site\n  Lieu:STOSSWIHR \n - FMVF0181  D?part Individuel Minime Filles\n  Co
 upe Bleu Forêt Challenge Michel Didierlaurent crédit Mutuel n° 5 BigMat n° 
 5\n  Lieu:STOSSWIHR \n - FMVF0182  D?part Individuel Cadet a Senior Dames\n
   Coupe Bleu Forêt Challenge Michel Didierlaurent crédit Mutuel n° 5 BigMat
  n° 5\n  Lieu:STOSSWIHR \n - FMVM0181  D?part Individuel Minime Garçons\n  
 Coupe Bleu Forêt Challenge Michel Didierlaurent crédit Mutuel n° 5 BigMat n
 ° 5\n  Lieu:STOSSWIHR \n - FMVM0182  D?part Individuel Cadet Garçons\n  Cou
 pe Bleu Forêt Challenge Michel Didierlaurent crédit Mutuel n° 5 BigMat n° 5
 \n  Lieu:STOSSWIHR \n - FMVM0183  D?part Individuel Jeune a Senior Hommes\n
   Coupe Bleu Forêt Challenge Michel Didierlaurent crédit Mutuel n° 5 BigMat
  n° 5 Cet évènement a été importé depuis :https://skivosges.net/agenda/a-ve
 nir/detailevenement/134/-/coupe-bleu-foret-challenge-michel-didierlaurent-c
 redit-mutuel-n-5-bigmat-n-5?tmpl=component
X-ALT-DESC;FMTTYPE=text/html:<strong>Coupe Bleu Forêt Challenge Michel Didierlaurent crédit Mutuel n° 5 
 BigMat n° 5</strong><br /><br />Lieu : hautes vannes (gerardmer)<br />Organ
 isateur : CLUB VOSGIEN VAGNEY ROCHESSON  <small>(14329 CLUB VOSGIEN VAGNEY 
 ROCHESSON)</small><br />Telecopie : 0608347483<br /><br />premier départ 14
 h30 <br>aux hautes vannes<br /><br />Inscriptions en cours sur ce site<ul t
 ype="disc"><br />&nbsp;&nbsp;Lieu:STOSSWIHR <li>FMVF0181  D?part Individuel
  <nobr>Minime</nobr> Filles<br />&nbsp;&nbsp;Coupe Bleu Forêt Challenge Mic
 hel Didierlaurent crédit Mutuel n° 5 BigMat n° 5</li><br />&nbsp;&nbsp;Lieu
 :STOSSWIHR <li>FMVF0182  D?part Individuel <nobr>Cadet a Senior</nobr> Dame
 s<br />&nbsp;&nbsp;Coupe Bleu Forêt Challenge Michel Didierlaurent crédit M
 utuel n° 5 BigMat n° 5</li><br />&nbsp;&nbsp;Lieu:STOSSWIHR <li>FMVM0181  D
 ?part Individuel <nobr>Minime</nobr> Garçons<br />&nbsp;&nbsp;Coupe Bleu Fo
 rêt Challenge Michel Didierlaurent crédit Mutuel n° 5 BigMat n° 5</li><br /
 >&nbsp;&nbsp;Lieu:STOSSWIHR <li>FMVM0182  D?part Individuel <nobr>Cadet</no
 br> Garçons<br />&nbsp;&nbsp;Coupe Bleu Forêt Challenge Michel Didierlauren
 t crédit Mutuel n° 5 BigMat n° 5</li><br />&nbsp;&nbsp;Lieu:STOSSWIHR <li>F
 MVM0183  D?part Individuel <nobr>Jeune a Senior</nobr> Hommes<br />&nbsp;&n
 bsp;Coupe Bleu Forêt Challenge Michel Didierlaurent crédit Mutuel n° 5 BigM
 at n° 5</li></ul> <a href="https://skivosges.net/agenda/a-venir/detailevene
 ment/134/-/coupe-bleu-foret-challenge-michel-didierlaurent-credit-mutuel-n-
 5-bigmat-n-5?tmpl=component">Cet évènement a été importé depuis :https://sk
 ivosges.net/agenda/a-venir/detailevenement/134/-/coupe-bleu-foret-challenge
 -michel-didierlaurent-credit-mutuel-n-5-bigmat-n-5?tmpl=component</a>DTSTAMP:20260424T073909
DTSTART;TZID=Europe/Paris:20140215T080000
DTEND;TZID=Europe/Paris:20140215T170000
SEQUENCE:0
TRANSP:OPAQUE
END:VEVENT
END:VCALENDAR