BEGIN:VCALENDAR
VERSION:2.0
PRODID:-//jEvents 2.0 for Joomla//EN
CALSCALE:GREGORIAN
METHOD:PUBLISH
BEGIN:VTIMEZONE
TZID:Europe/Paris
BEGIN:STANDARD
DTSTART:20190104T000000
RDATE:20190331T030000
TZOFFSETFROM:+0200
TZOFFSETTO:+0100
TZNAME:Europe/Paris CET
END:STANDARD
BEGIN:STANDARD
DTSTART:20191027T020000
RDATE:20200329T030000
TZOFFSETFROM:+0200
TZOFFSETTO:+0100
TZNAME:Europe/Paris CET
END:STANDARD
BEGIN:STANDARD
DTSTART:20201025T020000
RDATE:20210328T030000
TZOFFSETFROM:+0200
TZOFFSETTO:+0100
TZNAME:Europe/Paris CET
END:STANDARD
BEGIN:STANDARD
DTSTART:20211031T020000
RDATE:20220327T030000
TZOFFSETFROM:+0200
TZOFFSETTO:+0100
TZNAME:Europe/Paris CET
END:STANDARD
BEGIN:STANDARD
DTSTART:20221030T020000
RDATE:20230326T030000
TZOFFSETFROM:+0200
TZOFFSETTO:+0100
TZNAME:Europe/Paris CET
END:STANDARD
BEGIN:STANDARD
DTSTART:20231029T020000
RDATE:20240331T030000
TZOFFSETFROM:+0200
TZOFFSETTO:+0100
TZNAME:Europe/Paris CET
END:STANDARD
BEGIN:STANDARD
DTSTART:20241027T020000
RDATE:20250330T030000
TZOFFSETFROM:+0200
TZOFFSETTO:+0100
TZNAME:Europe/Paris CET
END:STANDARD
BEGIN:STANDARD
DTSTART:20251026T020000
RDATE:20260329T030000
TZOFFSETFROM:+0200
TZOFFSETTO:+0100
TZNAME:Europe/Paris CET
END:STANDARD
BEGIN:STANDARD
DTSTART:20261025T020000
RDATE:20270328T030000
TZOFFSETFROM:+0200
TZOFFSETTO:+0100
TZNAME:Europe/Paris CET
END:STANDARD
BEGIN:DAYLIGHT
DTSTART:20190331T030000
RDATE:20191027T020000
TZOFFSETFROM:+0100
TZOFFSETTO:+0200
TZNAME:Europe/Paris CEST
END:DAYLIGHT
BEGIN:DAYLIGHT
DTSTART:20200329T030000
RDATE:20201025T020000
TZOFFSETFROM:+0100
TZOFFSETTO:+0200
TZNAME:Europe/Paris CEST
END:DAYLIGHT
BEGIN:DAYLIGHT
DTSTART:20210328T030000
RDATE:20211031T020000
TZOFFSETFROM:+0100
TZOFFSETTO:+0200
TZNAME:Europe/Paris CEST
END:DAYLIGHT
BEGIN:DAYLIGHT
DTSTART:20220327T030000
RDATE:20221030T020000
TZOFFSETFROM:+0100
TZOFFSETTO:+0200
TZNAME:Europe/Paris CEST
END:DAYLIGHT
BEGIN:DAYLIGHT
DTSTART:20230326T030000
RDATE:20231029T020000
TZOFFSETFROM:+0100
TZOFFSETTO:+0200
TZNAME:Europe/Paris CEST
END:DAYLIGHT
BEGIN:DAYLIGHT
DTSTART:20240331T030000
RDATE:20241027T020000
TZOFFSETFROM:+0100
TZOFFSETTO:+0200
TZNAME:Europe/Paris CEST
END:DAYLIGHT
BEGIN:DAYLIGHT
DTSTART:20250330T030000
RDATE:20251026T020000
TZOFFSETFROM:+0100
TZOFFSETTO:+0200
TZNAME:Europe/Paris CEST
END:DAYLIGHT
BEGIN:DAYLIGHT
DTSTART:20260329T030000
RDATE:20261025T020000
TZOFFSETFROM:+0100
TZOFFSETTO:+0200
TZNAME:Europe/Paris CEST
END:DAYLIGHT
END:VTIMEZONE
BEGIN:VEVENT
UID:bd15c920574ffdaffe06aee5d09443ab
CATEGORIES:Circuit Alsace Jeunes (alpin)
CREATED:20191111T130349
SUMMARY:CJA Coupe de Bronze Prix de la clinique du Ski et du crédit Agricole **REPORTE**
URL;VALUE=URI:https://skivosges.net/agenda/a-venir/detailevenement/1345/-/cja-coupe-de-br
 onze-prix-de-la-clinique-du-ski-et-du-credit-agricole-reporte?tmpl=componen
 t
DESCRIPTION:CJA Coupe de Bronze Prix de la clinique du Ski et du crédit Agricole (Epreu
 ve reportée, date à determiner)\n - Codex évenement AMVT0050\n - Station : 
 MARKSTEIN\n - Organisateur : 14231 SKI CLUB SAUSHEIM\n - Courriel : Regular
 Labs.EmailProtector.unCloak("ep_03facd8b");\n - Téléphone : 0676974091\n - 
 Délégué Technique : VONTHRON JEAN MARIEPériode d'inscription à l'evènement 
 du dimanche 29 décembre 2019 à 00:00 au vendredi 03 janvier 2020 à 12:00 (I
 nscriptions impossibles).Inscriptions ouvertes aux detenteurs des titres Fé
 déraux valides suivants : Licenciés CompétiteursEpreuves :\n - Le dimanche 
 05 janvier 2020 à 10:00\n - Codex épreuve AMVM0051\n - Slalom Geant\n - Cat
 égorie(s) : U8/U10 (Garçons)\n - Le dimanche 05 janvier 2020 à 10:00\n - Co
 dex épreuve AMVF0051\n - Slalom Geant\n - Catégorie(s) : U8/U10 (Filles)\n 
 - Le dimanche 05 janvier 2020\n - Codex épreuve AMVM0052\n - Slalom Geant\n
  - Catégorie(s) : U12/U14 (Garçons)\n - Le dimanche 05 janvier 2020\n - Cod
 ex épreuve AMVF0052\n - Slalom Geant\n - Catégorie(s) : U12/U14 (Filles)\n 
 - Voir les informations dans l'agenda... (/index.php?option=com_jevents&amp
 ;task=icalevent.detail&amp;evid=1340&amp;Itemid=6289) Cet évènement a été i
 mporté depuis :https://skivosges.net/agenda/a-venir/detailevenement/1345/-/
 cja-coupe-de-bronze-prix-de-la-clinique-du-ski-et-du-credit-agricole-report
 e?tmpl=component
X-ALT-DESC;FMTTYPE=text/html:<!-- #gskiepreuve code généré par le plugin jevents pour GskiEpreuves. Ne p
 as modifier cette ligne, ni tout le contenu suivant  #gskiepreuve --><div c
 lass="gski-evenement_infos"><div class="gski-evenement-nom">CJA Coupe de Br
 onze Prix de la clinique du Ski et du crédit Agricole</div><div class="gski
 -evenement-report"> <font class="gskiattention">(Epreuve reportée, date à d
 eterminer)</font></div><ul class="gski-evenement-liste-infos"><li>Codex éve
 nement AMVT0050</li><li>Station : MARKSTEIN</li><li>Organisateur : 14231 SK
 I CLUB SAUSHEIM</li><li>Courriel : <!-- Cette adresse électronique est prot
 égée contre les robots spammeurs. --><span class="cloaked_email ep_03facd8b
 "><span data-ep-a="b.h&#97;" data-ep-b=""><span data-ep-a="&#98;&#101;r&#10
 1;" data-ep-b="&#111;.&#102;&#114;"><span data-ep-b="n&#97;d&#111;" data-ep
 -a="&#114;&#64;wa"></span></span></span></span><script>RegularLabs.EmailPro
 tector.unCloak("ep_03facd8b");</script></li><li>Téléphone : 0676974091</li>
 <li><span class="gski-evenement-obs">Délégué Technique : VONTHRON JEAN MARI
 E</span></li></ul><div class="gski-evenement-infos-2"><div class="gski-even
 ement-info-inscriptions"><div class="gski-evenement-inscriptions-periodes">
 Période d'inscription à l'evènement du dimanche 29 décembre 2019 à 00:00 au
  vendredi 03 janvier 2020 à 12:00 <span class="gski-evenement-inscriptions-
 impossibles">(Inscriptions impossibles).</span><div class="gski-evenement-i
 nscriptions-types-titres">Inscriptions ouvertes aux detenteurs des titres F
 édéraux valides suivants : Licenciés Compétiteurs</div></div></div><div cla
 ss="gski-evenement-epreuves"><div class="gski-evenement-epreuves-titres">Ep
 reuves :</div><ul class="gski-evenement-epreuves-list"><li><div class="gski
 -epreuve-date">Le dimanche 05 janvier 2020 à 10:00</div><ul class="gski-epr
 euve-liste-infos"><li>Codex épreuve AMVM0051</li><li>Slalom Geant</li><li>C
 atégorie(s) : U8/U10 (Garçons)</li></ul></li><li><div class="gski-epreuve-d
 ate">Le dimanche 05 janvier 2020 à 10:00</div><ul class="gski-epreuve-liste
 -infos"><li>Codex épreuve AMVF0051</li><li>Slalom Geant</li><li>Catégorie(s
 ) : U8/U10 (Filles)</li></ul></li><li><div class="gski-epreuve-date">Le dim
 anche 05 janvier 2020</div><ul class="gski-epreuve-liste-infos"><li>Codex é
 preuve AMVM0052</li><li>Slalom Geant</li><li>Catégorie(s) : U12/U14 (Garçon
 s)</li></ul></li><li><div class="gski-epreuve-date">Le dimanche 05 janvier 
 2020</div><ul class="gski-epreuve-liste-infos"><li>Codex épreuve AMVF0052</
 li><li>Slalom Geant</li><li>Catégorie(s) : U12/U14 (Filles)</li></ul></li><
 /ul></div><div class="gskiepreuves-links"><ul><li><a href="https://skivosge
 s.net/index.php?option=com_jevents&task=icalevent.detail&evid=1340&Itemid=6
 289">Voir les informations dans l'agenda...</a></li></ul></div></div"><!-- 
 #/gskiepreuve fin du dode généré par le plugin jevents pour GskiEpreuves. .
  Ne pas modifier cette ligne, ni tout le contenu précedant.  #/gskiepreuve 
 --> <a href="https://skivosges.net/agenda/a-venir/detailevenement/1345/-/cj
 a-coupe-de-bronze-prix-de-la-clinique-du-ski-et-du-credit-agricole-reporte?
 tmpl=component">Cet évènement a été importé depuis :https://skivosges.net/a
 genda/a-venir/detailevenement/1345/-/cja-coupe-de-bronze-prix-de-la-cliniqu
 e-du-ski-et-du-credit-agricole-reporte?tmpl=component</a>DTSTAMP:20260424T073935
DTSTART;TZID=Europe/Paris;VALUE=DATE:20200105
DTEND;TZID=Europe/Paris;VALUE=DATE:20200106
SEQUENCE:0
TRANSP:OPAQUE
END:VEVENT
END:VCALENDAR