BEGIN:VCALENDAR
VERSION:2.0
PRODID:-//jEvents 2.0 for Joomla//EN
CALSCALE:GREGORIAN
METHOD:PUBLISH
BEGIN:VTIMEZONE
TZID:Europe/Paris
BEGIN:STANDARD
DTSTART:20190104T000000
RDATE:20190331T030000
TZOFFSETFROM:+0200
TZOFFSETTO:+0100
TZNAME:Europe/Paris CET
END:STANDARD
BEGIN:STANDARD
DTSTART:20191027T020000
RDATE:20200329T030000
TZOFFSETFROM:+0200
TZOFFSETTO:+0100
TZNAME:Europe/Paris CET
END:STANDARD
BEGIN:STANDARD
DTSTART:20201025T020000
RDATE:20210328T030000
TZOFFSETFROM:+0200
TZOFFSETTO:+0100
TZNAME:Europe/Paris CET
END:STANDARD
BEGIN:STANDARD
DTSTART:20211031T020000
RDATE:20220327T030000
TZOFFSETFROM:+0200
TZOFFSETTO:+0100
TZNAME:Europe/Paris CET
END:STANDARD
BEGIN:STANDARD
DTSTART:20221030T020000
RDATE:20230326T030000
TZOFFSETFROM:+0200
TZOFFSETTO:+0100
TZNAME:Europe/Paris CET
END:STANDARD
BEGIN:STANDARD
DTSTART:20231029T020000
RDATE:20240331T030000
TZOFFSETFROM:+0200
TZOFFSETTO:+0100
TZNAME:Europe/Paris CET
END:STANDARD
BEGIN:STANDARD
DTSTART:20241027T020000
RDATE:20250330T030000
TZOFFSETFROM:+0200
TZOFFSETTO:+0100
TZNAME:Europe/Paris CET
END:STANDARD
BEGIN:STANDARD
DTSTART:20251026T020000
RDATE:20260329T030000
TZOFFSETFROM:+0200
TZOFFSETTO:+0100
TZNAME:Europe/Paris CET
END:STANDARD
BEGIN:STANDARD
DTSTART:20261025T020000
RDATE:20270328T030000
TZOFFSETFROM:+0200
TZOFFSETTO:+0100
TZNAME:Europe/Paris CET
END:STANDARD
BEGIN:DAYLIGHT
DTSTART:20190331T030000
RDATE:20191027T020000
TZOFFSETFROM:+0100
TZOFFSETTO:+0200
TZNAME:Europe/Paris CEST
END:DAYLIGHT
BEGIN:DAYLIGHT
DTSTART:20200329T030000
RDATE:20201025T020000
TZOFFSETFROM:+0100
TZOFFSETTO:+0200
TZNAME:Europe/Paris CEST
END:DAYLIGHT
BEGIN:DAYLIGHT
DTSTART:20210328T030000
RDATE:20211031T020000
TZOFFSETFROM:+0100
TZOFFSETTO:+0200
TZNAME:Europe/Paris CEST
END:DAYLIGHT
BEGIN:DAYLIGHT
DTSTART:20220327T030000
RDATE:20221030T020000
TZOFFSETFROM:+0100
TZOFFSETTO:+0200
TZNAME:Europe/Paris CEST
END:DAYLIGHT
BEGIN:DAYLIGHT
DTSTART:20230326T030000
RDATE:20231029T020000
TZOFFSETFROM:+0100
TZOFFSETTO:+0200
TZNAME:Europe/Paris CEST
END:DAYLIGHT
BEGIN:DAYLIGHT
DTSTART:20240331T030000
RDATE:20241027T020000
TZOFFSETFROM:+0100
TZOFFSETTO:+0200
TZNAME:Europe/Paris CEST
END:DAYLIGHT
BEGIN:DAYLIGHT
DTSTART:20250330T030000
RDATE:20251026T020000
TZOFFSETFROM:+0100
TZOFFSETTO:+0200
TZNAME:Europe/Paris CEST
END:DAYLIGHT
BEGIN:DAYLIGHT
DTSTART:20260329T030000
RDATE:20261025T020000
TZOFFSETFROM:+0100
TZOFFSETTO:+0200
TZNAME:Europe/Paris CEST
END:DAYLIGHT
END:VTIMEZONE
BEGIN:VEVENT
UID:6a0855ffb46fed1f15f20868cf03cf12
CATEGORIES:Compétition Ski de Fond
CREATED:20191111T130349
SUMMARY:COUPE HAHNENBRUNNEN - ROEDELEN Chp Vosges Big Mat Atomic n°4 Crédit Mutuel n°4
URL;VALUE=URI:https://skivosges.net/agenda/a-venir/detailevenement/1346/-/coupe-hahnenbru
 nnen-roedelen-chp-vosges-big-mat-atomic-n-4-credit-mutuel-n-4?tmpl=componen
 t
DESCRIPTION:<!-- #gskiepreuve code généré par le plugin jevents pour GskiEpreuves. Ne p
 as modifier cette ligne, ni tout le contenu suivant  #gskiepreuve --><div c
 lass="gski-evenement_infos"><div class="gski-evenement-nom">COUPE HAHNENBRU
 NNEN - ROEDELEN Chp Vosges Big Mat Atomic n°4 Crédit Mutuel n°4</div><div c
 lass="gski-evenement-report"></div><ul class="gski-evenement-liste-infos"><
 li>Codex évenement FMVT0060</li><li>Station : MARKSTEIN</li><li>Piste : Nor
 dic Parc</li><li>Organisateur : 14044 TOURING CLUB MULHOUSE</li><li>Courrie
 l : <!-- Cette adresse électronique est protégée contre les robots spammeur
 s. --><span class="cloaked_email ep_4f466cfb"><span data-ep-a="&#121;&#118;
 &#101;s" data-ep-b="t"><span data-ep-a="&#46;&#98;&#111;&#117;" data-ep-b="
 &#114;&#46;&#110;e"><span data-ep-a="vi&#101;&#114;" data-ep-b="&#64;&#101;
 v&#104;"></span></span></span></span><script>RegularLabs.EmailProtector.unC
 loak("ep_4f466cfb");</script></li><li>Téléphone : 0680516582</li><li><span 
 class="gski-evenement-obs">Délégué Technique : POIROT ERIC</span></li></ul>
 <div class="gski-evenement-infos-2"><div class="gski-evenement-info-inscrip
 tions"><div class="gski-evenement-inscriptions-periodes">Période d'inscript
 ion à l'evènement du dimanche 29 décembre 2019 à 00:00 au vendredi 03 janvi
 er 2020 à 12:00 <span class="gski-evenement-inscriptions-impossibles">(Insc
 riptions impossibles).</span><div class="gski-evenement-inscriptions-types-
 titres">Inscriptions ouvertes aux detenteurs des titres Fédéraux valides su
 ivants : Licenciés Compétiteurs</div></div></div><div class="gski-evenement
 -epreuves"><div class="gski-evenement-epreuves-titres">Epreuves :</div><ul 
 class="gski-evenement-epreuves-list"><li><div class="gski-epreuve-date">Le 
 dimanche 05 janvier 2020</div><ul class="gski-epreuve-liste-infos"><li>Code
 x épreuve FMVF0061</li><li>Mass Start (Depart ligne)</li><li>Catégorie(s) :
  U13 (Filles)</li></ul></li><li><div class="gski-epreuve-date">Le dimanche 
 05 janvier 2020</div><ul class="gski-epreuve-liste-infos"><li>Codex épreuve
  FMVM0061</li><li>Mass Start (Depart ligne)</li><li>Catégorie(s) : U13 (Gar
 çons)</li></ul></li><li><div class="gski-epreuve-date">Le dimanche 05 janvi
 er 2020</div><ul class="gski-epreuve-liste-infos"><li>Codex épreuve FMVF006
 2</li><li>Mass Start (Depart ligne)</li><li>Catégorie(s) : U15 (Filles)</li
 ></ul></li><li><div class="gski-epreuve-date">Le dimanche 05 janvier 2020</
 div><ul class="gski-epreuve-liste-infos"><li>Codex épreuve FMVM0062</li><li
 >Mass Start (Depart ligne)</li><li>Catégorie(s) : U15 (Garçons)</li></ul></
 li><li><div class="gski-epreuve-date">Le dimanche 05 janvier 2020</div><ul 
 class="gski-epreuve-liste-infos"><li>Codex épreuve FMVF0063</li><li>Mass St
 art (Depart ligne)</li><li>Catégorie(s) : U17 (Dames)</li></ul></li><li><di
 v class="gski-epreuve-date">Le dimanche 05 janvier 2020</div><ul class="gsk
 i-epreuve-liste-infos"><li>Codex épreuve FMVM0063</li><li>Mass Start (Depar
 t ligne)</li><li>Catégorie(s) : U17 (Hommes)</li></ul></li><li><div class="
 gski-epreuve-date">Le dimanche 05 janvier 2020</div><ul class="gski-epreuve
 -liste-infos"><li>Codex épreuve FMVF0064</li><li>Mass Start (Depart ligne)<
 /li><li>Catégorie(s) : U20/SEN (Dames)</li></ul></li><li><div class="gski-e
 preuve-date">Le dimanche 05 janvier 2020</div><ul class="gski-epreuve-liste
 -infos"><li>Codex épreuve FMVM0064</li><li>Mass Start (Depart ligne)</li><l
 i>Catégorie(s) : U20/SEN (Hommes)</li></ul></li></ul></div><div class="gski
 epreuves-links"><ul><li><a href="/index.php?option=com_jevents&task=icaleve
 nt.detail&evid=1341&Itemid=6289">Voir les informations dans l'agenda...</a>
 </li><li><a href="/index.php?option=com_gskiepreuves&view=afficheresultats&
 format_option=tous&filter[search]=FMVT0060&filter[date_debut]=05-01-2020&fi
 lter[date_fin]=05-01-2020&code_activite=FOND&Itemid=6289">Vers les résultat
 s...</a></li><li>Publications concernant cet évènement :<ul><li><a href="/i
 ndex.php?option=com_content&view=article&id=7029&Itemid=6289">Lundi 6 Janvi
 er 2020 à 17:58 : Le 05/01/2020 LE BREITFIRST Résultats</a></li><li><a href
 ="/index.php?option=com_content&view=article&id=7028&Itemid=6289">Dimanche 
 5 Janvier 2020 à 14:18 : Le 05/01/2020 LE BREITFIRST Résultats</a></li><li>
 <a href="/index.php?option=com_content&view=article&id=7027&Itemid=6289">Ve
 ndredi 3 Janvier 2020 à 22:53 : Le 05/01/2020 MARKSTEIN Liste de départs</a
 ></li></ul></li></ul></div></div"><!-- #/gskiepreuve fin du dode généré par
  le plugin jevents pour GskiEpreuves. . Ne pas modifier cette ligne, ni tou
 t le contenu précedant.  #/gskiepreuve --> <a href="https://skivosges.net/a
 genda/a-venir/detailevenement/1346/-/coupe-hahnenbrunnen-roedelen-chp-vosge
 s-big-mat-atomic-n-4-credit-mutuel-n-4?tmpl=component">Cet évènement a été 
 importé depuis :https://skivosges.net/agenda/a-venir/detailevenement/1346/-
 /coupe-hahnenbrunnen-roedelen-chp-vosges-big-mat-atomic-n-4-credit-mutuel-n
 -4?tmpl=component</a>
X-ALT-DESC;FMTTYPE=text/html:<!-- #gskiepreuve code généré par le plugin jevents pour GskiEpreuves. Ne p
 as modifier cette ligne, ni tout le contenu suivant  #gskiepreuve --><div c
 lass="gski-evenement_infos"><div class="gski-evenement-nom">COUPE HAHNENBRU
 NNEN - ROEDELEN Chp Vosges Big Mat Atomic n°4 Crédit Mutuel n°4</div><div c
 lass="gski-evenement-report"></div><ul class="gski-evenement-liste-infos"><
 li>Codex évenement FMVT0060</li><li>Station : MARKSTEIN</li><li>Piste : Nor
 dic Parc</li><li>Organisateur : 14044 TOURING CLUB MULHOUSE</li><li>Courrie
 l : <!-- Cette adresse électronique est protégée contre les robots spammeur
 s. --><span class="cloaked_email ep_4f466cfb"><span data-ep-a="&#121;&#118;
 &#101;s" data-ep-b="t"><span data-ep-a="&#46;&#98;&#111;&#117;" data-ep-b="
 &#114;&#46;&#110;e"><span data-ep-a="vi&#101;&#114;" data-ep-b="&#64;&#101;
 v&#104;"></span></span></span></span><script>RegularLabs.EmailProtector.unC
 loak("ep_4f466cfb");</script></li><li>Téléphone : 0680516582</li><li><span 
 class="gski-evenement-obs">Délégué Technique : POIROT ERIC</span></li></ul>
 <div class="gski-evenement-infos-2"><div class="gski-evenement-info-inscrip
 tions"><div class="gski-evenement-inscriptions-periodes">Période d'inscript
 ion à l'evènement du dimanche 29 décembre 2019 à 00:00 au vendredi 03 janvi
 er 2020 à 12:00 <span class="gski-evenement-inscriptions-impossibles">(Insc
 riptions impossibles).</span><div class="gski-evenement-inscriptions-types-
 titres">Inscriptions ouvertes aux detenteurs des titres Fédéraux valides su
 ivants : Licenciés Compétiteurs</div></div></div><div class="gski-evenement
 -epreuves"><div class="gski-evenement-epreuves-titres">Epreuves :</div><ul 
 class="gski-evenement-epreuves-list"><li><div class="gski-epreuve-date">Le 
 dimanche 05 janvier 2020</div><ul class="gski-epreuve-liste-infos"><li>Code
 x épreuve FMVF0061</li><li>Mass Start (Depart ligne)</li><li>Catégorie(s) :
  U13 (Filles)</li></ul></li><li><div class="gski-epreuve-date">Le dimanche 
 05 janvier 2020</div><ul class="gski-epreuve-liste-infos"><li>Codex épreuve
  FMVM0061</li><li>Mass Start (Depart ligne)</li><li>Catégorie(s) : U13 (Gar
 çons)</li></ul></li><li><div class="gski-epreuve-date">Le dimanche 05 janvi
 er 2020</div><ul class="gski-epreuve-liste-infos"><li>Codex épreuve FMVF006
 2</li><li>Mass Start (Depart ligne)</li><li>Catégorie(s) : U15 (Filles)</li
 ></ul></li><li><div class="gski-epreuve-date">Le dimanche 05 janvier 2020</
 div><ul class="gski-epreuve-liste-infos"><li>Codex épreuve FMVM0062</li><li
 >Mass Start (Depart ligne)</li><li>Catégorie(s) : U15 (Garçons)</li></ul></
 li><li><div class="gski-epreuve-date">Le dimanche 05 janvier 2020</div><ul 
 class="gski-epreuve-liste-infos"><li>Codex épreuve FMVF0063</li><li>Mass St
 art (Depart ligne)</li><li>Catégorie(s) : U17 (Dames)</li></ul></li><li><di
 v class="gski-epreuve-date">Le dimanche 05 janvier 2020</div><ul class="gsk
 i-epreuve-liste-infos"><li>Codex épreuve FMVM0063</li><li>Mass Start (Depar
 t ligne)</li><li>Catégorie(s) : U17 (Hommes)</li></ul></li><li><div class="
 gski-epreuve-date">Le dimanche 05 janvier 2020</div><ul class="gski-epreuve
 -liste-infos"><li>Codex épreuve FMVF0064</li><li>Mass Start (Depart ligne)<
 /li><li>Catégorie(s) : U20/SEN (Dames)</li></ul></li><li><div class="gski-e
 preuve-date">Le dimanche 05 janvier 2020</div><ul class="gski-epreuve-liste
 -infos"><li>Codex épreuve FMVM0064</li><li>Mass Start (Depart ligne)</li><l
 i>Catégorie(s) : U20/SEN (Hommes)</li></ul></li></ul></div><div class="gski
 epreuves-links"><ul><li><a href="https://skivosges.net/index.php?option=com
 _jevents&task=icalevent.detail&evid=1341&Itemid=6289">Voir les informations
  dans l'agenda...</a></li><li><a href="https://skivosges.net/index.php?opti
 on=com_gskiepreuves&view=afficheresultats&format_option=tous&filter[search]
 =FMVT0060&filter[date_debut]=05-01-2020&filter[date_fin]=05-01-2020&code_ac
 tivite=FOND&Itemid=6289">Vers les résultats...</a></li><li>Publications con
 cernant cet évènement :<ul><li><a href="https://skivosges.net/index.php?opt
 ion=com_content&view=article&id=7029&Itemid=6289">Lundi 6 Janvier 2020 à 17
 :58 : Le 05/01/2020 LE BREITFIRST Résultats</a></li><li><a href="https://sk
 ivosges.net/index.php?option=com_content&view=article&id=7028&Itemid=6289">
 Dimanche 5 Janvier 2020 à 14:18 : Le 05/01/2020 LE BREITFIRST Résultats</a>
 </li><li><a href="https://skivosges.net/index.php?option=com_content&view=a
 rticle&id=7027&Itemid=6289">Vendredi 3 Janvier 2020 à 22:53 : Le 05/01/2020
  MARKSTEIN Liste de départs</a></li></ul></li></ul></div></div"><!-- #/gski
 epreuve fin du dode généré par le plugin jevents pour GskiEpreuves. . Ne pa
 s modifier cette ligne, ni tout le contenu précedant.  #/gskiepreuve --> <a
  href="https://skivosges.net/agenda/a-venir/detailevenement/1346/-/coupe-ha
 hnenbrunnen-roedelen-chp-vosges-big-mat-atomic-n-4-credit-mutuel-n-4?tmpl=c
 omponent">Cet évènement a été importé depuis :https://skivosges.net/agenda/
 a-venir/detailevenement/1346/-/coupe-hahnenbrunnen-roedelen-chp-vosges-big-
 mat-atomic-n-4-credit-mutuel-n-4?tmpl=component</a>DTSTAMP:20260423T133139
DTSTART;TZID=Europe/Paris;VALUE=DATE:20200105
DTEND;TZID=Europe/Paris;VALUE=DATE:20200106
SEQUENCE:0
TRANSP:OPAQUE
END:VEVENT
END:VCALENDAR