BEGIN:VCALENDAR
VERSION:2.0
PRODID:-//jEvents 2.0 for Joomla//EN
CALSCALE:GREGORIAN
METHOD:PUBLISH
BEGIN:VTIMEZONE
TZID:Europe/Paris
BEGIN:STANDARD
DTSTART:20190110T000000
RDATE:20190331T030000
TZOFFSETFROM:+0200
TZOFFSETTO:+0100
TZNAME:Europe/Paris CET
END:STANDARD
BEGIN:STANDARD
DTSTART:20191027T020000
RDATE:20200329T030000
TZOFFSETFROM:+0200
TZOFFSETTO:+0100
TZNAME:Europe/Paris CET
END:STANDARD
BEGIN:STANDARD
DTSTART:20201025T020000
RDATE:20210328T030000
TZOFFSETFROM:+0200
TZOFFSETTO:+0100
TZNAME:Europe/Paris CET
END:STANDARD
BEGIN:STANDARD
DTSTART:20211031T020000
RDATE:20220327T030000
TZOFFSETFROM:+0200
TZOFFSETTO:+0100
TZNAME:Europe/Paris CET
END:STANDARD
BEGIN:STANDARD
DTSTART:20221030T020000
RDATE:20230326T030000
TZOFFSETFROM:+0200
TZOFFSETTO:+0100
TZNAME:Europe/Paris CET
END:STANDARD
BEGIN:STANDARD
DTSTART:20231029T020000
RDATE:20240331T030000
TZOFFSETFROM:+0200
TZOFFSETTO:+0100
TZNAME:Europe/Paris CET
END:STANDARD
BEGIN:STANDARD
DTSTART:20241027T020000
RDATE:20250330T030000
TZOFFSETFROM:+0200
TZOFFSETTO:+0100
TZNAME:Europe/Paris CET
END:STANDARD
BEGIN:STANDARD
DTSTART:20251026T020000
RDATE:20260329T030000
TZOFFSETFROM:+0200
TZOFFSETTO:+0100
TZNAME:Europe/Paris CET
END:STANDARD
BEGIN:STANDARD
DTSTART:20261025T020000
RDATE:20270328T030000
TZOFFSETFROM:+0200
TZOFFSETTO:+0100
TZNAME:Europe/Paris CET
END:STANDARD
BEGIN:DAYLIGHT
DTSTART:20190331T030000
RDATE:20191027T020000
TZOFFSETFROM:+0100
TZOFFSETTO:+0200
TZNAME:Europe/Paris CEST
END:DAYLIGHT
BEGIN:DAYLIGHT
DTSTART:20200329T030000
RDATE:20201025T020000
TZOFFSETFROM:+0100
TZOFFSETTO:+0200
TZNAME:Europe/Paris CEST
END:DAYLIGHT
BEGIN:DAYLIGHT
DTSTART:20210328T030000
RDATE:20211031T020000
TZOFFSETFROM:+0100
TZOFFSETTO:+0200
TZNAME:Europe/Paris CEST
END:DAYLIGHT
BEGIN:DAYLIGHT
DTSTART:20220327T030000
RDATE:20221030T020000
TZOFFSETFROM:+0100
TZOFFSETTO:+0200
TZNAME:Europe/Paris CEST
END:DAYLIGHT
BEGIN:DAYLIGHT
DTSTART:20230326T030000
RDATE:20231029T020000
TZOFFSETFROM:+0100
TZOFFSETTO:+0200
TZNAME:Europe/Paris CEST
END:DAYLIGHT
BEGIN:DAYLIGHT
DTSTART:20240331T030000
RDATE:20241027T020000
TZOFFSETFROM:+0100
TZOFFSETTO:+0200
TZNAME:Europe/Paris CEST
END:DAYLIGHT
BEGIN:DAYLIGHT
DTSTART:20250330T030000
RDATE:20251026T020000
TZOFFSETFROM:+0100
TZOFFSETTO:+0200
TZNAME:Europe/Paris CEST
END:DAYLIGHT
BEGIN:DAYLIGHT
DTSTART:20260329T030000
RDATE:20261025T020000
TZOFFSETFROM:+0100
TZOFFSETTO:+0200
TZNAME:Europe/Paris CEST
END:DAYLIGHT
END:VTIMEZONE
BEGIN:VEVENT
UID:00d789205c97ab72e9d6b8940c5813a3
CATEGORIES:Compétition Ski de Fond
CREATED:20191111T130349
SUMMARY:SAMSE NATIONAL TOUR FFS 3 COUPE DE FRANCE
URL;VALUE=URI:https://skivosges.net/agenda/a-venir/detailevenement/1347/-/samse-national-
 tour-ffs-3-coupe-de-france?tmpl=component
DESCRIPTION:<!-- #gskiepreuve code généré par le plugin jevents pour GskiEpreuves. Ne p
 as modifier cette ligne, ni tout le contenu suivant  #gskiepreuve --><div c
 lass="gski-evenement_infos"><div class="gski-evenement-nom">SAMSE NATIONAL 
 TOUR FFS 3 COUPE DE FRANCE</div><div class="gski-evenement-report"></div><u
 l class="gski-evenement-liste-infos"><li>Codex évenement FNAT0080</li><li>S
 tation : MARKSTEIN</li><li>Organisateur : 14053 S.C MARKSTEIN RANSPACH</li>
 <li>Courriel : <!-- Cette adresse électronique est protégée contre les robo
 ts spammeurs. --><span class="cloaked_email ep_bb7440b7"><span data-ep-a="&
 #115;k&#105;&#99;lu" data-ep-b="&#110;&#103;&#101;&#46;&#102;&#114;"><span 
 data-ep-b="c&#104;&#64;o&#114;a" data-ep-a="b&#46;&#109;&#97;r&#107;"><span
  data-ep-a="&#115;&#116;&#101;&#105;n&#45;" data-ep-b="&#114;a&#110;sp&#97;
 "></span></span></span></span><script>RegularLabs.EmailProtector.unCloak("e
 p_bb7440b7");</script></li><li>Téléphone : 06 71 00 26 39</li></ul><div cla
 ss="gski-evenement-infos-2"><div class="gski-evenement-info-inscriptions"><
 div class="gski-evenement-inscriptions-periodes">Période d'inscription à l'
 evènement du samedi 04 janvier 2020 à 00:00 au jeudi 09 janvier 2020 à 12:0
 0 <span class="gski-evenement-inscriptions-impossibles">(Inscriptions impos
 sibles).</span><div class="gski-evenement-inscriptions-types-titres">Inscri
 ptions ouvertes aux detenteurs des titres Fédéraux valides suivants : Licen
 ciés Compétiteurs</div></div></div><div class="gski-evenement-epreuves"><di
 v class="gski-evenement-epreuves-titres">Epreuves :</div><ul class="gski-ev
 enement-epreuves-list"><li><div class="gski-epreuve-date">Le samedi 11 janv
 ier 2020</div><ul class="gski-epreuve-liste-infos"><li>Codex épreuve FNAM00
 81</li><li>Mass Start (Depart ligne)</li><li>Catégorie(s) : U17 (Hommes)</l
 i></ul></li><li><div class="gski-epreuve-date">Le samedi 11 janvier 2020</d
 iv><ul class="gski-epreuve-liste-infos"><li>Codex épreuve FNAF0081</li><li>
 Mass Start (Depart ligne)</li><li>Catégorie(s) : U17 (Dames)</li></ul></li>
 <li><div class="gski-epreuve-date">Le samedi 11 janvier 2020</div><ul class
 ="gski-epreuve-liste-infos"><li>Codex épreuve FNAF0082</li><li>Mass Start (
 Depart ligne)</li><li>Catégorie(s) : U20/SEN (Dames)</li></ul></li><li><div
  class="gski-epreuve-date">Le samedi 11 janvier 2020</div><ul class="gski-e
 preuve-liste-infos"><li>Codex épreuve FNAM0082</li><li>Mass Start (Depart l
 igne)</li><li>Catégorie(s) : U20 (Hommes)</li></ul></li><li><div class="gsk
 i-epreuve-date">Le samedi 11 janvier 2020</div><ul class="gski-epreuve-list
 e-infos"><li>Codex épreuve FNAM0083</li><li>Mass Start (Depart ligne)</li><
 li>Catégorie(s) : Senior (Hommes)</li></ul></li><li><div class="gski-epreuv
 e-date">Le samedi 11 janvier 2020</div><ul class="gski-epreuve-liste-infos"
 ><li>Codex épreuve FNAF0083</li><li>Depart Individuel</li><li>Catégorie(s) 
 : U17 (Dames)</li></ul></li><li><div class="gski-epreuve-date">Le samedi 11
  janvier 2020</div><ul class="gski-epreuve-liste-infos"><li>Codex épreuve F
 NAM0084</li><li>Depart Individuel</li><li>Catégorie(s) : U17 (Hommes)</li><
 /ul></li><li><div class="gski-epreuve-date">Le samedi 11 janvier 2020</div>
 <ul class="gski-epreuve-liste-infos"><li>Codex épreuve FNAM0085</li><li>Dep
 art Individuel</li><li>Catégorie(s) : U20 (Hommes)</li></ul></li><li><div c
 lass="gski-epreuve-date">Le samedi 11 janvier 2020</div><ul class="gski-epr
 euve-liste-infos"><li>Codex épreuve FNAM0086</li><li>Depart Individuel</li>
 <li>Catégorie(s) : Senior (Hommes)</li></ul></li><li><div class="gski-epreu
 ve-date">Le dimanche 12 janvier 2020</div><ul class="gski-epreuve-liste-inf
 os"><li>Codex épreuve FNAM0087</li><li>Depart Individuel</li><li>Catégorie(
 s) : U20/SEN (Hommes)</li></ul></li><li><div class="gski-epreuve-date">Le d
 imanche 12 janvier 2020</div><ul class="gski-epreuve-liste-infos"><li>Codex
  épreuve FNAF0084</li><li>Depart Individuel</li><li>Catégorie(s) : U20/SEN 
 (Dames)</li></ul></li></ul></div><div class="gskiepreuves-links"><ul><li><a
  href="/index.php?option=com_jevents&task=icalevent.detail&evid=1342&Itemid
 =6289">Voir les informations dans l'agenda...</a></li><li><a href="/index.p
 hp?option=com_gskiepreuves&view=afficheresultats&format_option=tous&filter[
 search]=FNAT0080&filter[date_debut]=11-01-2020&filter[date_fin]=11-01-2020&
 code_activite=FOND&Itemid=6289">Vers les résultats...</a></li></ul></div></
 div"><!-- #/gskiepreuve fin du dode généré par le plugin jevents pour GskiE
 preuves. . Ne pas modifier cette ligne, ni tout le contenu précedant.  #/gs
 kiepreuve --> <a href="https://skivosges.net/agenda/a-venir/detailevenement
 /1347/-/samse-national-tour-ffs-3-coupe-de-france?tmpl=component">Cet évène
 ment a été importé depuis :https://skivosges.net/agenda/a-venir/detailevene
 ment/1347/-/samse-national-tour-ffs-3-coupe-de-france?tmpl=component</a>
X-ALT-DESC;FMTTYPE=text/html:<!-- #gskiepreuve code généré par le plugin jevents pour GskiEpreuves. Ne p
 as modifier cette ligne, ni tout le contenu suivant  #gskiepreuve --><div c
 lass="gski-evenement_infos"><div class="gski-evenement-nom">SAMSE NATIONAL 
 TOUR FFS 3 COUPE DE FRANCE</div><div class="gski-evenement-report"></div><u
 l class="gski-evenement-liste-infos"><li>Codex évenement FNAT0080</li><li>S
 tation : MARKSTEIN</li><li>Organisateur : 14053 S.C MARKSTEIN RANSPACH</li>
 <li>Courriel : <!-- Cette adresse électronique est protégée contre les robo
 ts spammeurs. --><span class="cloaked_email ep_bb7440b7"><span data-ep-a="&
 #115;k&#105;&#99;lu" data-ep-b="&#110;&#103;&#101;&#46;&#102;&#114;"><span 
 data-ep-b="c&#104;&#64;o&#114;a" data-ep-a="b&#46;&#109;&#97;r&#107;"><span
  data-ep-a="&#115;&#116;&#101;&#105;n&#45;" data-ep-b="&#114;a&#110;sp&#97;
 "></span></span></span></span><script>RegularLabs.EmailProtector.unCloak("e
 p_bb7440b7");</script></li><li>Téléphone : 06 71 00 26 39</li></ul><div cla
 ss="gski-evenement-infos-2"><div class="gski-evenement-info-inscriptions"><
 div class="gski-evenement-inscriptions-periodes">Période d'inscription à l'
 evènement du samedi 04 janvier 2020 à 00:00 au jeudi 09 janvier 2020 à 12:0
 0 <span class="gski-evenement-inscriptions-impossibles">(Inscriptions impos
 sibles).</span><div class="gski-evenement-inscriptions-types-titres">Inscri
 ptions ouvertes aux detenteurs des titres Fédéraux valides suivants : Licen
 ciés Compétiteurs</div></div></div><div class="gski-evenement-epreuves"><di
 v class="gski-evenement-epreuves-titres">Epreuves :</div><ul class="gski-ev
 enement-epreuves-list"><li><div class="gski-epreuve-date">Le samedi 11 janv
 ier 2020</div><ul class="gski-epreuve-liste-infos"><li>Codex épreuve FNAM00
 81</li><li>Mass Start (Depart ligne)</li><li>Catégorie(s) : U17 (Hommes)</l
 i></ul></li><li><div class="gski-epreuve-date">Le samedi 11 janvier 2020</d
 iv><ul class="gski-epreuve-liste-infos"><li>Codex épreuve FNAF0081</li><li>
 Mass Start (Depart ligne)</li><li>Catégorie(s) : U17 (Dames)</li></ul></li>
 <li><div class="gski-epreuve-date">Le samedi 11 janvier 2020</div><ul class
 ="gski-epreuve-liste-infos"><li>Codex épreuve FNAF0082</li><li>Mass Start (
 Depart ligne)</li><li>Catégorie(s) : U20/SEN (Dames)</li></ul></li><li><div
  class="gski-epreuve-date">Le samedi 11 janvier 2020</div><ul class="gski-e
 preuve-liste-infos"><li>Codex épreuve FNAM0082</li><li>Mass Start (Depart l
 igne)</li><li>Catégorie(s) : U20 (Hommes)</li></ul></li><li><div class="gsk
 i-epreuve-date">Le samedi 11 janvier 2020</div><ul class="gski-epreuve-list
 e-infos"><li>Codex épreuve FNAM0083</li><li>Mass Start (Depart ligne)</li><
 li>Catégorie(s) : Senior (Hommes)</li></ul></li><li><div class="gski-epreuv
 e-date">Le samedi 11 janvier 2020</div><ul class="gski-epreuve-liste-infos"
 ><li>Codex épreuve FNAF0083</li><li>Depart Individuel</li><li>Catégorie(s) 
 : U17 (Dames)</li></ul></li><li><div class="gski-epreuve-date">Le samedi 11
  janvier 2020</div><ul class="gski-epreuve-liste-infos"><li>Codex épreuve F
 NAM0084</li><li>Depart Individuel</li><li>Catégorie(s) : U17 (Hommes)</li><
 /ul></li><li><div class="gski-epreuve-date">Le samedi 11 janvier 2020</div>
 <ul class="gski-epreuve-liste-infos"><li>Codex épreuve FNAM0085</li><li>Dep
 art Individuel</li><li>Catégorie(s) : U20 (Hommes)</li></ul></li><li><div c
 lass="gski-epreuve-date">Le samedi 11 janvier 2020</div><ul class="gski-epr
 euve-liste-infos"><li>Codex épreuve FNAM0086</li><li>Depart Individuel</li>
 <li>Catégorie(s) : Senior (Hommes)</li></ul></li><li><div class="gski-epreu
 ve-date">Le dimanche 12 janvier 2020</div><ul class="gski-epreuve-liste-inf
 os"><li>Codex épreuve FNAM0087</li><li>Depart Individuel</li><li>Catégorie(
 s) : U20/SEN (Hommes)</li></ul></li><li><div class="gski-epreuve-date">Le d
 imanche 12 janvier 2020</div><ul class="gski-epreuve-liste-infos"><li>Codex
  épreuve FNAF0084</li><li>Depart Individuel</li><li>Catégorie(s) : U20/SEN 
 (Dames)</li></ul></li></ul></div><div class="gskiepreuves-links"><ul><li><a
  href="https://skivosges.net/index.php?option=com_jevents&task=icalevent.de
 tail&evid=1342&Itemid=6289">Voir les informations dans l'agenda...</a></li>
 <li><a href="https://skivosges.net/index.php?option=com_gskiepreuves&view=a
 fficheresultats&format_option=tous&filter[search]=FNAT0080&filter[date_debu
 t]=11-01-2020&filter[date_fin]=11-01-2020&code_activite=FOND&Itemid=6289">V
 ers les résultats...</a></li></ul></div></div"><!-- #/gskiepreuve fin du do
 de généré par le plugin jevents pour GskiEpreuves. . Ne pas modifier cette 
 ligne, ni tout le contenu précedant.  #/gskiepreuve --> <a href="https://sk
 ivosges.net/agenda/a-venir/detailevenement/1347/-/samse-national-tour-ffs-3
 -coupe-de-france?tmpl=component">Cet évènement a été importé depuis :https:
 //skivosges.net/agenda/a-venir/detailevenement/1347/-/samse-national-tour-f
 fs-3-coupe-de-france?tmpl=component</a>DTSTAMP:20260423T144716
DTSTART;TZID=Europe/Paris;VALUE=DATE:20200111
DTEND;TZID=Europe/Paris;VALUE=DATE:20200112
SEQUENCE:0
TRANSP:OPAQUE
END:VEVENT
END:VCALENDAR