BEGIN:VCALENDAR
VERSION:2.0
PRODID:-//jEvents 2.0 for Joomla//EN
CALSCALE:GREGORIAN
METHOD:PUBLISH
BEGIN:VTIMEZONE
TZID:Europe/Paris
BEGIN:STANDARD
DTSTART:20130214T080000
RDATE:20130331T030000
TZOFFSETFROM:+0200
TZOFFSETTO:+0100
TZNAME:Europe/Paris CET
END:STANDARD
BEGIN:STANDARD
DTSTART:20131027T020000
RDATE:20140330T030000
TZOFFSETFROM:+0200
TZOFFSETTO:+0100
TZNAME:Europe/Paris CET
END:STANDARD
BEGIN:STANDARD
DTSTART:20141026T020000
RDATE:20150329T030000
TZOFFSETFROM:+0200
TZOFFSETTO:+0100
TZNAME:Europe/Paris CET
END:STANDARD
BEGIN:STANDARD
DTSTART:20151025T020000
RDATE:20160327T030000
TZOFFSETFROM:+0200
TZOFFSETTO:+0100
TZNAME:Europe/Paris CET
END:STANDARD
BEGIN:STANDARD
DTSTART:20161030T020000
RDATE:20170326T030000
TZOFFSETFROM:+0200
TZOFFSETTO:+0100
TZNAME:Europe/Paris CET
END:STANDARD
BEGIN:STANDARD
DTSTART:20171029T020000
RDATE:20180325T030000
TZOFFSETFROM:+0200
TZOFFSETTO:+0100
TZNAME:Europe/Paris CET
END:STANDARD
BEGIN:STANDARD
DTSTART:20181028T020000
RDATE:20190331T030000
TZOFFSETFROM:+0200
TZOFFSETTO:+0100
TZNAME:Europe/Paris CET
END:STANDARD
BEGIN:STANDARD
DTSTART:20191027T020000
RDATE:20200329T030000
TZOFFSETFROM:+0200
TZOFFSETTO:+0100
TZNAME:Europe/Paris CET
END:STANDARD
BEGIN:STANDARD
DTSTART:20201025T020000
RDATE:20210328T030000
TZOFFSETFROM:+0200
TZOFFSETTO:+0100
TZNAME:Europe/Paris CET
END:STANDARD
BEGIN:STANDARD
DTSTART:20211031T020000
RDATE:20220327T030000
TZOFFSETFROM:+0200
TZOFFSETTO:+0100
TZNAME:Europe/Paris CET
END:STANDARD
BEGIN:STANDARD
DTSTART:20221030T020000
RDATE:20230326T030000
TZOFFSETFROM:+0200
TZOFFSETTO:+0100
TZNAME:Europe/Paris CET
END:STANDARD
BEGIN:STANDARD
DTSTART:20231029T020000
RDATE:20240331T030000
TZOFFSETFROM:+0200
TZOFFSETTO:+0100
TZNAME:Europe/Paris CET
END:STANDARD
BEGIN:STANDARD
DTSTART:20241027T020000
RDATE:20250330T030000
TZOFFSETFROM:+0200
TZOFFSETTO:+0100
TZNAME:Europe/Paris CET
END:STANDARD
BEGIN:STANDARD
DTSTART:20251026T020000
RDATE:20260329T030000
TZOFFSETFROM:+0200
TZOFFSETTO:+0100
TZNAME:Europe/Paris CET
END:STANDARD
BEGIN:STANDARD
DTSTART:20261025T020000
RDATE:20270328T030000
TZOFFSETFROM:+0200
TZOFFSETTO:+0100
TZNAME:Europe/Paris CET
END:STANDARD
BEGIN:DAYLIGHT
DTSTART:20130331T030000
RDATE:20131027T020000
TZOFFSETFROM:+0100
TZOFFSETTO:+0200
TZNAME:Europe/Paris CEST
END:DAYLIGHT
BEGIN:DAYLIGHT
DTSTART:20140330T030000
RDATE:20141026T020000
TZOFFSETFROM:+0100
TZOFFSETTO:+0200
TZNAME:Europe/Paris CEST
END:DAYLIGHT
BEGIN:DAYLIGHT
DTSTART:20150329T030000
RDATE:20151025T020000
TZOFFSETFROM:+0100
TZOFFSETTO:+0200
TZNAME:Europe/Paris CEST
END:DAYLIGHT
BEGIN:DAYLIGHT
DTSTART:20160327T030000
RDATE:20161030T020000
TZOFFSETFROM:+0100
TZOFFSETTO:+0200
TZNAME:Europe/Paris CEST
END:DAYLIGHT
BEGIN:DAYLIGHT
DTSTART:20170326T030000
RDATE:20171029T020000
TZOFFSETFROM:+0100
TZOFFSETTO:+0200
TZNAME:Europe/Paris CEST
END:DAYLIGHT
BEGIN:DAYLIGHT
DTSTART:20180325T030000
RDATE:20181028T020000
TZOFFSETFROM:+0100
TZOFFSETTO:+0200
TZNAME:Europe/Paris CEST
END:DAYLIGHT
BEGIN:DAYLIGHT
DTSTART:20190331T030000
RDATE:20191027T020000
TZOFFSETFROM:+0100
TZOFFSETTO:+0200
TZNAME:Europe/Paris CEST
END:DAYLIGHT
BEGIN:DAYLIGHT
DTSTART:20200329T030000
RDATE:20201025T020000
TZOFFSETFROM:+0100
TZOFFSETTO:+0200
TZNAME:Europe/Paris CEST
END:DAYLIGHT
BEGIN:DAYLIGHT
DTSTART:20210328T030000
RDATE:20211031T020000
TZOFFSETFROM:+0100
TZOFFSETTO:+0200
TZNAME:Europe/Paris CEST
END:DAYLIGHT
BEGIN:DAYLIGHT
DTSTART:20220327T030000
RDATE:20221030T020000
TZOFFSETFROM:+0100
TZOFFSETTO:+0200
TZNAME:Europe/Paris CEST
END:DAYLIGHT
BEGIN:DAYLIGHT
DTSTART:20230326T030000
RDATE:20231029T020000
TZOFFSETFROM:+0100
TZOFFSETTO:+0200
TZNAME:Europe/Paris CEST
END:DAYLIGHT
BEGIN:DAYLIGHT
DTSTART:20240331T030000
RDATE:20241027T020000
TZOFFSETFROM:+0100
TZOFFSETTO:+0200
TZNAME:Europe/Paris CEST
END:DAYLIGHT
BEGIN:DAYLIGHT
DTSTART:20250330T030000
RDATE:20251026T020000
TZOFFSETFROM:+0100
TZOFFSETTO:+0200
TZNAME:Europe/Paris CEST
END:DAYLIGHT
BEGIN:DAYLIGHT
DTSTART:20260329T030000
RDATE:20261025T020000
TZOFFSETFROM:+0100
TZOFFSETTO:+0200
TZNAME:Europe/Paris CEST
END:DAYLIGHT
END:VTIMEZONE
BEGIN:VEVENT
UID:20e9b9068642b3be6b7b2910292ab2e1
CATEGORIES:Opens et Promos (alpin)
CREATED:20131203T122100
SUMMARY:OPEN U10 à U14 Prix du Conseil Général / Ch Dép 90 **REPORTE**
URL;VALUE=URI:https://skivosges.net/agenda/a-venir/detailevenement/135/-/open-u10-a-u14-p
 rix-du-conseil-general-ch-dep-90-reporte?tmpl=component
DESCRIPTION:OPEN U10 à U14 Prix du Conseil Général / Ch Dép 90 (Epreuve reportée, date 
 à determiner)\n\nLieu : BALLON D´ALSACE \nOrganisateur : CD SKI 90 (14004 S
 TE SKI TOURISME MONTAGNE)\nEmail : RegularLabs.EmailProtector.unCloak("ep_2
 540b7b3");\n\nInscriptions prévues sur le site (dès début de période d´insc
 ription)\n  Lieu:BALLON D'ALSACE \n  Organisateur:STE SKI TOURISME MONTAGNE
  \n - AMVF0521  Slalom Geant U10 Filles\n  OPEN U10 à U14 Prix du Conseil G
 énéral / Championnat Départemental 90\n  Lieu:BALLON D'ALSACE \n  Organisat
 eur:STE SKI TOURISME MONTAGNE \n - AMVM0521  Slalom Geant U10 Garçons\n  OP
 EN U10 à U14 Prix du Conseil Général / Championnat Départemental 90\n  Lieu
 :BALLON D'ALSACE \n  Organisateur:STE SKI TOURISME MONTAGNE \n - AMVF0522  
 Slalom Geant de 10 a 13ans au 31/12/2012 (Pou/Ben) Filles\n  OPEN U10 à U14
  Prix du Conseil Général / Championnat Départemental 90\n  Lieu:BALLON D'AL
 SACE \n  Organisateur:STE SKI TOURISME MONTAGNE \n - AMVM0522  Slalom Geant
  de 10 a 13ans au 31/12/2012 (Pou/Ben) Garçons\n  OPEN U10 à U14 Prix du Co
 nseil Général / Championnat Départemental 90 Cet évènement a été importé de
 puis :https://skivosges.net/agenda/a-venir/detailevenement/135/-/open-u10-a
 -u14-prix-du-conseil-general-ch-dep-90-reporte?tmpl=component
X-ALT-DESC;FMTTYPE=text/html:<strong>OPEN U10 à U14 Prix du Conseil Général / Ch Dép 90</strong> <font c
 lass="attention4">(Epreuve reportée, date à determiner)</font><br /><br />L
 ieu : BALLON D&acute;ALSACE <br />Organisateur : CD SKI 90 <small>(14004 ST
 E SKI TOURISME MONTAGNE)</small><br />Email : <!-- Cette adresse électroniq
 ue est protégée contre les robots spammeurs. --><span class="cloaked_email 
 ep_2540b7b3"><span data-ep-b="&#111;&#109;" data-ep-a="y&#106;a"><span data
 -ep-b="&#115;&#46;&#99;" data-ep-a="&#99;&#111;&#98;"><span data-ep-b="&#10
 1;f&#97;" data-ep-a="&#115;&#64;s"></span></span></span></span><script>Regu
 larLabs.EmailProtector.unCloak("ep_2540b7b3");</script><br /><br />Inscript
 ions prévues sur le site <small>(dès début de période d´inscription)</small
 ><ul type="disc"><br />&nbsp;&nbsp;Lieu:BALLON D'ALSACE <br />&nbsp;&nbsp;O
 rganisateur:STE SKI TOURISME MONTAGNE <li>AMVF0521  Slalom Geant <nobr>U10<
 /nobr> Filles<br />&nbsp;&nbsp;OPEN U10 à U14 Prix du Conseil Général / Cha
 mpionnat Départemental 90</li><br />&nbsp;&nbsp;Lieu:BALLON D'ALSACE <br />
 &nbsp;&nbsp;Organisateur:STE SKI TOURISME MONTAGNE <li>AMVM0521  Slalom Gea
 nt <nobr>U10</nobr> Garçons<br />&nbsp;&nbsp;OPEN U10 à U14 Prix du Conseil
  Général / Championnat Départemental 90</li><br />&nbsp;&nbsp;Lieu:BALLON D
 'ALSACE <br />&nbsp;&nbsp;Organisateur:STE SKI TOURISME MONTAGNE <li>AMVF05
 22  Slalom Geant <nobr>de 10 a 13ans au 31/12/2012 (Pou/Ben)</nobr> Filles<
 br />&nbsp;&nbsp;OPEN U10 à U14 Prix du Conseil Général / Championnat Dépar
 temental 90</li><br />&nbsp;&nbsp;Lieu:BALLON D'ALSACE <br />&nbsp;&nbsp;Or
 ganisateur:STE SKI TOURISME MONTAGNE <li>AMVM0522  Slalom Geant <nobr>de 10
  a 13ans au 31/12/2012 (Pou/Ben)</nobr> Garçons<br />&nbsp;&nbsp;OPEN U10 à
  U14 Prix du Conseil Général / Championnat Départemental 90</li></ul> <a hr
 ef="https://skivosges.net/agenda/a-venir/detailevenement/135/-/open-u10-a-u
 14-prix-du-conseil-general-ch-dep-90-reporte?tmpl=component">Cet évènement 
 a été importé depuis :https://skivosges.net/agenda/a-venir/detailevenement/
 135/-/open-u10-a-u14-prix-du-conseil-general-ch-dep-90-reporte?tmpl=compone
 nt</a>DTSTAMP:20260424T012508
DTSTART;TZID=Europe/Paris:20140215T080000
DTEND;TZID=Europe/Paris:20140215T170000
SEQUENCE:0
TRANSP:OPAQUE
END:VEVENT
END:VCALENDAR