BEGIN:VCALENDAR
VERSION:2.0
PRODID:-//jEvents 2.0 for Joomla//EN
CALSCALE:GREGORIAN
METHOD:PUBLISH
BEGIN:VTIMEZONE
TZID:Europe/Paris
BEGIN:STANDARD
DTSTART:20190110T000000
RDATE:20190331T030000
TZOFFSETFROM:+0200
TZOFFSETTO:+0100
TZNAME:Europe/Paris CET
END:STANDARD
BEGIN:STANDARD
DTSTART:20191027T020000
RDATE:20200329T030000
TZOFFSETFROM:+0200
TZOFFSETTO:+0100
TZNAME:Europe/Paris CET
END:STANDARD
BEGIN:STANDARD
DTSTART:20201025T020000
RDATE:20210328T030000
TZOFFSETFROM:+0200
TZOFFSETTO:+0100
TZNAME:Europe/Paris CET
END:STANDARD
BEGIN:STANDARD
DTSTART:20211031T020000
RDATE:20220327T030000
TZOFFSETFROM:+0200
TZOFFSETTO:+0100
TZNAME:Europe/Paris CET
END:STANDARD
BEGIN:STANDARD
DTSTART:20221030T020000
RDATE:20230326T030000
TZOFFSETFROM:+0200
TZOFFSETTO:+0100
TZNAME:Europe/Paris CET
END:STANDARD
BEGIN:STANDARD
DTSTART:20231029T020000
RDATE:20240331T030000
TZOFFSETFROM:+0200
TZOFFSETTO:+0100
TZNAME:Europe/Paris CET
END:STANDARD
BEGIN:STANDARD
DTSTART:20241027T020000
RDATE:20250330T030000
TZOFFSETFROM:+0200
TZOFFSETTO:+0100
TZNAME:Europe/Paris CET
END:STANDARD
BEGIN:STANDARD
DTSTART:20251026T020000
RDATE:20260329T030000
TZOFFSETFROM:+0200
TZOFFSETTO:+0100
TZNAME:Europe/Paris CET
END:STANDARD
BEGIN:STANDARD
DTSTART:20261025T020000
RDATE:20270328T030000
TZOFFSETFROM:+0200
TZOFFSETTO:+0100
TZNAME:Europe/Paris CET
END:STANDARD
BEGIN:DAYLIGHT
DTSTART:20190331T030000
RDATE:20191027T020000
TZOFFSETFROM:+0100
TZOFFSETTO:+0200
TZNAME:Europe/Paris CEST
END:DAYLIGHT
BEGIN:DAYLIGHT
DTSTART:20200329T030000
RDATE:20201025T020000
TZOFFSETFROM:+0100
TZOFFSETTO:+0200
TZNAME:Europe/Paris CEST
END:DAYLIGHT
BEGIN:DAYLIGHT
DTSTART:20210328T030000
RDATE:20211031T020000
TZOFFSETFROM:+0100
TZOFFSETTO:+0200
TZNAME:Europe/Paris CEST
END:DAYLIGHT
BEGIN:DAYLIGHT
DTSTART:20220327T030000
RDATE:20221030T020000
TZOFFSETFROM:+0100
TZOFFSETTO:+0200
TZNAME:Europe/Paris CEST
END:DAYLIGHT
BEGIN:DAYLIGHT
DTSTART:20230326T030000
RDATE:20231029T020000
TZOFFSETFROM:+0100
TZOFFSETTO:+0200
TZNAME:Europe/Paris CEST
END:DAYLIGHT
BEGIN:DAYLIGHT
DTSTART:20240331T030000
RDATE:20241027T020000
TZOFFSETFROM:+0100
TZOFFSETTO:+0200
TZNAME:Europe/Paris CEST
END:DAYLIGHT
BEGIN:DAYLIGHT
DTSTART:20250330T030000
RDATE:20251026T020000
TZOFFSETFROM:+0100
TZOFFSETTO:+0200
TZNAME:Europe/Paris CEST
END:DAYLIGHT
BEGIN:DAYLIGHT
DTSTART:20260329T030000
RDATE:20261025T020000
TZOFFSETFROM:+0100
TZOFFSETTO:+0200
TZNAME:Europe/Paris CEST
END:DAYLIGHT
END:VTIMEZONE
BEGIN:VEVENT
UID:d5f96ceab2940a92d73055def7b7b514
CATEGORIES:Circuit Massif Masters (alpin)
CREATED:20191111T130349
SUMMARY:CMM  Esprit Racing prix Mat Peinture **REPORTE**
URL;VALUE=URI:https://skivosges.net/agenda/a-venir/detailevenement/1350/-/cmm-esprit-raci
 ng-prix-mat-peinture-reporte?tmpl=component
DESCRIPTION:<!-- #gskiepreuve code généré par le plugin jevents pour GskiEpreuves. Ne p
 as modifier cette ligne, ni tout le contenu suivant  #gskiepreuve --><div c
 lass="gski-evenement_infos"><div class="gski-evenement-nom">CMM  Esprit Rac
 ing prix Mat Peinture</div><div class="gski-evenement-report"> <font class=
 "gskiattention">(Epreuve reportée, date à determiner)</font></div><ul class
 ="gski-evenement-liste-infos"><li>Codex évenement AMVT0080</li><li>Station 
 : ROUGE GAZON</li><li>Organisateur : 14063 SKIEURS DE ST MAURICE/MOSELLE</l
 i><li>Courriel : <!-- Cette adresse électronique est protégée contre les ro
 bots spammeurs. --><span class="cloaked_email ep_13349eaa"><span data-ep-a=
 "d&#97;&#110;&#105;" data-ep-b=""><span data-ep-a="&#101;&#108;&#46;m" data
 -ep-b="&#114;&#46;&#102;&#114;"><span data-ep-b="&#53;&#64;&#115;&#102;" da
 ta-ep-a="&#111;&#114;&#101;l"></span></span></span></span><script>RegularLa
 bs.EmailProtector.unCloak("ep_13349eaa");</script></li><li><span class="gsk
 i-evenement-obs">Délégué Technique : DODIN YVES</span></li></ul><div class=
 "gski-evenement-infos-2"><div class="gski-evenement-info-inscriptions"><div
  class="gski-evenement-inscriptions-periodes">Période d'inscription à l'evè
 nement du samedi 04 janvier 2020 à 00:00 au jeudi 09 janvier 2020 à 12:00 <
 span class="gski-evenement-inscriptions-impossibles">(Inscriptions impossib
 les).</span><div class="gski-evenement-inscriptions-types-titres">Inscripti
 ons ouvertes aux detenteurs des titres Fédéraux valides suivants : Licencié
 s Compétiteurs</div></div></div><div class="gski-evenement-epreuves"><div c
 lass="gski-evenement-epreuves-titres">Epreuves :</div><ul class="gski-evene
 ment-epreuves-list"><li><div class="gski-epreuve-date">Le samedi 11 janvier
  2020</div><ul class="gski-epreuve-liste-infos"><li>Codex épreuve AMVM0081<
 /li><li>Slalom Geant</li><li>Catégorie(s) : Tous les Masters+U21+U30 Hommes
  (Hommes)</li></ul></li><li><div class="gski-epreuve-date">Le samedi 11 jan
 vier 2020</div><ul class="gski-epreuve-liste-infos"><li>Codex épreuve AMVF0
 081</li><li>Slalom Geant</li><li>Catégorie(s) : Tous les Masters+U21+U30 Da
 mes (Dames)</li></ul></li></ul></div><div class="gskiepreuves-links"><ul><l
 i><a href="/index.php?option=com_jevents&task=icalevent.detail&evid=1345&It
 emid=6289">Voir les informations dans l'agenda...</a></li></ul></div></div"
 ><!-- #/gskiepreuve fin du dode généré par le plugin jevents pour GskiEpreu
 ves. . Ne pas modifier cette ligne, ni tout le contenu précedant.  #/gskiep
 reuve --> <a href="https://skivosges.net/agenda/a-venir/detailevenement/135
 0/-/cmm-esprit-racing-prix-mat-peinture-reporte?tmpl=component">Cet évèneme
 nt a été importé depuis :https://skivosges.net/agenda/a-venir/detaileveneme
 nt/1350/-/cmm-esprit-racing-prix-mat-peinture-reporte?tmpl=component</a>
X-ALT-DESC;FMTTYPE=text/html:<!-- #gskiepreuve code généré par le plugin jevents pour GskiEpreuves. Ne p
 as modifier cette ligne, ni tout le contenu suivant  #gskiepreuve --><div c
 lass="gski-evenement_infos"><div class="gski-evenement-nom">CMM  Esprit Rac
 ing prix Mat Peinture</div><div class="gski-evenement-report"> <font class=
 "gskiattention">(Epreuve reportée, date à determiner)</font></div><ul class
 ="gski-evenement-liste-infos"><li>Codex évenement AMVT0080</li><li>Station 
 : ROUGE GAZON</li><li>Organisateur : 14063 SKIEURS DE ST MAURICE/MOSELLE</l
 i><li>Courriel : <!-- Cette adresse électronique est protégée contre les ro
 bots spammeurs. --><span class="cloaked_email ep_13349eaa"><span data-ep-a=
 "d&#97;&#110;&#105;" data-ep-b=""><span data-ep-a="&#101;&#108;&#46;m" data
 -ep-b="&#114;&#46;&#102;&#114;"><span data-ep-b="&#53;&#64;&#115;&#102;" da
 ta-ep-a="&#111;&#114;&#101;l"></span></span></span></span><script>RegularLa
 bs.EmailProtector.unCloak("ep_13349eaa");</script></li><li><span class="gsk
 i-evenement-obs">Délégué Technique : DODIN YVES</span></li></ul><div class=
 "gski-evenement-infos-2"><div class="gski-evenement-info-inscriptions"><div
  class="gski-evenement-inscriptions-periodes">Période d'inscription à l'evè
 nement du samedi 04 janvier 2020 à 00:00 au jeudi 09 janvier 2020 à 12:00 <
 span class="gski-evenement-inscriptions-impossibles">(Inscriptions impossib
 les).</span><div class="gski-evenement-inscriptions-types-titres">Inscripti
 ons ouvertes aux detenteurs des titres Fédéraux valides suivants : Licencié
 s Compétiteurs</div></div></div><div class="gski-evenement-epreuves"><div c
 lass="gski-evenement-epreuves-titres">Epreuves :</div><ul class="gski-evene
 ment-epreuves-list"><li><div class="gski-epreuve-date">Le samedi 11 janvier
  2020</div><ul class="gski-epreuve-liste-infos"><li>Codex épreuve AMVM0081<
 /li><li>Slalom Geant</li><li>Catégorie(s) : Tous les Masters+U21+U30 Hommes
  (Hommes)</li></ul></li><li><div class="gski-epreuve-date">Le samedi 11 jan
 vier 2020</div><ul class="gski-epreuve-liste-infos"><li>Codex épreuve AMVF0
 081</li><li>Slalom Geant</li><li>Catégorie(s) : Tous les Masters+U21+U30 Da
 mes (Dames)</li></ul></li></ul></div><div class="gskiepreuves-links"><ul><l
 i><a href="https://skivosges.net/index.php?option=com_jevents&task=icaleven
 t.detail&evid=1345&Itemid=6289">Voir les informations dans l'agenda...</a><
 /li></ul></div></div"><!-- #/gskiepreuve fin du dode généré par le plugin j
 events pour GskiEpreuves. . Ne pas modifier cette ligne, ni tout le contenu
  précedant.  #/gskiepreuve --> <a href="https://skivosges.net/agenda/a-veni
 r/detailevenement/1350/-/cmm-esprit-racing-prix-mat-peinture-reporte?tmpl=c
 omponent">Cet évènement a été importé depuis :https://skivosges.net/agenda/
 a-venir/detailevenement/1350/-/cmm-esprit-racing-prix-mat-peinture-reporte?
 tmpl=component</a>DTSTAMP:20260423T144716
DTSTART;TZID=Europe/Paris;VALUE=DATE:20200111
DTEND;TZID=Europe/Paris;VALUE=DATE:20200112
SEQUENCE:0
TRANSP:OPAQUE
END:VEVENT
END:VCALENDAR