BEGIN:VCALENDAR
VERSION:2.0
PRODID:-//jEvents 2.0 for Joomla//EN
CALSCALE:GREGORIAN
METHOD:PUBLISH
BEGIN:VTIMEZONE
TZID:Europe/Paris
BEGIN:STANDARD
DTSTART:20190110T000000
RDATE:20190331T030000
TZOFFSETFROM:+0200
TZOFFSETTO:+0100
TZNAME:Europe/Paris CET
END:STANDARD
BEGIN:STANDARD
DTSTART:20191027T020000
RDATE:20200329T030000
TZOFFSETFROM:+0200
TZOFFSETTO:+0100
TZNAME:Europe/Paris CET
END:STANDARD
BEGIN:STANDARD
DTSTART:20201025T020000
RDATE:20210328T030000
TZOFFSETFROM:+0200
TZOFFSETTO:+0100
TZNAME:Europe/Paris CET
END:STANDARD
BEGIN:STANDARD
DTSTART:20211031T020000
RDATE:20220327T030000
TZOFFSETFROM:+0200
TZOFFSETTO:+0100
TZNAME:Europe/Paris CET
END:STANDARD
BEGIN:STANDARD
DTSTART:20221030T020000
RDATE:20230326T030000
TZOFFSETFROM:+0200
TZOFFSETTO:+0100
TZNAME:Europe/Paris CET
END:STANDARD
BEGIN:STANDARD
DTSTART:20231029T020000
RDATE:20240331T030000
TZOFFSETFROM:+0200
TZOFFSETTO:+0100
TZNAME:Europe/Paris CET
END:STANDARD
BEGIN:STANDARD
DTSTART:20241027T020000
RDATE:20250330T030000
TZOFFSETFROM:+0200
TZOFFSETTO:+0100
TZNAME:Europe/Paris CET
END:STANDARD
BEGIN:STANDARD
DTSTART:20251026T020000
RDATE:20260329T030000
TZOFFSETFROM:+0200
TZOFFSETTO:+0100
TZNAME:Europe/Paris CET
END:STANDARD
BEGIN:STANDARD
DTSTART:20261025T020000
RDATE:20270328T030000
TZOFFSETFROM:+0200
TZOFFSETTO:+0100
TZNAME:Europe/Paris CET
END:STANDARD
BEGIN:DAYLIGHT
DTSTART:20190331T030000
RDATE:20191027T020000
TZOFFSETFROM:+0100
TZOFFSETTO:+0200
TZNAME:Europe/Paris CEST
END:DAYLIGHT
BEGIN:DAYLIGHT
DTSTART:20200329T030000
RDATE:20201025T020000
TZOFFSETFROM:+0100
TZOFFSETTO:+0200
TZNAME:Europe/Paris CEST
END:DAYLIGHT
BEGIN:DAYLIGHT
DTSTART:20210328T030000
RDATE:20211031T020000
TZOFFSETFROM:+0100
TZOFFSETTO:+0200
TZNAME:Europe/Paris CEST
END:DAYLIGHT
BEGIN:DAYLIGHT
DTSTART:20220327T030000
RDATE:20221030T020000
TZOFFSETFROM:+0100
TZOFFSETTO:+0200
TZNAME:Europe/Paris CEST
END:DAYLIGHT
BEGIN:DAYLIGHT
DTSTART:20230326T030000
RDATE:20231029T020000
TZOFFSETFROM:+0100
TZOFFSETTO:+0200
TZNAME:Europe/Paris CEST
END:DAYLIGHT
BEGIN:DAYLIGHT
DTSTART:20240331T030000
RDATE:20241027T020000
TZOFFSETFROM:+0100
TZOFFSETTO:+0200
TZNAME:Europe/Paris CEST
END:DAYLIGHT
BEGIN:DAYLIGHT
DTSTART:20250330T030000
RDATE:20251026T020000
TZOFFSETFROM:+0100
TZOFFSETTO:+0200
TZNAME:Europe/Paris CEST
END:DAYLIGHT
BEGIN:DAYLIGHT
DTSTART:20260329T030000
RDATE:20261025T020000
TZOFFSETFROM:+0100
TZOFFSETTO:+0200
TZNAME:Europe/Paris CEST
END:DAYLIGHT
END:VTIMEZONE
BEGIN:VEVENT
UID:fcc9530156ccbc888074159320c7b2ab
CATEGORIES:Opens et Promos (alpin)
CREATED:20191111T130349
SUMMARY:OPEN MAT PEINTURE **REPORTE**
URL;VALUE=URI:https://skivosges.net/agenda/a-venir/detailevenement/1351/-/open-mat-peintu
 re-reporte?tmpl=component
DESCRIPTION:OPEN MAT PEINTURE (Epreuve reportée, date à determiner)\n - Codex évenement
  AMVT0090\n - Station : ROUGE GAZON\n - Organisateur : 14063 SKIEURS DE ST 
 MAURICE/MOSELLE\n - Courriel : RegularLabs.EmailProtector.unCloak("ep_b4e5f
 fe4");Période d'inscription à l'evènement du samedi 04 janvier 2020 à 00:00
  au jeudi 09 janvier 2020 à 12:00 (Inscriptions impossibles).Inscriptions o
 uvertes aux detenteurs des titres Fédéraux valides suivants : Licenciés Com
 pétiteursEpreuves :\n - Le samedi 11 janvier 2020\n - Codex épreuve AMVM009
 1\n - Slalom Geant\n - Catégorie(s) : U14/U16 (Garçons)\n - Le samedi 11 ja
 nvier 2020\n - Codex épreuve AMVF0091\n - Slalom Geant\n - Catégorie(s) : U
 14/U16 (Filles)\n - Voir les informations dans l'agenda... (/index.php?opti
 on=com_jevents&amp;task=icalevent.detail&amp;evid=1346&amp;Itemid=6289) Cet
  évènement a été importé depuis :https://skivosges.net/agenda/a-venir/detai
 levenement/1351/-/open-mat-peinture-reporte?tmpl=component
X-ALT-DESC;FMTTYPE=text/html:<!-- #gskiepreuve code généré par le plugin jevents pour GskiEpreuves. Ne p
 as modifier cette ligne, ni tout le contenu suivant  #gskiepreuve --><div c
 lass="gski-evenement_infos"><div class="gski-evenement-nom">OPEN MAT PEINTU
 RE</div><div class="gski-evenement-report"> <font class="gskiattention">(Ep
 reuve reportée, date à determiner)</font></div><ul class="gski-evenement-li
 ste-infos"><li>Codex évenement AMVT0090</li><li>Station : ROUGE GAZON</li><
 li>Organisateur : 14063 SKIEURS DE ST MAURICE/MOSELLE</li><li>Courriel : <!
 -- Cette adresse électronique est protégée contre les robots spammeurs. -->
 <span class="cloaked_email ep_b4e5ffe4"><span data-ep-b="" data-ep-a="da&#1
 10;&#105;"><span data-ep-b="&#114;.fr" data-ep-a="e&#108;&#46;m"><span data
 -ep-b="5&#64;s&#102;" data-ep-a="&#111;r&#101;l"></span></span></span></spa
 n><script>RegularLabs.EmailProtector.unCloak("ep_b4e5ffe4");</script></li><
 /ul><div class="gski-evenement-infos-2"><div class="gski-evenement-info-ins
 criptions"><div class="gski-evenement-inscriptions-periodes">Période d'insc
 ription à l'evènement du samedi 04 janvier 2020 à 00:00 au jeudi 09 janvier
  2020 à 12:00 <span class="gski-evenement-inscriptions-impossibles">(Inscri
 ptions impossibles).</span><div class="gski-evenement-inscriptions-types-ti
 tres">Inscriptions ouvertes aux detenteurs des titres Fédéraux valides suiv
 ants : Licenciés Compétiteurs</div></div></div><div class="gski-evenement-e
 preuves"><div class="gski-evenement-epreuves-titres">Epreuves :</div><ul cl
 ass="gski-evenement-epreuves-list"><li><div class="gski-epreuve-date">Le sa
 medi 11 janvier 2020</div><ul class="gski-epreuve-liste-infos"><li>Codex ép
 reuve AMVM0091</li><li>Slalom Geant</li><li>Catégorie(s) : U14/U16 (Garçons
 )</li></ul></li><li><div class="gski-epreuve-date">Le samedi 11 janvier 202
 0</div><ul class="gski-epreuve-liste-infos"><li>Codex épreuve AMVF0091</li>
 <li>Slalom Geant</li><li>Catégorie(s) : U14/U16 (Filles)</li></ul></li></ul
 ></div><div class="gskiepreuves-links"><ul><li><a href="https://skivosges.n
 et/index.php?option=com_jevents&task=icalevent.detail&evid=1346&Itemid=6289
 ">Voir les informations dans l'agenda...</a></li></ul></div></div"><!-- #/g
 skiepreuve fin du dode généré par le plugin jevents pour GskiEpreuves. . Ne
  pas modifier cette ligne, ni tout le contenu précedant.  #/gskiepreuve -->
  <a href="https://skivosges.net/agenda/a-venir/detailevenement/1351/-/open-
 mat-peinture-reporte?tmpl=component">Cet évènement a été importé depuis :ht
 tps://skivosges.net/agenda/a-venir/detailevenement/1351/-/open-mat-peinture
 -reporte?tmpl=component</a>DTSTAMP:20260423T144722
DTSTART;TZID=Europe/Paris;VALUE=DATE:20200111
DTEND;TZID=Europe/Paris;VALUE=DATE:20200112
SEQUENCE:0
TRANSP:OPAQUE
END:VEVENT
END:VCALENDAR