BEGIN:VCALENDAR
VERSION:2.0
PRODID:-//jEvents 2.0 for Joomla//EN
CALSCALE:GREGORIAN
METHOD:PUBLISH
BEGIN:VTIMEZONE
TZID:Europe/Paris
BEGIN:STANDARD
DTSTART:20190110T000000
RDATE:20190331T030000
TZOFFSETFROM:+0200
TZOFFSETTO:+0100
TZNAME:Europe/Paris CET
END:STANDARD
BEGIN:STANDARD
DTSTART:20191027T020000
RDATE:20200329T030000
TZOFFSETFROM:+0200
TZOFFSETTO:+0100
TZNAME:Europe/Paris CET
END:STANDARD
BEGIN:STANDARD
DTSTART:20201025T020000
RDATE:20210328T030000
TZOFFSETFROM:+0200
TZOFFSETTO:+0100
TZNAME:Europe/Paris CET
END:STANDARD
BEGIN:STANDARD
DTSTART:20211031T020000
RDATE:20220327T030000
TZOFFSETFROM:+0200
TZOFFSETTO:+0100
TZNAME:Europe/Paris CET
END:STANDARD
BEGIN:STANDARD
DTSTART:20221030T020000
RDATE:20230326T030000
TZOFFSETFROM:+0200
TZOFFSETTO:+0100
TZNAME:Europe/Paris CET
END:STANDARD
BEGIN:STANDARD
DTSTART:20231029T020000
RDATE:20240331T030000
TZOFFSETFROM:+0200
TZOFFSETTO:+0100
TZNAME:Europe/Paris CET
END:STANDARD
BEGIN:STANDARD
DTSTART:20241027T020000
RDATE:20250330T030000
TZOFFSETFROM:+0200
TZOFFSETTO:+0100
TZNAME:Europe/Paris CET
END:STANDARD
BEGIN:STANDARD
DTSTART:20251026T020000
RDATE:20260329T030000
TZOFFSETFROM:+0200
TZOFFSETTO:+0100
TZNAME:Europe/Paris CET
END:STANDARD
BEGIN:STANDARD
DTSTART:20261025T020000
RDATE:20270328T030000
TZOFFSETFROM:+0200
TZOFFSETTO:+0100
TZNAME:Europe/Paris CET
END:STANDARD
BEGIN:DAYLIGHT
DTSTART:20190331T030000
RDATE:20191027T020000
TZOFFSETFROM:+0100
TZOFFSETTO:+0200
TZNAME:Europe/Paris CEST
END:DAYLIGHT
BEGIN:DAYLIGHT
DTSTART:20200329T030000
RDATE:20201025T020000
TZOFFSETFROM:+0100
TZOFFSETTO:+0200
TZNAME:Europe/Paris CEST
END:DAYLIGHT
BEGIN:DAYLIGHT
DTSTART:20210328T030000
RDATE:20211031T020000
TZOFFSETFROM:+0100
TZOFFSETTO:+0200
TZNAME:Europe/Paris CEST
END:DAYLIGHT
BEGIN:DAYLIGHT
DTSTART:20220327T030000
RDATE:20221030T020000
TZOFFSETFROM:+0100
TZOFFSETTO:+0200
TZNAME:Europe/Paris CEST
END:DAYLIGHT
BEGIN:DAYLIGHT
DTSTART:20230326T030000
RDATE:20231029T020000
TZOFFSETFROM:+0100
TZOFFSETTO:+0200
TZNAME:Europe/Paris CEST
END:DAYLIGHT
BEGIN:DAYLIGHT
DTSTART:20240331T030000
RDATE:20241027T020000
TZOFFSETFROM:+0100
TZOFFSETTO:+0200
TZNAME:Europe/Paris CEST
END:DAYLIGHT
BEGIN:DAYLIGHT
DTSTART:20250330T030000
RDATE:20251026T020000
TZOFFSETFROM:+0100
TZOFFSETTO:+0200
TZNAME:Europe/Paris CEST
END:DAYLIGHT
BEGIN:DAYLIGHT
DTSTART:20260329T030000
RDATE:20261025T020000
TZOFFSETFROM:+0100
TZOFFSETTO:+0200
TZNAME:Europe/Paris CEST
END:DAYLIGHT
END:VTIMEZONE
BEGIN:VEVENT
UID:5dbdabfd0c1b2de2e02dd30d46b5d142
CATEGORIES:Compétition Ski de Fond
CREATED:20191111T130349
SUMMARY:GRAND PRIX EDF Big Mat Atomic n°5
URL;VALUE=URI:https://skivosges.net/agenda/a-venir/detailevenement/1352/-/grand-prix-edf-
 big-mat-atomic-n-5?tmpl=component
DESCRIPTION:<!-- #gskiepreuve code généré par le plugin jevents pour GskiEpreuves. Ne p
 as modifier cette ligne, ni tout le contenu suivant  #gskiepreuve --><div c
 lass="gski-evenement_infos"><div class="gski-evenement-nom">GRAND PRIX EDF 
 Big Mat Atomic n°5</div><div class="gski-evenement-report"></div><ul class=
 "gski-evenement-liste-infos"><li>Codex évenement FMVT0070</li><li>Station :
  MARKSTEIN</li><li>Organisateur : 14053 S.C MARKSTEIN RANSPACH</li><li>Cour
 riel : <!-- Cette adresse électronique est protégée contre les robots spamm
 eurs. --><span class="cloaked_email ep_a4cc1609"><span data-ep-b="c&#111;&#
 109;" data-ep-a="SC&#82;"><span data-ep-a="&#65;&#78;&#83;" data-ep-b="&#11
 1;&#108;&#46;"><span data-ep-b="&#72;&#64;&#97;" data-ep-a="&#80;AC"></span
 ></span></span></span><script>RegularLabs.EmailProtector.unCloak("ep_a4cc16
 09");</script></li><li><span class="gski-evenement-obs">Délégué Technique :
  BOUVIER YVES</span></li></ul><div class="gski-evenement-infos-2"><div clas
 s="gski-evenement-info-inscriptions"><div class="gski-evenement-inscription
 s-periodes">Période d'inscription à l'evènement du samedi 04 janvier 2020 à
  00:00 au jeudi 09 janvier 2020 à 12:00 <span class="gski-evenement-inscrip
 tions-impossibles">(Inscriptions impossibles).</span><div class="gski-evene
 ment-inscriptions-types-titres">Inscriptions ouvertes aux detenteurs des ti
 tres Fédéraux valides suivants : Licenciés Compétiteurs</div></div></div><d
 iv class="gski-evenement-epreuves"><div class="gski-evenement-epreuves-titr
 es">Epreuves :</div><ul class="gski-evenement-epreuves-list"><li><div class
 ="gski-epreuve-date">Le samedi 11 janvier 2020</div><ul class="gski-epreuve
 -liste-infos"><li>Codex épreuve FMVF0071</li><li>Depart Individuel</li><li>
 Catégorie(s) : U15 (Filles)</li></ul></li><li><div class="gski-epreuve-date
 ">Le samedi 11 janvier 2020</div><ul class="gski-epreuve-liste-infos"><li>C
 odex épreuve FMVM0071</li><li>Depart Individuel</li><li>Catégorie(s) : U15 
 (Garçons)</li></ul></li></ul></div><div class="gskiepreuves-links"><ul><li>
 <a href="/index.php?option=com_jevents&task=icalevent.detail&evid=1347&Item
 id=6289">Voir les informations dans l'agenda...</a></li><li><a href="/index
 .php?option=com_gskiepreuves&view=afficheresultats&format_option=tous&filte
 r[search]=FMVT0070&filter[date_debut]=11-01-2020&filter[date_fin]=11-01-202
 0&code_activite=FOND&Itemid=6289">Vers les résultats...</a></li><li>Publica
 tions concernant cet évènement :<ul><li><a href="/index.php?option=com_cont
 ent&view=article&id=7037&Itemid=6289">Vendredi 10 Janvier 2020 à 19:43 : Le
  11/01/2020 MARKSTEIN Liste de départs</a></li></ul></li></ul></div></div">
 <!-- #/gskiepreuve fin du dode généré par le plugin jevents pour GskiEpreuv
 es. . Ne pas modifier cette ligne, ni tout le contenu précedant.  #/gskiepr
 euve --> <a href="https://skivosges.net/agenda/a-venir/detailevenement/1352
 /-/grand-prix-edf-big-mat-atomic-n-5?tmpl=component">Cet évènement a été im
 porté depuis :https://skivosges.net/agenda/a-venir/detailevenement/1352/-/g
 rand-prix-edf-big-mat-atomic-n-5?tmpl=component</a>
X-ALT-DESC;FMTTYPE=text/html:<!-- #gskiepreuve code généré par le plugin jevents pour GskiEpreuves. Ne p
 as modifier cette ligne, ni tout le contenu suivant  #gskiepreuve --><div c
 lass="gski-evenement_infos"><div class="gski-evenement-nom">GRAND PRIX EDF 
 Big Mat Atomic n°5</div><div class="gski-evenement-report"></div><ul class=
 "gski-evenement-liste-infos"><li>Codex évenement FMVT0070</li><li>Station :
  MARKSTEIN</li><li>Organisateur : 14053 S.C MARKSTEIN RANSPACH</li><li>Cour
 riel : <!-- Cette adresse électronique est protégée contre les robots spamm
 eurs. --><span class="cloaked_email ep_a4cc1609"><span data-ep-b="c&#111;&#
 109;" data-ep-a="SC&#82;"><span data-ep-a="&#65;&#78;&#83;" data-ep-b="&#11
 1;&#108;&#46;"><span data-ep-b="&#72;&#64;&#97;" data-ep-a="&#80;AC"></span
 ></span></span></span><script>RegularLabs.EmailProtector.unCloak("ep_a4cc16
 09");</script></li><li><span class="gski-evenement-obs">Délégué Technique :
  BOUVIER YVES</span></li></ul><div class="gski-evenement-infos-2"><div clas
 s="gski-evenement-info-inscriptions"><div class="gski-evenement-inscription
 s-periodes">Période d'inscription à l'evènement du samedi 04 janvier 2020 à
  00:00 au jeudi 09 janvier 2020 à 12:00 <span class="gski-evenement-inscrip
 tions-impossibles">(Inscriptions impossibles).</span><div class="gski-evene
 ment-inscriptions-types-titres">Inscriptions ouvertes aux detenteurs des ti
 tres Fédéraux valides suivants : Licenciés Compétiteurs</div></div></div><d
 iv class="gski-evenement-epreuves"><div class="gski-evenement-epreuves-titr
 es">Epreuves :</div><ul class="gski-evenement-epreuves-list"><li><div class
 ="gski-epreuve-date">Le samedi 11 janvier 2020</div><ul class="gski-epreuve
 -liste-infos"><li>Codex épreuve FMVF0071</li><li>Depart Individuel</li><li>
 Catégorie(s) : U15 (Filles)</li></ul></li><li><div class="gski-epreuve-date
 ">Le samedi 11 janvier 2020</div><ul class="gski-epreuve-liste-infos"><li>C
 odex épreuve FMVM0071</li><li>Depart Individuel</li><li>Catégorie(s) : U15 
 (Garçons)</li></ul></li></ul></div><div class="gskiepreuves-links"><ul><li>
 <a href="https://skivosges.net/index.php?option=com_jevents&task=icalevent.
 detail&evid=1347&Itemid=6289">Voir les informations dans l'agenda...</a></l
 i><li><a href="https://skivosges.net/index.php?option=com_gskiepreuves&view
 =afficheresultats&format_option=tous&filter[search]=FMVT0070&filter[date_de
 but]=11-01-2020&filter[date_fin]=11-01-2020&code_activite=FOND&Itemid=6289"
 >Vers les résultats...</a></li><li>Publications concernant cet évènement :<
 ul><li><a href="https://skivosges.net/index.php?option=com_content&view=art
 icle&id=7037&Itemid=6289">Vendredi 10 Janvier 2020 à 19:43 : Le 11/01/2020 
 MARKSTEIN Liste de départs</a></li></ul></li></ul></div></div"><!-- #/gskie
 preuve fin du dode généré par le plugin jevents pour GskiEpreuves. . Ne pas
  modifier cette ligne, ni tout le contenu précedant.  #/gskiepreuve --> <a 
 href="https://skivosges.net/agenda/a-venir/detailevenement/1352/-/grand-pri
 x-edf-big-mat-atomic-n-5?tmpl=component">Cet évènement a été importé depuis
  :https://skivosges.net/agenda/a-venir/detailevenement/1352/-/grand-prix-ed
 f-big-mat-atomic-n-5?tmpl=component</a>DTSTAMP:20260423T133139
DTSTART;TZID=Europe/Paris;VALUE=DATE:20200111
DTEND;TZID=Europe/Paris;VALUE=DATE:20200112
SEQUENCE:0
TRANSP:OPAQUE
END:VEVENT
END:VCALENDAR