BEGIN:VCALENDAR
VERSION:2.0
PRODID:-//jEvents 2.0 for Joomla//EN
CALSCALE:GREGORIAN
METHOD:PUBLISH
BEGIN:VTIMEZONE
TZID:Europe/Paris
BEGIN:STANDARD
DTSTART:20190111T000000
RDATE:20190331T030000
TZOFFSETFROM:+0200
TZOFFSETTO:+0100
TZNAME:Europe/Paris CET
END:STANDARD
BEGIN:STANDARD
DTSTART:20191027T020000
RDATE:20200329T030000
TZOFFSETFROM:+0200
TZOFFSETTO:+0100
TZNAME:Europe/Paris CET
END:STANDARD
BEGIN:STANDARD
DTSTART:20201025T020000
RDATE:20210328T030000
TZOFFSETFROM:+0200
TZOFFSETTO:+0100
TZNAME:Europe/Paris CET
END:STANDARD
BEGIN:STANDARD
DTSTART:20211031T020000
RDATE:20220327T030000
TZOFFSETFROM:+0200
TZOFFSETTO:+0100
TZNAME:Europe/Paris CET
END:STANDARD
BEGIN:STANDARD
DTSTART:20221030T020000
RDATE:20230326T030000
TZOFFSETFROM:+0200
TZOFFSETTO:+0100
TZNAME:Europe/Paris CET
END:STANDARD
BEGIN:STANDARD
DTSTART:20231029T020000
RDATE:20240331T030000
TZOFFSETFROM:+0200
TZOFFSETTO:+0100
TZNAME:Europe/Paris CET
END:STANDARD
BEGIN:STANDARD
DTSTART:20241027T020000
RDATE:20250330T030000
TZOFFSETFROM:+0200
TZOFFSETTO:+0100
TZNAME:Europe/Paris CET
END:STANDARD
BEGIN:STANDARD
DTSTART:20251026T020000
RDATE:20260329T030000
TZOFFSETFROM:+0200
TZOFFSETTO:+0100
TZNAME:Europe/Paris CET
END:STANDARD
BEGIN:STANDARD
DTSTART:20261025T020000
RDATE:20270328T030000
TZOFFSETFROM:+0200
TZOFFSETTO:+0100
TZNAME:Europe/Paris CET
END:STANDARD
BEGIN:DAYLIGHT
DTSTART:20190331T030000
RDATE:20191027T020000
TZOFFSETFROM:+0100
TZOFFSETTO:+0200
TZNAME:Europe/Paris CEST
END:DAYLIGHT
BEGIN:DAYLIGHT
DTSTART:20200329T030000
RDATE:20201025T020000
TZOFFSETFROM:+0100
TZOFFSETTO:+0200
TZNAME:Europe/Paris CEST
END:DAYLIGHT
BEGIN:DAYLIGHT
DTSTART:20210328T030000
RDATE:20211031T020000
TZOFFSETFROM:+0100
TZOFFSETTO:+0200
TZNAME:Europe/Paris CEST
END:DAYLIGHT
BEGIN:DAYLIGHT
DTSTART:20220327T030000
RDATE:20221030T020000
TZOFFSETFROM:+0100
TZOFFSETTO:+0200
TZNAME:Europe/Paris CEST
END:DAYLIGHT
BEGIN:DAYLIGHT
DTSTART:20230326T030000
RDATE:20231029T020000
TZOFFSETFROM:+0100
TZOFFSETTO:+0200
TZNAME:Europe/Paris CEST
END:DAYLIGHT
BEGIN:DAYLIGHT
DTSTART:20240331T030000
RDATE:20241027T020000
TZOFFSETFROM:+0100
TZOFFSETTO:+0200
TZNAME:Europe/Paris CEST
END:DAYLIGHT
BEGIN:DAYLIGHT
DTSTART:20250330T030000
RDATE:20251026T020000
TZOFFSETFROM:+0100
TZOFFSETTO:+0200
TZNAME:Europe/Paris CEST
END:DAYLIGHT
BEGIN:DAYLIGHT
DTSTART:20260329T030000
RDATE:20261025T020000
TZOFFSETFROM:+0100
TZOFFSETTO:+0200
TZNAME:Europe/Paris CEST
END:DAYLIGHT
END:VTIMEZONE
BEGIN:VEVENT
UID:99f6c0d16368756290c273c60e0f8b5c
CATEGORIES:Opens et Promos (alpin)
CREATED:20191111T130349
SUMMARY:PROMO Dimanche de la Glisse - Etape 1 - Prix de l'AS Cheminot Strasbourg **REPORTE(E) au 07/03/2020**
URL;VALUE=URI:https://skivosges.net/agenda/a-venir/detailevenement/1353/-/promo-dimanche-
 de-la-glisse-etape-1-prix-de-las-cheminot-strasbourg-reporte-e-au-07-03-202
 0?tmpl=component
DESCRIPTION:<!-- #gskiepreuve code généré par le plugin jevents pour GskiEpreuves. Ne p
 as modifier cette ligne, ni tout le contenu suivant  #gskiepreuve --><div c
 lass="gski-evenement_infos"><div class="gski-evenement-nom">PROMO Dimanche 
 de la Glisse - Etape 1 - Prix de l'AS Cheminot Strasbourg</div><div class="
 gski-evenement-report"> <font class="gskiattention">(Epreuve reportée au 07
 /03/2020)</font></div><ul class="gski-evenement-liste-infos"><li>Codex éven
 ement AMVT0130</li><li>Station : CHAMP DU FEU</li><li>Organisateur : 14071 
 A.S DES CHEMINOTS STRASBOURG</li><li>Courriel : <!-- Cette adresse électron
 ique est protégée contre les robots spammeurs. --><span class="cloaked_emai
 l ep_e30cb64b"><span data-ep-a="&#101;&#115;t&#101;&#108;" data-ep-b="&#101
 ;&#116;"><span data-ep-b="&#115;&#116;&#101;.&#110;" data-ep-a="le&#46;&#98
 ;&#114;"><span data-ep-a="i&#103;n&#111;n" data-ep-b="&#64;&#108;&#97;&#112
 ;&#111;"></span></span></span></span><script>RegularLabs.EmailProtector.unC
 loak("ep_e30cb64b");</script></li><li>Téléphone : 03 88 97 74 30</li><li><s
 pan class="gski-evenement-obs">Délégué Technique : WIES CHRISTOPHE</span></
 li></ul><div class="gski-evenement-infos-2"><div class="gski-evenement-info
 -inscriptions"><div class="gski-evenement-inscriptions-periodes">Période d'
 inscription à l'evènement du dimanche 05 janvier 2020 à 00:00 au vendredi 1
 0 janvier 2020 à 12:00 <span class="gski-evenement-inscriptions-impossibles
 ">(Inscriptions impossibles).</span><div class="gski-evenement-inscriptions
 -types-titres">Inscriptions ouvertes aux detenteurs des titres Fédéraux val
 ides suivants : Licenciés Compétiteurs et Titres Loisirs et Dirigeants</div
 ></div></div><div class="gski-evenement-epreuves"><div class="gski-evenemen
 t-epreuves-titres">Epreuves :</div><ul class="gski-evenement-epreuves-list"
 ><li><div class="gski-epreuve-date">Le dimanche 12 janvier 2020</div><ul cl
 ass="gski-epreuve-liste-infos"><li>Codex épreuve AMVM0131</li><li>Slalom Ge
 ant</li><li>Catégorie(s) : U8/U10 (Garçons)</li></ul></li><li><div class="g
 ski-epreuve-date">Le dimanche 12 janvier 2020</div><ul class="gski-epreuve-
 liste-infos"><li>Codex épreuve AMVF0131</li><li>Slalom Geant</li><li>Catégo
 rie(s) : U8/U10 (Filles)</li></ul></li><li><div class="gski-epreuve-date">L
 e dimanche 12 janvier 2020</div><ul class="gski-epreuve-liste-infos"><li>Co
 dex épreuve AMVM0132</li><li>Slalom Geant</li><li>Catégorie(s) : U12 a U16 
 (Garçons)</li></ul></li><li><div class="gski-epreuve-date">Le dimanche 12 j
 anvier 2020</div><ul class="gski-epreuve-liste-infos"><li>Codex épreuve AMV
 F0132</li><li>Slalom Geant</li><li>Catégorie(s) : U12 a U16 (Filles)</li></
 ul></li></ul></div><div class="gskiepreuves-links"><ul><li><a href="/index.
 php?option=com_jevents&task=icalevent.detail&evid=1348&Itemid=6289">Voir le
 s informations dans l'agenda...</a></li><li><a href="/index.php?option=com_
 gskiepreuves&view=afficheresultats&format_option=tous&filter[search]=AMVT01
 30&filter[date_debut]=07-03-2020&filter[date_fin]=07-03-2020&code_activite=
 ALP&Itemid=6289">Vers les résultats...</a></li><li>Publications concernant 
 cet évènement :<ul><li><a href="/index.php?option=com_content&view=article&
 id=7163&Itemid=6289">Samedi 7 Mars 2020 à 19:21 : Le 07/03/2020 ZINAL Suiss
 e Résultats</a></li></ul></li></ul></div></div"><!-- #/gskiepreuve fin du d
 ode généré par le plugin jevents pour GskiEpreuves. . Ne pas modifier cette
  ligne, ni tout le contenu précedant.  #/gskiepreuve --> <a href="https://s
 kivosges.net/agenda/a-venir/detailevenement/1353/-/promo-dimanche-de-la-gli
 sse-etape-1-prix-de-las-cheminot-strasbourg-reporte-e-au-07-03-2020?tmpl=co
 mponent">Cet évènement a été importé depuis :https://skivosges.net/agenda/a
 -venir/detailevenement/1353/-/promo-dimanche-de-la-glisse-etape-1-prix-de-l
 as-cheminot-strasbourg-reporte-e-au-07-03-2020?tmpl=component</a>
X-ALT-DESC;FMTTYPE=text/html:<!-- #gskiepreuve code généré par le plugin jevents pour GskiEpreuves. Ne p
 as modifier cette ligne, ni tout le contenu suivant  #gskiepreuve --><div c
 lass="gski-evenement_infos"><div class="gski-evenement-nom">PROMO Dimanche 
 de la Glisse - Etape 1 - Prix de l'AS Cheminot Strasbourg</div><div class="
 gski-evenement-report"> <font class="gskiattention">(Epreuve reportée au 07
 /03/2020)</font></div><ul class="gski-evenement-liste-infos"><li>Codex éven
 ement AMVT0130</li><li>Station : CHAMP DU FEU</li><li>Organisateur : 14071 
 A.S DES CHEMINOTS STRASBOURG</li><li>Courriel : <!-- Cette adresse électron
 ique est protégée contre les robots spammeurs. --><span class="cloaked_emai
 l ep_e30cb64b"><span data-ep-a="&#101;&#115;t&#101;&#108;" data-ep-b="&#101
 ;&#116;"><span data-ep-b="&#115;&#116;&#101;.&#110;" data-ep-a="le&#46;&#98
 ;&#114;"><span data-ep-a="i&#103;n&#111;n" data-ep-b="&#64;&#108;&#97;&#112
 ;&#111;"></span></span></span></span><script>RegularLabs.EmailProtector.unC
 loak("ep_e30cb64b");</script></li><li>Téléphone : 03 88 97 74 30</li><li><s
 pan class="gski-evenement-obs">Délégué Technique : WIES CHRISTOPHE</span></
 li></ul><div class="gski-evenement-infos-2"><div class="gski-evenement-info
 -inscriptions"><div class="gski-evenement-inscriptions-periodes">Période d'
 inscription à l'evènement du dimanche 05 janvier 2020 à 00:00 au vendredi 1
 0 janvier 2020 à 12:00 <span class="gski-evenement-inscriptions-impossibles
 ">(Inscriptions impossibles).</span><div class="gski-evenement-inscriptions
 -types-titres">Inscriptions ouvertes aux detenteurs des titres Fédéraux val
 ides suivants : Licenciés Compétiteurs et Titres Loisirs et Dirigeants</div
 ></div></div><div class="gski-evenement-epreuves"><div class="gski-evenemen
 t-epreuves-titres">Epreuves :</div><ul class="gski-evenement-epreuves-list"
 ><li><div class="gski-epreuve-date">Le dimanche 12 janvier 2020</div><ul cl
 ass="gski-epreuve-liste-infos"><li>Codex épreuve AMVM0131</li><li>Slalom Ge
 ant</li><li>Catégorie(s) : U8/U10 (Garçons)</li></ul></li><li><div class="g
 ski-epreuve-date">Le dimanche 12 janvier 2020</div><ul class="gski-epreuve-
 liste-infos"><li>Codex épreuve AMVF0131</li><li>Slalom Geant</li><li>Catégo
 rie(s) : U8/U10 (Filles)</li></ul></li><li><div class="gski-epreuve-date">L
 e dimanche 12 janvier 2020</div><ul class="gski-epreuve-liste-infos"><li>Co
 dex épreuve AMVM0132</li><li>Slalom Geant</li><li>Catégorie(s) : U12 a U16 
 (Garçons)</li></ul></li><li><div class="gski-epreuve-date">Le dimanche 12 j
 anvier 2020</div><ul class="gski-epreuve-liste-infos"><li>Codex épreuve AMV
 F0132</li><li>Slalom Geant</li><li>Catégorie(s) : U12 a U16 (Filles)</li></
 ul></li></ul></div><div class="gskiepreuves-links"><ul><li><a href="https:/
 /skivosges.net/index.php?option=com_jevents&task=icalevent.detail&evid=1348
 &Itemid=6289">Voir les informations dans l'agenda...</a></li><li><a href="h
 ttps://skivosges.net/index.php?option=com_gskiepreuves&view=afficheresultat
 s&format_option=tous&filter[search]=AMVT0130&filter[date_debut]=07-03-2020&
 filter[date_fin]=07-03-2020&code_activite=ALP&Itemid=6289">Vers les résulta
 ts...</a></li><li>Publications concernant cet évènement :<ul><li><a href="h
 ttps://skivosges.net/index.php?option=com_content&view=article&id=7163&Item
 id=6289">Samedi 7 Mars 2020 à 19:21 : Le 07/03/2020 ZINAL Suisse Résultats<
 /a></li></ul></li></ul></div></div"><!-- #/gskiepreuve fin du dode généré p
 ar le plugin jevents pour GskiEpreuves. . Ne pas modifier cette ligne, ni t
 out le contenu précedant.  #/gskiepreuve --> <a href="https://skivosges.net
 /agenda/a-venir/detailevenement/1353/-/promo-dimanche-de-la-glisse-etape-1-
 prix-de-las-cheminot-strasbourg-reporte-e-au-07-03-2020?tmpl=component">Cet
  évènement a été importé depuis :https://skivosges.net/agenda/a-venir/detai
 levenement/1353/-/promo-dimanche-de-la-glisse-etape-1-prix-de-las-cheminot-
 strasbourg-reporte-e-au-07-03-2020?tmpl=component</a>DTSTAMP:20260423T144717
DTSTART;TZID=Europe/Paris;VALUE=DATE:20200112
DTEND;TZID=Europe/Paris;VALUE=DATE:20200113
SEQUENCE:0
TRANSP:OPAQUE
END:VEVENT
END:VCALENDAR