BEGIN:VCALENDAR
VERSION:2.0
PRODID:-//jEvents 2.0 for Joomla//EN
CALSCALE:GREGORIAN
METHOD:PUBLISH
BEGIN:VTIMEZONE
TZID:Europe/Paris
BEGIN:STANDARD
DTSTART:20190111T000000
RDATE:20190331T030000
TZOFFSETFROM:+0200
TZOFFSETTO:+0100
TZNAME:Europe/Paris CET
END:STANDARD
BEGIN:STANDARD
DTSTART:20191027T020000
RDATE:20200329T030000
TZOFFSETFROM:+0200
TZOFFSETTO:+0100
TZNAME:Europe/Paris CET
END:STANDARD
BEGIN:STANDARD
DTSTART:20201025T020000
RDATE:20210328T030000
TZOFFSETFROM:+0200
TZOFFSETTO:+0100
TZNAME:Europe/Paris CET
END:STANDARD
BEGIN:STANDARD
DTSTART:20211031T020000
RDATE:20220327T030000
TZOFFSETFROM:+0200
TZOFFSETTO:+0100
TZNAME:Europe/Paris CET
END:STANDARD
BEGIN:STANDARD
DTSTART:20221030T020000
RDATE:20230326T030000
TZOFFSETFROM:+0200
TZOFFSETTO:+0100
TZNAME:Europe/Paris CET
END:STANDARD
BEGIN:STANDARD
DTSTART:20231029T020000
RDATE:20240331T030000
TZOFFSETFROM:+0200
TZOFFSETTO:+0100
TZNAME:Europe/Paris CET
END:STANDARD
BEGIN:STANDARD
DTSTART:20241027T020000
RDATE:20250330T030000
TZOFFSETFROM:+0200
TZOFFSETTO:+0100
TZNAME:Europe/Paris CET
END:STANDARD
BEGIN:STANDARD
DTSTART:20251026T020000
RDATE:20260329T030000
TZOFFSETFROM:+0200
TZOFFSETTO:+0100
TZNAME:Europe/Paris CET
END:STANDARD
BEGIN:STANDARD
DTSTART:20261025T020000
RDATE:20270328T030000
TZOFFSETFROM:+0200
TZOFFSETTO:+0100
TZNAME:Europe/Paris CET
END:STANDARD
BEGIN:DAYLIGHT
DTSTART:20190331T030000
RDATE:20191027T020000
TZOFFSETFROM:+0100
TZOFFSETTO:+0200
TZNAME:Europe/Paris CEST
END:DAYLIGHT
BEGIN:DAYLIGHT
DTSTART:20200329T030000
RDATE:20201025T020000
TZOFFSETFROM:+0100
TZOFFSETTO:+0200
TZNAME:Europe/Paris CEST
END:DAYLIGHT
BEGIN:DAYLIGHT
DTSTART:20210328T030000
RDATE:20211031T020000
TZOFFSETFROM:+0100
TZOFFSETTO:+0200
TZNAME:Europe/Paris CEST
END:DAYLIGHT
BEGIN:DAYLIGHT
DTSTART:20220327T030000
RDATE:20221030T020000
TZOFFSETFROM:+0100
TZOFFSETTO:+0200
TZNAME:Europe/Paris CEST
END:DAYLIGHT
BEGIN:DAYLIGHT
DTSTART:20230326T030000
RDATE:20231029T020000
TZOFFSETFROM:+0100
TZOFFSETTO:+0200
TZNAME:Europe/Paris CEST
END:DAYLIGHT
BEGIN:DAYLIGHT
DTSTART:20240331T030000
RDATE:20241027T020000
TZOFFSETFROM:+0100
TZOFFSETTO:+0200
TZNAME:Europe/Paris CEST
END:DAYLIGHT
BEGIN:DAYLIGHT
DTSTART:20250330T030000
RDATE:20251026T020000
TZOFFSETFROM:+0100
TZOFFSETTO:+0200
TZNAME:Europe/Paris CEST
END:DAYLIGHT
BEGIN:DAYLIGHT
DTSTART:20260329T030000
RDATE:20261025T020000
TZOFFSETFROM:+0100
TZOFFSETTO:+0200
TZNAME:Europe/Paris CEST
END:DAYLIGHT
END:VTIMEZONE
BEGIN:VEVENT
UID:d780b1e0d321b7f8e17975d2480f3a22
CATEGORIES:Circuit Massif Adultes (alpin)
CREATED:20191111T130349
SUMMARY:CAM  U16 à Masters Coupe du CESA Haute-Thur **REPORTE**
URL;VALUE=URI:https://skivosges.net/agenda/a-venir/detailevenement/1354/-/cam-u16-a-maste
 rs-coupe-du-cesa-haute-thur-reporte?tmpl=component
DESCRIPTION:<!-- #gskiepreuve code généré par le plugin jevents pour GskiEpreuves. Ne p
 as modifier cette ligne, ni tout le contenu suivant  #gskiepreuve --><div c
 lass="gski-evenement_infos"><div class="gski-evenement-nom">CAM  U16 à Mast
 ers Coupe du CESA Haute-Thur</div><div class="gski-evenement-report"> <font
  class="gskiattention">(Epreuve reportée, date à determiner)</font></div><u
 l class="gski-evenement-liste-infos"><li>Codex évenement AMVT0110</li><li>S
 tation : MARKSTEIN</li><li>Organisateur : 14058 SKI CLUB EDELWEISS SAINT AM
 ARIN</li><li>Courriel : <!-- Cette adresse électronique est protégée contre
  les robots spammeurs. --><span class="cloaked_email ep_9e013923"><span dat
 a-ep-a="&#109;a&#116;th" data-ep-b=""><span data-ep-a="&#105;e&#117;&#46;&#
 103;" data-ep-b="g&#101;&#46;&#102;&#114;"><span data-ep-a="&#101;r&#114;&#
 101;r" data-ep-b="&#64;&#111;&#114;&#97;n"></span></span></span></span><scr
 ipt>RegularLabs.EmailProtector.unCloak("ep_9e013923");</script></li><li><sp
 an class="gski-evenement-obs">Délégué Technique : HOUILLON PHILIPPE</span><
 /li></ul><div class="gski-evenement-infos-2"><div class="gski-evenement-inf
 o-inscriptions"><div class="gski-evenement-inscriptions-periodes">Période d
 'inscription à l'evènement du dimanche 05 janvier 2020 à 00:00 au vendredi 
 10 janvier 2020 à 12:00 <span class="gski-evenement-inscriptions-impossible
 s">(Inscriptions impossibles).</span><div class="gski-evenement-inscription
 s-types-titres">Inscriptions ouvertes aux detenteurs des titres Fédéraux va
 lides suivants : Licenciés Compétiteurs</div></div></div><div class="gski-e
 venement-epreuves"><div class="gski-evenement-epreuves-titres">Epreuves :</
 div><ul class="gski-evenement-epreuves-list"><li><div class="gski-epreuve-d
 ate">Le dimanche 12 janvier 2020</div><ul class="gski-epreuve-liste-infos">
 <li>Codex épreuve AMVM0111</li><li>Slalom</li><li>Catégorie(s) : U16 (Garço
 ns)</li></ul></li><li><div class="gski-epreuve-date">Le dimanche 12 janvier
  2020</div><ul class="gski-epreuve-liste-infos"><li>Codex épreuve AMVF0111<
 /li><li>Slalom</li><li>Catégorie(s) : U16 (Filles)</li></ul></li><li><div c
 lass="gski-epreuve-date">Le dimanche 12 janvier 2020</div><ul class="gski-e
 preuve-liste-infos"><li>Codex épreuve AMVM0112</li><li>Slalom</li><li>Catég
 orie(s) : U18 a Masters (Hommes)</li></ul></li><li><div class="gski-epreuve
 -date">Le dimanche 12 janvier 2020</div><ul class="gski-epreuve-liste-infos
 "><li>Codex épreuve AMVF0112</li><li>Slalom</li><li>Catégorie(s) : U18 a Ma
 sters (Dames)</li></ul></li></ul></div><div class="gskiepreuves-links"><ul>
 <li><a href="/index.php?option=com_jevents&task=icalevent.detail&evid=1349&
 Itemid=6289">Voir les informations dans l'agenda...</a></li></ul></div></di
 v"><!-- #/gskiepreuve fin du dode généré par le plugin jevents pour GskiEpr
 euves. . Ne pas modifier cette ligne, ni tout le contenu précedant.  #/gski
 epreuve --> <a href="https://skivosges.net/agenda/a-venir/detailevenement/1
 354/-/cam-u16-a-masters-coupe-du-cesa-haute-thur-reporte?tmpl=component">Ce
 t évènement a été importé depuis :https://skivosges.net/agenda/a-venir/deta
 ilevenement/1354/-/cam-u16-a-masters-coupe-du-cesa-haute-thur-reporte?tmpl=
 component</a>
X-ALT-DESC;FMTTYPE=text/html:<!-- #gskiepreuve code généré par le plugin jevents pour GskiEpreuves. Ne p
 as modifier cette ligne, ni tout le contenu suivant  #gskiepreuve --><div c
 lass="gski-evenement_infos"><div class="gski-evenement-nom">CAM  U16 à Mast
 ers Coupe du CESA Haute-Thur</div><div class="gski-evenement-report"> <font
  class="gskiattention">(Epreuve reportée, date à determiner)</font></div><u
 l class="gski-evenement-liste-infos"><li>Codex évenement AMVT0110</li><li>S
 tation : MARKSTEIN</li><li>Organisateur : 14058 SKI CLUB EDELWEISS SAINT AM
 ARIN</li><li>Courriel : <!-- Cette adresse électronique est protégée contre
  les robots spammeurs. --><span class="cloaked_email ep_9e013923"><span dat
 a-ep-a="&#109;a&#116;th" data-ep-b=""><span data-ep-a="&#105;e&#117;&#46;&#
 103;" data-ep-b="g&#101;&#46;&#102;&#114;"><span data-ep-a="&#101;r&#114;&#
 101;r" data-ep-b="&#64;&#111;&#114;&#97;n"></span></span></span></span><scr
 ipt>RegularLabs.EmailProtector.unCloak("ep_9e013923");</script></li><li><sp
 an class="gski-evenement-obs">Délégué Technique : HOUILLON PHILIPPE</span><
 /li></ul><div class="gski-evenement-infos-2"><div class="gski-evenement-inf
 o-inscriptions"><div class="gski-evenement-inscriptions-periodes">Période d
 'inscription à l'evènement du dimanche 05 janvier 2020 à 00:00 au vendredi 
 10 janvier 2020 à 12:00 <span class="gski-evenement-inscriptions-impossible
 s">(Inscriptions impossibles).</span><div class="gski-evenement-inscription
 s-types-titres">Inscriptions ouvertes aux detenteurs des titres Fédéraux va
 lides suivants : Licenciés Compétiteurs</div></div></div><div class="gski-e
 venement-epreuves"><div class="gski-evenement-epreuves-titres">Epreuves :</
 div><ul class="gski-evenement-epreuves-list"><li><div class="gski-epreuve-d
 ate">Le dimanche 12 janvier 2020</div><ul class="gski-epreuve-liste-infos">
 <li>Codex épreuve AMVM0111</li><li>Slalom</li><li>Catégorie(s) : U16 (Garço
 ns)</li></ul></li><li><div class="gski-epreuve-date">Le dimanche 12 janvier
  2020</div><ul class="gski-epreuve-liste-infos"><li>Codex épreuve AMVF0111<
 /li><li>Slalom</li><li>Catégorie(s) : U16 (Filles)</li></ul></li><li><div c
 lass="gski-epreuve-date">Le dimanche 12 janvier 2020</div><ul class="gski-e
 preuve-liste-infos"><li>Codex épreuve AMVM0112</li><li>Slalom</li><li>Catég
 orie(s) : U18 a Masters (Hommes)</li></ul></li><li><div class="gski-epreuve
 -date">Le dimanche 12 janvier 2020</div><ul class="gski-epreuve-liste-infos
 "><li>Codex épreuve AMVF0112</li><li>Slalom</li><li>Catégorie(s) : U18 a Ma
 sters (Dames)</li></ul></li></ul></div><div class="gskiepreuves-links"><ul>
 <li><a href="https://skivosges.net/index.php?option=com_jevents&task=icalev
 ent.detail&evid=1349&Itemid=6289">Voir les informations dans l'agenda...</a
 ></li></ul></div></div"><!-- #/gskiepreuve fin du dode généré par le plugin
  jevents pour GskiEpreuves. . Ne pas modifier cette ligne, ni tout le conte
 nu précedant.  #/gskiepreuve --> <a href="https://skivosges.net/agenda/a-ve
 nir/detailevenement/1354/-/cam-u16-a-masters-coupe-du-cesa-haute-thur-repor
 te?tmpl=component">Cet évènement a été importé depuis :https://skivosges.ne
 t/agenda/a-venir/detailevenement/1354/-/cam-u16-a-masters-coupe-du-cesa-hau
 te-thur-reporte?tmpl=component</a>DTSTAMP:20260423T144716
DTSTART;TZID=Europe/Paris;VALUE=DATE:20200112
DTEND;TZID=Europe/Paris;VALUE=DATE:20200113
SEQUENCE:0
TRANSP:OPAQUE
END:VEVENT
END:VCALENDAR