BEGIN:VCALENDAR
VERSION:2.0
PRODID:-//jEvents 2.0 for Joomla//EN
CALSCALE:GREGORIAN
METHOD:PUBLISH
BEGIN:VTIMEZONE
TZID:Europe/Paris
BEGIN:STANDARD
DTSTART:20190111T000000
RDATE:20190331T030000
TZOFFSETFROM:+0200
TZOFFSETTO:+0100
TZNAME:Europe/Paris CET
END:STANDARD
BEGIN:STANDARD
DTSTART:20191027T020000
RDATE:20200329T030000
TZOFFSETFROM:+0200
TZOFFSETTO:+0100
TZNAME:Europe/Paris CET
END:STANDARD
BEGIN:STANDARD
DTSTART:20201025T020000
RDATE:20210328T030000
TZOFFSETFROM:+0200
TZOFFSETTO:+0100
TZNAME:Europe/Paris CET
END:STANDARD
BEGIN:STANDARD
DTSTART:20211031T020000
RDATE:20220327T030000
TZOFFSETFROM:+0200
TZOFFSETTO:+0100
TZNAME:Europe/Paris CET
END:STANDARD
BEGIN:STANDARD
DTSTART:20221030T020000
RDATE:20230326T030000
TZOFFSETFROM:+0200
TZOFFSETTO:+0100
TZNAME:Europe/Paris CET
END:STANDARD
BEGIN:STANDARD
DTSTART:20231029T020000
RDATE:20240331T030000
TZOFFSETFROM:+0200
TZOFFSETTO:+0100
TZNAME:Europe/Paris CET
END:STANDARD
BEGIN:STANDARD
DTSTART:20241027T020000
RDATE:20250330T030000
TZOFFSETFROM:+0200
TZOFFSETTO:+0100
TZNAME:Europe/Paris CET
END:STANDARD
BEGIN:STANDARD
DTSTART:20251026T020000
RDATE:20260329T030000
TZOFFSETFROM:+0200
TZOFFSETTO:+0100
TZNAME:Europe/Paris CET
END:STANDARD
BEGIN:STANDARD
DTSTART:20261025T020000
RDATE:20270328T030000
TZOFFSETFROM:+0200
TZOFFSETTO:+0100
TZNAME:Europe/Paris CET
END:STANDARD
BEGIN:DAYLIGHT
DTSTART:20190331T030000
RDATE:20191027T020000
TZOFFSETFROM:+0100
TZOFFSETTO:+0200
TZNAME:Europe/Paris CEST
END:DAYLIGHT
BEGIN:DAYLIGHT
DTSTART:20200329T030000
RDATE:20201025T020000
TZOFFSETFROM:+0100
TZOFFSETTO:+0200
TZNAME:Europe/Paris CEST
END:DAYLIGHT
BEGIN:DAYLIGHT
DTSTART:20210328T030000
RDATE:20211031T020000
TZOFFSETFROM:+0100
TZOFFSETTO:+0200
TZNAME:Europe/Paris CEST
END:DAYLIGHT
BEGIN:DAYLIGHT
DTSTART:20220327T030000
RDATE:20221030T020000
TZOFFSETFROM:+0100
TZOFFSETTO:+0200
TZNAME:Europe/Paris CEST
END:DAYLIGHT
BEGIN:DAYLIGHT
DTSTART:20230326T030000
RDATE:20231029T020000
TZOFFSETFROM:+0100
TZOFFSETTO:+0200
TZNAME:Europe/Paris CEST
END:DAYLIGHT
BEGIN:DAYLIGHT
DTSTART:20240331T030000
RDATE:20241027T020000
TZOFFSETFROM:+0100
TZOFFSETTO:+0200
TZNAME:Europe/Paris CEST
END:DAYLIGHT
BEGIN:DAYLIGHT
DTSTART:20250330T030000
RDATE:20251026T020000
TZOFFSETFROM:+0100
TZOFFSETTO:+0200
TZNAME:Europe/Paris CEST
END:DAYLIGHT
BEGIN:DAYLIGHT
DTSTART:20260329T030000
RDATE:20261025T020000
TZOFFSETFROM:+0100
TZOFFSETTO:+0200
TZNAME:Europe/Paris CEST
END:DAYLIGHT
END:VTIMEZONE
BEGIN:VEVENT
UID:acfbfff8951718d3d360acee1340e8d5
CATEGORIES:Circuit Massif D2 (alpin)
CREATED:20191111T130349
SUMMARY:CD2 Mémorial Michel Mangel **REPORTE**
URL;VALUE=URI:https://skivosges.net/agenda/a-venir/detailevenement/1355/-/cd2-memorial-mi
 chel-mangel-reporte?tmpl=component
DESCRIPTION:CD2 Mémorial Michel Mangel (Epreuve reportée, date à determiner)\n - Codex 
 évenement AMVT0100\n - Station : ROUGE GAZON\n - Organisateur : 14063 SKIEU
 RS DE ST MAURICE/MOSELLE\n - Courriel : RegularLabs.EmailProtector.unCloak(
 "ep_ddb5d49c");Période d'inscription à l'evènement du dimanche 05 janvier 2
 020 à 00:00 au vendredi 10 janvier 2020 à 12:00 (Inscriptions impossibles).
 Inscriptions ouvertes aux detenteurs des titres Fédéraux valides suivants :
  Licenciés CompétiteursEpreuves :\n - Le dimanche 12 janvier 2020\n - Codex
  épreuve AMVM0101\n - Slalom Geant\n - Catégorie(s) : U16 (Garçons)\n - Le 
 dimanche 12 janvier 2020\n - Codex épreuve AMVF0101\n - Slalom Geant\n - Ca
 tégorie(s) : U16 (Filles)\n - Le dimanche 12 janvier 2020\n - Codex épreuve
  AMVM0102\n - Slalom Geant\n - Catégorie(s) : U18 a Masters (Hommes)\n - Le
  dimanche 12 janvier 2020\n - Codex épreuve AMVF0102\n - Slalom Geant\n - C
 atégorie(s) : U18 a Masters (Dames)\n - Voir les informations dans l'agenda
 ... (/index.php?option=com_jevents&amp;task=icalevent.detail&amp;evid=1350&
 amp;Itemid=6289) Cet évènement a été importé depuis :https://skivosges.net/
 agenda/a-venir/detailevenement/1355/-/cd2-memorial-michel-mangel-reporte?tm
 pl=component
X-ALT-DESC;FMTTYPE=text/html:<!-- #gskiepreuve code généré par le plugin jevents pour GskiEpreuves. Ne p
 as modifier cette ligne, ni tout le contenu suivant  #gskiepreuve --><div c
 lass="gski-evenement_infos"><div class="gski-evenement-nom">CD2 Mémorial Mi
 chel Mangel</div><div class="gski-evenement-report"> <font class="gskiatten
 tion">(Epreuve reportée, date à determiner)</font></div><ul class="gski-eve
 nement-liste-infos"><li>Codex évenement AMVT0100</li><li>Station : ROUGE GA
 ZON</li><li>Organisateur : 14063 SKIEURS DE ST MAURICE/MOSELLE</li><li>Cour
 riel : <!-- Cette adresse électronique est protégée contre les robots spamm
 eurs. --><span class="cloaked_email ep_ddb5d49c"><span data-ep-a="&#100;ani
 " data-ep-b=""><span data-ep-a="e&#108;.m" data-ep-b="r&#46;fr"><span data-
 ep-b="5&#64;&#115;&#102;" data-ep-a="&#111;&#114;e&#108;"></span></span></s
 pan></span><script>RegularLabs.EmailProtector.unCloak("ep_ddb5d49c");</scri
 pt></li></ul><div class="gski-evenement-infos-2"><div class="gski-evenement
 -info-inscriptions"><div class="gski-evenement-inscriptions-periodes">Pério
 de d'inscription à l'evènement du dimanche 05 janvier 2020 à 00:00 au vendr
 edi 10 janvier 2020 à 12:00 <span class="gski-evenement-inscriptions-imposs
 ibles">(Inscriptions impossibles).</span><div class="gski-evenement-inscrip
 tions-types-titres">Inscriptions ouvertes aux detenteurs des titres Fédérau
 x valides suivants : Licenciés Compétiteurs</div></div></div><div class="gs
 ki-evenement-epreuves"><div class="gski-evenement-epreuves-titres">Epreuves
  :</div><ul class="gski-evenement-epreuves-list"><li><div class="gski-epreu
 ve-date">Le dimanche 12 janvier 2020</div><ul class="gski-epreuve-liste-inf
 os"><li>Codex épreuve AMVM0101</li><li>Slalom Geant</li><li>Catégorie(s) : 
 U16 (Garçons)</li></ul></li><li><div class="gski-epreuve-date">Le dimanche 
 12 janvier 2020</div><ul class="gski-epreuve-liste-infos"><li>Codex épreuve
  AMVF0101</li><li>Slalom Geant</li><li>Catégorie(s) : U16 (Filles)</li></ul
 ></li><li><div class="gski-epreuve-date">Le dimanche 12 janvier 2020</div><
 ul class="gski-epreuve-liste-infos"><li>Codex épreuve AMVM0102</li><li>Slal
 om Geant</li><li>Catégorie(s) : U18 a Masters (Hommes)</li></ul></li><li><d
 iv class="gski-epreuve-date">Le dimanche 12 janvier 2020</div><ul class="gs
 ki-epreuve-liste-infos"><li>Codex épreuve AMVF0102</li><li>Slalom Geant</li
 ><li>Catégorie(s) : U18 a Masters (Dames)</li></ul></li></ul></div><div cla
 ss="gskiepreuves-links"><ul><li><a href="https://skivosges.net/index.php?op
 tion=com_jevents&task=icalevent.detail&evid=1350&Itemid=6289">Voir les info
 rmations dans l'agenda...</a></li></ul></div></div"><!-- #/gskiepreuve fin 
 du dode généré par le plugin jevents pour GskiEpreuves. . Ne pas modifier c
 ette ligne, ni tout le contenu précedant.  #/gskiepreuve --> <a href="https
 ://skivosges.net/agenda/a-venir/detailevenement/1355/-/cd2-memorial-michel-
 mangel-reporte?tmpl=component">Cet évènement a été importé depuis :https://
 skivosges.net/agenda/a-venir/detailevenement/1355/-/cd2-memorial-michel-man
 gel-reporte?tmpl=component</a>DTSTAMP:20260423T144645
DTSTART;TZID=Europe/Paris;VALUE=DATE:20200112
DTEND;TZID=Europe/Paris;VALUE=DATE:20200113
SEQUENCE:0
TRANSP:OPAQUE
END:VEVENT
END:VCALENDAR