BEGIN:VCALENDAR
VERSION:2.0
PRODID:-//jEvents 2.0 for Joomla//EN
CALSCALE:GREGORIAN
METHOD:PUBLISH
BEGIN:VTIMEZONE
TZID:Europe/Paris
BEGIN:STANDARD
DTSTART:20190111T000000
RDATE:20190331T030000
TZOFFSETFROM:+0200
TZOFFSETTO:+0100
TZNAME:Europe/Paris CET
END:STANDARD
BEGIN:STANDARD
DTSTART:20191027T020000
RDATE:20200329T030000
TZOFFSETFROM:+0200
TZOFFSETTO:+0100
TZNAME:Europe/Paris CET
END:STANDARD
BEGIN:STANDARD
DTSTART:20201025T020000
RDATE:20210328T030000
TZOFFSETFROM:+0200
TZOFFSETTO:+0100
TZNAME:Europe/Paris CET
END:STANDARD
BEGIN:STANDARD
DTSTART:20211031T020000
RDATE:20220327T030000
TZOFFSETFROM:+0200
TZOFFSETTO:+0100
TZNAME:Europe/Paris CET
END:STANDARD
BEGIN:STANDARD
DTSTART:20221030T020000
RDATE:20230326T030000
TZOFFSETFROM:+0200
TZOFFSETTO:+0100
TZNAME:Europe/Paris CET
END:STANDARD
BEGIN:STANDARD
DTSTART:20231029T020000
RDATE:20240331T030000
TZOFFSETFROM:+0200
TZOFFSETTO:+0100
TZNAME:Europe/Paris CET
END:STANDARD
BEGIN:STANDARD
DTSTART:20241027T020000
RDATE:20250330T030000
TZOFFSETFROM:+0200
TZOFFSETTO:+0100
TZNAME:Europe/Paris CET
END:STANDARD
BEGIN:STANDARD
DTSTART:20251026T020000
RDATE:20260329T030000
TZOFFSETFROM:+0200
TZOFFSETTO:+0100
TZNAME:Europe/Paris CET
END:STANDARD
BEGIN:STANDARD
DTSTART:20261025T020000
RDATE:20270328T030000
TZOFFSETFROM:+0200
TZOFFSETTO:+0100
TZNAME:Europe/Paris CET
END:STANDARD
BEGIN:DAYLIGHT
DTSTART:20190331T030000
RDATE:20191027T020000
TZOFFSETFROM:+0100
TZOFFSETTO:+0200
TZNAME:Europe/Paris CEST
END:DAYLIGHT
BEGIN:DAYLIGHT
DTSTART:20200329T030000
RDATE:20201025T020000
TZOFFSETFROM:+0100
TZOFFSETTO:+0200
TZNAME:Europe/Paris CEST
END:DAYLIGHT
BEGIN:DAYLIGHT
DTSTART:20210328T030000
RDATE:20211031T020000
TZOFFSETFROM:+0100
TZOFFSETTO:+0200
TZNAME:Europe/Paris CEST
END:DAYLIGHT
BEGIN:DAYLIGHT
DTSTART:20220327T030000
RDATE:20221030T020000
TZOFFSETFROM:+0100
TZOFFSETTO:+0200
TZNAME:Europe/Paris CEST
END:DAYLIGHT
BEGIN:DAYLIGHT
DTSTART:20230326T030000
RDATE:20231029T020000
TZOFFSETFROM:+0100
TZOFFSETTO:+0200
TZNAME:Europe/Paris CEST
END:DAYLIGHT
BEGIN:DAYLIGHT
DTSTART:20240331T030000
RDATE:20241027T020000
TZOFFSETFROM:+0100
TZOFFSETTO:+0200
TZNAME:Europe/Paris CEST
END:DAYLIGHT
BEGIN:DAYLIGHT
DTSTART:20250330T030000
RDATE:20251026T020000
TZOFFSETFROM:+0100
TZOFFSETTO:+0200
TZNAME:Europe/Paris CEST
END:DAYLIGHT
BEGIN:DAYLIGHT
DTSTART:20260329T030000
RDATE:20261025T020000
TZOFFSETFROM:+0100
TZOFFSETTO:+0200
TZNAME:Europe/Paris CEST
END:DAYLIGHT
END:VTIMEZONE
BEGIN:VEVENT
UID:1cda9533e43fb7f0d7b85b60fc0bd37e
CATEGORIES:Circuit Lorraine Jeunes (alpin)
CREATED:20191111T130349
SUMMARY:CJL Coupe de Bronze  Prix CEERI **REPORTE**
URL;VALUE=URI:https://skivosges.net/agenda/a-venir/detailevenement/1356/-/cjl-coupe-de-br
 onze-prix-ceeri-reporte?tmpl=component
DESCRIPTION:<!-- #gskiepreuve code généré par le plugin jevents pour GskiEpreuves. Ne p
 as modifier cette ligne, ni tout le contenu suivant  #gskiepreuve --><div c
 lass="gski-evenement_infos"><div class="gski-evenement-nom">CJL Coupe de Br
 onze  Prix CEERI</div><div class="gski-evenement-report"> <font class="gski
 attention">(Epreuve reportée, date à determiner)</font></div><ul class="gsk
 i-evenement-liste-infos"><li>Codex évenement AMVT0120</li><li>Station : FRE
 RE JOSEPH</li><li>Organisateur : 14083 U.S VENTRON</li><li>Courriel : <!-- 
 Cette adresse électronique est protégée contre les robots spammeurs. --><sp
 an class="cloaked_email ep_6cc6a27a"><span data-ep-a="&#115;&#116;ep&#104;"
  data-ep-b="&#108;e&#46;&#102;&#114;"><span data-ep-b="&#114;&#105;&#99;&#9
 7;&#98;" data-ep-a="a&#110;e&#46;g"><span data-ep-a="&#105;&#103;a&#110;t" 
 data-ep-b="&#64;nu&#109;e"></span></span></span></span><script>RegularLabs.
 EmailProtector.unCloak("ep_6cc6a27a");</script></li><li><span class="gski-e
 venement-obs">Délégué Technique : POIROT MARTIAL</span></li></ul><div class
 ="gski-evenement-infos-2"><div class="gski-evenement-info-inscriptions"><di
 v class="gski-evenement-inscriptions-periodes">Période d'inscription à l'ev
 ènement du dimanche 05 janvier 2020 à 00:00 au vendredi 10 janvier 2020 à 1
 2:00 <span class="gski-evenement-inscriptions-impossibles">(Inscriptions im
 possibles).</span><div class="gski-evenement-inscriptions-types-titres">Ins
 criptions ouvertes aux detenteurs des titres Fédéraux valides suivants : Li
 cenciés Compétiteurs</div></div></div><div class="gski-evenement-epreuves">
 <div class="gski-evenement-epreuves-titres">Epreuves :</div><ul class="gski
 -evenement-epreuves-list"><li><div class="gski-epreuve-date">Le dimanche 12
  janvier 2020</div><ul class="gski-epreuve-liste-infos"><li>Codex épreuve A
 MVM0121</li><li>Slalom</li><li>Catégorie(s) : U8/U10 (Garçons)</li></ul></l
 i><li><div class="gski-epreuve-date">Le dimanche 12 janvier 2020</div><ul c
 lass="gski-epreuve-liste-infos"><li>Codex épreuve AMVF0121</li><li>Slalom</
 li><li>Catégorie(s) : U8/U10 (Filles)</li></ul></li><li><div class="gski-ep
 reuve-date">Le dimanche 12 janvier 2020</div><ul class="gski-epreuve-liste-
 infos"><li>Codex épreuve AMVM0122</li><li>Slalom</li><li>Catégorie(s) : U12
 /U14 (Garçons)</li></ul></li><li><div class="gski-epreuve-date">Le dimanche
  12 janvier 2020</div><ul class="gski-epreuve-liste-infos"><li>Codex épreuv
 e AMVF0122</li><li>Slalom</li><li>Catégorie(s) : U12/U14 (Filles)</li></ul>
 </li></ul></div><div class="gskiepreuves-links"><ul><li><a href="/index.php
 ?option=com_jevents&task=icalevent.detail&evid=1351&Itemid=6289">Voir les i
 nformations dans l'agenda...</a></li></ul></div></div"><!-- #/gskiepreuve f
 in du dode généré par le plugin jevents pour GskiEpreuves. . Ne pas modifie
 r cette ligne, ni tout le contenu précedant.  #/gskiepreuve --> <a href="ht
 tps://skivosges.net/agenda/a-venir/detailevenement/1356/-/cjl-coupe-de-bron
 ze-prix-ceeri-reporte?tmpl=component">Cet évènement a été importé depuis :h
 ttps://skivosges.net/agenda/a-venir/detailevenement/1356/-/cjl-coupe-de-bro
 nze-prix-ceeri-reporte?tmpl=component</a>
X-ALT-DESC;FMTTYPE=text/html:<!-- #gskiepreuve code généré par le plugin jevents pour GskiEpreuves. Ne p
 as modifier cette ligne, ni tout le contenu suivant  #gskiepreuve --><div c
 lass="gski-evenement_infos"><div class="gski-evenement-nom">CJL Coupe de Br
 onze  Prix CEERI</div><div class="gski-evenement-report"> <font class="gski
 attention">(Epreuve reportée, date à determiner)</font></div><ul class="gsk
 i-evenement-liste-infos"><li>Codex évenement AMVT0120</li><li>Station : FRE
 RE JOSEPH</li><li>Organisateur : 14083 U.S VENTRON</li><li>Courriel : <!-- 
 Cette adresse électronique est protégée contre les robots spammeurs. --><sp
 an class="cloaked_email ep_6cc6a27a"><span data-ep-a="&#115;&#116;ep&#104;"
  data-ep-b="&#108;e&#46;&#102;&#114;"><span data-ep-b="&#114;&#105;&#99;&#9
 7;&#98;" data-ep-a="a&#110;e&#46;g"><span data-ep-a="&#105;&#103;a&#110;t" 
 data-ep-b="&#64;nu&#109;e"></span></span></span></span><script>RegularLabs.
 EmailProtector.unCloak("ep_6cc6a27a");</script></li><li><span class="gski-e
 venement-obs">Délégué Technique : POIROT MARTIAL</span></li></ul><div class
 ="gski-evenement-infos-2"><div class="gski-evenement-info-inscriptions"><di
 v class="gski-evenement-inscriptions-periodes">Période d'inscription à l'ev
 ènement du dimanche 05 janvier 2020 à 00:00 au vendredi 10 janvier 2020 à 1
 2:00 <span class="gski-evenement-inscriptions-impossibles">(Inscriptions im
 possibles).</span><div class="gski-evenement-inscriptions-types-titres">Ins
 criptions ouvertes aux detenteurs des titres Fédéraux valides suivants : Li
 cenciés Compétiteurs</div></div></div><div class="gski-evenement-epreuves">
 <div class="gski-evenement-epreuves-titres">Epreuves :</div><ul class="gski
 -evenement-epreuves-list"><li><div class="gski-epreuve-date">Le dimanche 12
  janvier 2020</div><ul class="gski-epreuve-liste-infos"><li>Codex épreuve A
 MVM0121</li><li>Slalom</li><li>Catégorie(s) : U8/U10 (Garçons)</li></ul></l
 i><li><div class="gski-epreuve-date">Le dimanche 12 janvier 2020</div><ul c
 lass="gski-epreuve-liste-infos"><li>Codex épreuve AMVF0121</li><li>Slalom</
 li><li>Catégorie(s) : U8/U10 (Filles)</li></ul></li><li><div class="gski-ep
 reuve-date">Le dimanche 12 janvier 2020</div><ul class="gski-epreuve-liste-
 infos"><li>Codex épreuve AMVM0122</li><li>Slalom</li><li>Catégorie(s) : U12
 /U14 (Garçons)</li></ul></li><li><div class="gski-epreuve-date">Le dimanche
  12 janvier 2020</div><ul class="gski-epreuve-liste-infos"><li>Codex épreuv
 e AMVF0122</li><li>Slalom</li><li>Catégorie(s) : U12/U14 (Filles)</li></ul>
 </li></ul></div><div class="gskiepreuves-links"><ul><li><a href="https://sk
 ivosges.net/index.php?option=com_jevents&task=icalevent.detail&evid=1351&It
 emid=6289">Voir les informations dans l'agenda...</a></li></ul></div></div"
 ><!-- #/gskiepreuve fin du dode généré par le plugin jevents pour GskiEpreu
 ves. . Ne pas modifier cette ligne, ni tout le contenu précedant.  #/gskiep
 reuve --> <a href="https://skivosges.net/agenda/a-venir/detailevenement/135
 6/-/cjl-coupe-de-bronze-prix-ceeri-reporte?tmpl=component">Cet évènement a 
 été importé depuis :https://skivosges.net/agenda/a-venir/detailevenement/13
 56/-/cjl-coupe-de-bronze-prix-ceeri-reporte?tmpl=component</a>DTSTAMP:20260423T144716
DTSTART;TZID=Europe/Paris;VALUE=DATE:20200112
DTEND;TZID=Europe/Paris;VALUE=DATE:20200113
SEQUENCE:0
TRANSP:OPAQUE
END:VEVENT
END:VCALENDAR