BEGIN:VCALENDAR
VERSION:2.0
PRODID:-//jEvents 2.0 for Joomla//EN
CALSCALE:GREGORIAN
METHOD:PUBLISH
BEGIN:VTIMEZONE
TZID:Europe/Paris
BEGIN:STANDARD
DTSTART:20190118T000000
RDATE:20190331T030000
TZOFFSETFROM:+0200
TZOFFSETTO:+0100
TZNAME:Europe/Paris CET
END:STANDARD
BEGIN:STANDARD
DTSTART:20191027T020000
RDATE:20200329T030000
TZOFFSETFROM:+0200
TZOFFSETTO:+0100
TZNAME:Europe/Paris CET
END:STANDARD
BEGIN:STANDARD
DTSTART:20201025T020000
RDATE:20210328T030000
TZOFFSETFROM:+0200
TZOFFSETTO:+0100
TZNAME:Europe/Paris CET
END:STANDARD
BEGIN:STANDARD
DTSTART:20211031T020000
RDATE:20220327T030000
TZOFFSETFROM:+0200
TZOFFSETTO:+0100
TZNAME:Europe/Paris CET
END:STANDARD
BEGIN:STANDARD
DTSTART:20221030T020000
RDATE:20230326T030000
TZOFFSETFROM:+0200
TZOFFSETTO:+0100
TZNAME:Europe/Paris CET
END:STANDARD
BEGIN:STANDARD
DTSTART:20231029T020000
RDATE:20240331T030000
TZOFFSETFROM:+0200
TZOFFSETTO:+0100
TZNAME:Europe/Paris CET
END:STANDARD
BEGIN:STANDARD
DTSTART:20241027T020000
RDATE:20250330T030000
TZOFFSETFROM:+0200
TZOFFSETTO:+0100
TZNAME:Europe/Paris CET
END:STANDARD
BEGIN:STANDARD
DTSTART:20251026T020000
RDATE:20260329T030000
TZOFFSETFROM:+0200
TZOFFSETTO:+0100
TZNAME:Europe/Paris CET
END:STANDARD
BEGIN:STANDARD
DTSTART:20261025T020000
RDATE:20270328T030000
TZOFFSETFROM:+0200
TZOFFSETTO:+0100
TZNAME:Europe/Paris CET
END:STANDARD
BEGIN:DAYLIGHT
DTSTART:20190331T030000
RDATE:20191027T020000
TZOFFSETFROM:+0100
TZOFFSETTO:+0200
TZNAME:Europe/Paris CEST
END:DAYLIGHT
BEGIN:DAYLIGHT
DTSTART:20200329T030000
RDATE:20201025T020000
TZOFFSETFROM:+0100
TZOFFSETTO:+0200
TZNAME:Europe/Paris CEST
END:DAYLIGHT
BEGIN:DAYLIGHT
DTSTART:20210328T030000
RDATE:20211031T020000
TZOFFSETFROM:+0100
TZOFFSETTO:+0200
TZNAME:Europe/Paris CEST
END:DAYLIGHT
BEGIN:DAYLIGHT
DTSTART:20220327T030000
RDATE:20221030T020000
TZOFFSETFROM:+0100
TZOFFSETTO:+0200
TZNAME:Europe/Paris CEST
END:DAYLIGHT
BEGIN:DAYLIGHT
DTSTART:20230326T030000
RDATE:20231029T020000
TZOFFSETFROM:+0100
TZOFFSETTO:+0200
TZNAME:Europe/Paris CEST
END:DAYLIGHT
BEGIN:DAYLIGHT
DTSTART:20240331T030000
RDATE:20241027T020000
TZOFFSETFROM:+0100
TZOFFSETTO:+0200
TZNAME:Europe/Paris CEST
END:DAYLIGHT
BEGIN:DAYLIGHT
DTSTART:20250330T030000
RDATE:20251026T020000
TZOFFSETFROM:+0100
TZOFFSETTO:+0200
TZNAME:Europe/Paris CEST
END:DAYLIGHT
BEGIN:DAYLIGHT
DTSTART:20260329T030000
RDATE:20261025T020000
TZOFFSETFROM:+0100
TZOFFSETTO:+0200
TZNAME:Europe/Paris CEST
END:DAYLIGHT
END:VTIMEZONE
BEGIN:VEVENT
UID:ab1919ba8f75e03a388acaeeaae9bf84
CATEGORIES:Opens et Promos (alpin)
CREATED:20191111T130349
SUMMARY:PROMO Dimanche de la Glisse - Etape 2 - Prix de l'AS Electricité Strasbourg **REPORTE(E) au 08/03/2020**
URL;VALUE=URI:https://skivosges.net/agenda/a-venir/detailevenement/1361/-/promo-dimanche-
 de-la-glisse-etape-2-prix-de-las-electricite-strasbourg-reporte-e-au-08-03-
 2020?tmpl=component
DESCRIPTION:<!-- #gskiepreuve code généré par le plugin jevents pour GskiEpreuves. Ne p
 as modifier cette ligne, ni tout le contenu suivant  #gskiepreuve --><div c
 lass="gski-evenement_infos"><div class="gski-evenement-nom">PROMO Dimanche 
 de la Glisse - Etape 2 - Prix de l'AS Electricité Strasbourg</div><div clas
 s="gski-evenement-report"> <font class="gskiattention">(Epreuve reportée au
  08/03/2020)</font></div><ul class="gski-evenement-liste-infos"><li>Codex é
 venement AMVT0200</li><li>Station : CHAMP DU FEU</li><li>Organisateur : 141
 28 A.S ELECTRICITE STRASBOURG</li><li>Courriel : <!-- Cette adresse électro
 nique est protégée contre les robots spammeurs. --><span class="cloaked_ema
 il ep_fdd2f84c"><span data-ep-b="f&#114;" data-ep-a="&#102;&#98;"><span dat
 a-ep-a=".&#64;" data-ep-b="&#55;."><span data-ep-b="&#109;&#54;" data-ep-a=
 "&#109;&#103;"></span></span></span></span><script>RegularLabs.EmailProtect
 or.unCloak("ep_fdd2f84c");</script></li><li><span class="gski-evenement-obs
 ">Délégué Technique : SILBER JEAN GEORGES</span></li></ul><div class="gski-
 evenement-infos-2"><div class="gski-evenement-info-inscriptions"><div class
 ="gski-evenement-inscriptions-periodes">Période d'inscription à l'evènement
  du dimanche 12 janvier 2020 à 00:00 au vendredi 17 janvier 2020 à 12:00 <s
 pan class="gski-evenement-inscriptions-impossibles">(Inscriptions impossibl
 es).</span><div class="gski-evenement-inscriptions-types-titres">Inscriptio
 ns ouvertes aux detenteurs des titres Fédéraux valides suivants : Licenciés
  Compétiteurs et Titres Loisirs et Dirigeants</div></div></div><div class="
 gski-evenement-epreuves"><div class="gski-evenement-epreuves-titres">Epreuv
 es :</div><ul class="gski-evenement-epreuves-list"><li><div class="gski-epr
 euve-date">Le dimanche 19 janvier 2020</div><ul class="gski-epreuve-liste-i
 nfos"><li>Codex épreuve AMVM0201</li><li>Slalom Geant</li><li>Catégorie(s) 
 : U8/U10 (Garçons)</li></ul></li><li><div class="gski-epreuve-date">Le dima
 nche 19 janvier 2020</div><ul class="gski-epreuve-liste-infos"><li>Codex ép
 reuve AMVF0201</li><li>Slalom Geant</li><li>Catégorie(s) : U8/U10 (Filles)<
 /li></ul></li><li><div class="gski-epreuve-date">Le dimanche 19 janvier 202
 0</div><ul class="gski-epreuve-liste-infos"><li>Codex épreuve AMVM0202</li>
 <li>Slalom Geant</li><li>Catégorie(s) : U12 a U16 (Garçons)</li></ul></li><
 li><div class="gski-epreuve-date">Le dimanche 19 janvier 2020</div><ul clas
 s="gski-epreuve-liste-infos"><li>Codex épreuve AMVF0202</li><li>Slalom Gean
 t</li><li>Catégorie(s) : U12 a U16 (Filles)</li></ul></li></ul></div><div c
 lass="gskiepreuves-links"><ul><li><a href="/index.php?option=com_jevents&ta
 sk=icalevent.detail&evid=1356&Itemid=6289">Voir les informations dans l'age
 nda...</a></li></ul></div></div"><!-- #/gskiepreuve fin du dode généré par 
 le plugin jevents pour GskiEpreuves. . Ne pas modifier cette ligne, ni tout
  le contenu précedant.  #/gskiepreuve --> <a href="https://skivosges.net/ag
 enda/a-venir/detailevenement/1361/-/promo-dimanche-de-la-glisse-etape-2-pri
 x-de-las-electricite-strasbourg-reporte-e-au-08-03-2020?tmpl=component">Cet
  évènement a été importé depuis :https://skivosges.net/agenda/a-venir/detai
 levenement/1361/-/promo-dimanche-de-la-glisse-etape-2-prix-de-las-electrici
 te-strasbourg-reporte-e-au-08-03-2020?tmpl=component</a>
X-ALT-DESC;FMTTYPE=text/html:<!-- #gskiepreuve code généré par le plugin jevents pour GskiEpreuves. Ne p
 as modifier cette ligne, ni tout le contenu suivant  #gskiepreuve --><div c
 lass="gski-evenement_infos"><div class="gski-evenement-nom">PROMO Dimanche 
 de la Glisse - Etape 2 - Prix de l'AS Electricité Strasbourg</div><div clas
 s="gski-evenement-report"> <font class="gskiattention">(Epreuve reportée au
  08/03/2020)</font></div><ul class="gski-evenement-liste-infos"><li>Codex é
 venement AMVT0200</li><li>Station : CHAMP DU FEU</li><li>Organisateur : 141
 28 A.S ELECTRICITE STRASBOURG</li><li>Courriel : <!-- Cette adresse électro
 nique est protégée contre les robots spammeurs. --><span class="cloaked_ema
 il ep_fdd2f84c"><span data-ep-b="f&#114;" data-ep-a="&#102;&#98;"><span dat
 a-ep-a=".&#64;" data-ep-b="&#55;."><span data-ep-b="&#109;&#54;" data-ep-a=
 "&#109;&#103;"></span></span></span></span><script>RegularLabs.EmailProtect
 or.unCloak("ep_fdd2f84c");</script></li><li><span class="gski-evenement-obs
 ">Délégué Technique : SILBER JEAN GEORGES</span></li></ul><div class="gski-
 evenement-infos-2"><div class="gski-evenement-info-inscriptions"><div class
 ="gski-evenement-inscriptions-periodes">Période d'inscription à l'evènement
  du dimanche 12 janvier 2020 à 00:00 au vendredi 17 janvier 2020 à 12:00 <s
 pan class="gski-evenement-inscriptions-impossibles">(Inscriptions impossibl
 es).</span><div class="gski-evenement-inscriptions-types-titres">Inscriptio
 ns ouvertes aux detenteurs des titres Fédéraux valides suivants : Licenciés
  Compétiteurs et Titres Loisirs et Dirigeants</div></div></div><div class="
 gski-evenement-epreuves"><div class="gski-evenement-epreuves-titres">Epreuv
 es :</div><ul class="gski-evenement-epreuves-list"><li><div class="gski-epr
 euve-date">Le dimanche 19 janvier 2020</div><ul class="gski-epreuve-liste-i
 nfos"><li>Codex épreuve AMVM0201</li><li>Slalom Geant</li><li>Catégorie(s) 
 : U8/U10 (Garçons)</li></ul></li><li><div class="gski-epreuve-date">Le dima
 nche 19 janvier 2020</div><ul class="gski-epreuve-liste-infos"><li>Codex ép
 reuve AMVF0201</li><li>Slalom Geant</li><li>Catégorie(s) : U8/U10 (Filles)<
 /li></ul></li><li><div class="gski-epreuve-date">Le dimanche 19 janvier 202
 0</div><ul class="gski-epreuve-liste-infos"><li>Codex épreuve AMVM0202</li>
 <li>Slalom Geant</li><li>Catégorie(s) : U12 a U16 (Garçons)</li></ul></li><
 li><div class="gski-epreuve-date">Le dimanche 19 janvier 2020</div><ul clas
 s="gski-epreuve-liste-infos"><li>Codex épreuve AMVF0202</li><li>Slalom Gean
 t</li><li>Catégorie(s) : U12 a U16 (Filles)</li></ul></li></ul></div><div c
 lass="gskiepreuves-links"><ul><li><a href="https://skivosges.net/index.php?
 option=com_jevents&task=icalevent.detail&evid=1356&Itemid=6289">Voir les in
 formations dans l'agenda...</a></li></ul></div></div"><!-- #/gskiepreuve fi
 n du dode généré par le plugin jevents pour GskiEpreuves. . Ne pas modifier
  cette ligne, ni tout le contenu précedant.  #/gskiepreuve --> <a href="htt
 ps://skivosges.net/agenda/a-venir/detailevenement/1361/-/promo-dimanche-de-
 la-glisse-etape-2-prix-de-las-electricite-strasbourg-reporte-e-au-08-03-202
 0?tmpl=component">Cet évènement a été importé depuis :https://skivosges.net
 /agenda/a-venir/detailevenement/1361/-/promo-dimanche-de-la-glisse-etape-2-
 prix-de-las-electricite-strasbourg-reporte-e-au-08-03-2020?tmpl=component</
 a>DTSTAMP:20260423T144717
DTSTART;TZID=Europe/Paris;VALUE=DATE:20200119
DTEND;TZID=Europe/Paris;VALUE=DATE:20200120
SEQUENCE:0
TRANSP:OPAQUE
END:VEVENT
END:VCALENDAR