BEGIN:VCALENDAR
VERSION:2.0
PRODID:-//jEvents 2.0 for Joomla//EN
CALSCALE:GREGORIAN
METHOD:PUBLISH
BEGIN:VTIMEZONE
TZID:Europe/Paris
BEGIN:STANDARD
DTSTART:20190118T000000
RDATE:20190331T030000
TZOFFSETFROM:+0200
TZOFFSETTO:+0100
TZNAME:Europe/Paris CET
END:STANDARD
BEGIN:STANDARD
DTSTART:20191027T020000
RDATE:20200329T030000
TZOFFSETFROM:+0200
TZOFFSETTO:+0100
TZNAME:Europe/Paris CET
END:STANDARD
BEGIN:STANDARD
DTSTART:20201025T020000
RDATE:20210328T030000
TZOFFSETFROM:+0200
TZOFFSETTO:+0100
TZNAME:Europe/Paris CET
END:STANDARD
BEGIN:STANDARD
DTSTART:20211031T020000
RDATE:20220327T030000
TZOFFSETFROM:+0200
TZOFFSETTO:+0100
TZNAME:Europe/Paris CET
END:STANDARD
BEGIN:STANDARD
DTSTART:20221030T020000
RDATE:20230326T030000
TZOFFSETFROM:+0200
TZOFFSETTO:+0100
TZNAME:Europe/Paris CET
END:STANDARD
BEGIN:STANDARD
DTSTART:20231029T020000
RDATE:20240331T030000
TZOFFSETFROM:+0200
TZOFFSETTO:+0100
TZNAME:Europe/Paris CET
END:STANDARD
BEGIN:STANDARD
DTSTART:20241027T020000
RDATE:20250330T030000
TZOFFSETFROM:+0200
TZOFFSETTO:+0100
TZNAME:Europe/Paris CET
END:STANDARD
BEGIN:STANDARD
DTSTART:20251026T020000
RDATE:20260329T030000
TZOFFSETFROM:+0200
TZOFFSETTO:+0100
TZNAME:Europe/Paris CET
END:STANDARD
BEGIN:STANDARD
DTSTART:20261025T020000
RDATE:20270328T030000
TZOFFSETFROM:+0200
TZOFFSETTO:+0100
TZNAME:Europe/Paris CET
END:STANDARD
BEGIN:DAYLIGHT
DTSTART:20190331T030000
RDATE:20191027T020000
TZOFFSETFROM:+0100
TZOFFSETTO:+0200
TZNAME:Europe/Paris CEST
END:DAYLIGHT
BEGIN:DAYLIGHT
DTSTART:20200329T030000
RDATE:20201025T020000
TZOFFSETFROM:+0100
TZOFFSETTO:+0200
TZNAME:Europe/Paris CEST
END:DAYLIGHT
BEGIN:DAYLIGHT
DTSTART:20210328T030000
RDATE:20211031T020000
TZOFFSETFROM:+0100
TZOFFSETTO:+0200
TZNAME:Europe/Paris CEST
END:DAYLIGHT
BEGIN:DAYLIGHT
DTSTART:20220327T030000
RDATE:20221030T020000
TZOFFSETFROM:+0100
TZOFFSETTO:+0200
TZNAME:Europe/Paris CEST
END:DAYLIGHT
BEGIN:DAYLIGHT
DTSTART:20230326T030000
RDATE:20231029T020000
TZOFFSETFROM:+0100
TZOFFSETTO:+0200
TZNAME:Europe/Paris CEST
END:DAYLIGHT
BEGIN:DAYLIGHT
DTSTART:20240331T030000
RDATE:20241027T020000
TZOFFSETFROM:+0100
TZOFFSETTO:+0200
TZNAME:Europe/Paris CEST
END:DAYLIGHT
BEGIN:DAYLIGHT
DTSTART:20250330T030000
RDATE:20251026T020000
TZOFFSETFROM:+0100
TZOFFSETTO:+0200
TZNAME:Europe/Paris CEST
END:DAYLIGHT
BEGIN:DAYLIGHT
DTSTART:20260329T030000
RDATE:20261025T020000
TZOFFSETFROM:+0100
TZOFFSETTO:+0200
TZNAME:Europe/Paris CEST
END:DAYLIGHT
END:VTIMEZONE
BEGIN:VEVENT
UID:1eaf3554d6b2c2a04cf171011696e715
CATEGORIES:Circuit Massif Jeunes (alpin)
CREATED:20191111T130349
SUMMARY:CJM Micro coupe PRIX FRANCE LITERIE **REPORTE**
URL;VALUE=URI:https://skivosges.net/agenda/a-venir/detailevenement/1362/-/cjm-micro-coupe
 -prix-france-literie-reporte?tmpl=component
DESCRIPTION:CJM Micro coupe PRIX FRANCE LITERIE (Epreuve reportée, date à determiner)\n
  - Codex évenement AMVT0210\n - Station : CHAMP DU FEU\n - Organisateur : 1
 4071 A.S DES CHEMINOTS STRASBOURG\n - Courriel : RegularLabs.EmailProtector
 .unCloak("ep_772bfc9f");\n - Téléphone : 03 88 97 74 30\n - Délégué Techniq
 ue : SILBER JEAN GEORGESPériode d'inscription à l'evènement du dimanche 12 
 janvier 2020 à 00:00 au vendredi 17 janvier 2020 à 12:00 (Inscriptions impo
 ssibles).Inscriptions ouvertes aux detenteurs des titres Fédéraux valides s
 uivants : Licenciés CompétiteursEpreuves :\n - Le dimanche 19 janvier 2020\
 n - Codex épreuve AMVM0211\n - Slalom Geant\n - Catégorie(s) : U8 (Garçons)
 \n - Le dimanche 19 janvier 2020\n - Codex épreuve AMVF0211\n - Slalom Gean
 t\n - Catégorie(s) : U8 (Filles)\n - Le dimanche 19 janvier 2020\n - Codex 
 épreuve AMVM0212\n - Slalom Geant\n - Catégorie(s) : U10 (Garçons)\n - Le d
 imanche 19 janvier 2020\n - Codex épreuve AMVF0212\n - Slalom Geant\n - Cat
 égorie(s) : U10 (Filles)\n - Voir les informations dans l'agenda... (/index
 .php?option=com_jevents&amp;task=icalevent.detail&amp;evid=1357&amp;Itemid=
 6289) Cet évènement a été importé depuis :https://skivosges.net/agenda/a-ve
 nir/detailevenement/1362/-/cjm-micro-coupe-prix-france-literie-reporte?tmpl
 =component
X-ALT-DESC;FMTTYPE=text/html:<!-- #gskiepreuve code généré par le plugin jevents pour GskiEpreuves. Ne p
 as modifier cette ligne, ni tout le contenu suivant  #gskiepreuve --><div c
 lass="gski-evenement_infos"><div class="gski-evenement-nom">CJM Micro coupe
  PRIX FRANCE LITERIE</div><div class="gski-evenement-report"> <font class="
 gskiattention">(Epreuve reportée, date à determiner)</font></div><ul class=
 "gski-evenement-liste-infos"><li>Codex évenement AMVT0210</li><li>Station :
  CHAMP DU FEU</li><li>Organisateur : 14071 A.S DES CHEMINOTS STRASBOURG</li
 ><li>Courriel : <!-- Cette adresse électronique est protégée contre les rob
 ots spammeurs. --><span class="cloaked_email ep_772bfc9f"><span data-ep-b="
 e&#116;" data-ep-a="&#101;&#115;t&#101;&#108;"><span data-ep-a="&#108;e&#46
 ;&#98;&#114;" data-ep-b="&#115;t&#101;&#46;n"><span data-ep-b="&#64;&#108;&
 #97;p&#111;" data-ep-a="&#105;&#103;n&#111;&#110;"></span></span></span></s
 pan><script>RegularLabs.EmailProtector.unCloak("ep_772bfc9f");</script></li
 ><li>Téléphone : 03 88 97 74 30</li><li><span class="gski-evenement-obs">Dé
 légué Technique : SILBER JEAN GEORGES</span></li></ul><div class="gski-even
 ement-infos-2"><div class="gski-evenement-info-inscriptions"><div class="gs
 ki-evenement-inscriptions-periodes">Période d'inscription à l'evènement du 
 dimanche 12 janvier 2020 à 00:00 au vendredi 17 janvier 2020 à 12:00 <span 
 class="gski-evenement-inscriptions-impossibles">(Inscriptions impossibles).
 </span><div class="gski-evenement-inscriptions-types-titres">Inscriptions o
 uvertes aux detenteurs des titres Fédéraux valides suivants : Licenciés Com
 pétiteurs</div></div></div><div class="gski-evenement-epreuves"><div class=
 "gski-evenement-epreuves-titres">Epreuves :</div><ul class="gski-evenement-
 epreuves-list"><li><div class="gski-epreuve-date">Le dimanche 19 janvier 20
 20</div><ul class="gski-epreuve-liste-infos"><li>Codex épreuve AMVM0211</li
 ><li>Slalom Geant</li><li>Catégorie(s) : U8 (Garçons)</li></ul></li><li><di
 v class="gski-epreuve-date">Le dimanche 19 janvier 2020</div><ul class="gsk
 i-epreuve-liste-infos"><li>Codex épreuve AMVF0211</li><li>Slalom Geant</li>
 <li>Catégorie(s) : U8 (Filles)</li></ul></li><li><div class="gski-epreuve-d
 ate">Le dimanche 19 janvier 2020</div><ul class="gski-epreuve-liste-infos">
 <li>Codex épreuve AMVM0212</li><li>Slalom Geant</li><li>Catégorie(s) : U10 
 (Garçons)</li></ul></li><li><div class="gski-epreuve-date">Le dimanche 19 j
 anvier 2020</div><ul class="gski-epreuve-liste-infos"><li>Codex épreuve AMV
 F0212</li><li>Slalom Geant</li><li>Catégorie(s) : U10 (Filles)</li></ul></l
 i></ul></div><div class="gskiepreuves-links"><ul><li><a href="https://skivo
 sges.net/index.php?option=com_jevents&task=icalevent.detail&evid=1357&Itemi
 d=6289">Voir les informations dans l'agenda...</a></li></ul></div></div"><!
 -- #/gskiepreuve fin du dode généré par le plugin jevents pour GskiEpreuves
 . . Ne pas modifier cette ligne, ni tout le contenu précedant.  #/gskiepreu
 ve --> <a href="https://skivosges.net/agenda/a-venir/detailevenement/1362/-
 /cjm-micro-coupe-prix-france-literie-reporte?tmpl=component">Cet évènement 
 a été importé depuis :https://skivosges.net/agenda/a-venir/detailevenement/
 1362/-/cjm-micro-coupe-prix-france-literie-reporte?tmpl=component</a>DTSTAMP:20260423T144640
DTSTART;TZID=Europe/Paris;VALUE=DATE:20200119
DTEND;TZID=Europe/Paris;VALUE=DATE:20200120
SEQUENCE:0
TRANSP:OPAQUE
END:VEVENT
END:VCALENDAR