BEGIN:VCALENDAR
VERSION:2.0
PRODID:-//jEvents 2.0 for Joomla//EN
CALSCALE:GREGORIAN
METHOD:PUBLISH
BEGIN:VTIMEZONE
TZID:Europe/Paris
BEGIN:STANDARD
DTSTART:20190118T000000
RDATE:20190331T030000
TZOFFSETFROM:+0200
TZOFFSETTO:+0100
TZNAME:Europe/Paris CET
END:STANDARD
BEGIN:STANDARD
DTSTART:20191027T020000
RDATE:20200329T030000
TZOFFSETFROM:+0200
TZOFFSETTO:+0100
TZNAME:Europe/Paris CET
END:STANDARD
BEGIN:STANDARD
DTSTART:20201025T020000
RDATE:20210328T030000
TZOFFSETFROM:+0200
TZOFFSETTO:+0100
TZNAME:Europe/Paris CET
END:STANDARD
BEGIN:STANDARD
DTSTART:20211031T020000
RDATE:20220327T030000
TZOFFSETFROM:+0200
TZOFFSETTO:+0100
TZNAME:Europe/Paris CET
END:STANDARD
BEGIN:STANDARD
DTSTART:20221030T020000
RDATE:20230326T030000
TZOFFSETFROM:+0200
TZOFFSETTO:+0100
TZNAME:Europe/Paris CET
END:STANDARD
BEGIN:STANDARD
DTSTART:20231029T020000
RDATE:20240331T030000
TZOFFSETFROM:+0200
TZOFFSETTO:+0100
TZNAME:Europe/Paris CET
END:STANDARD
BEGIN:STANDARD
DTSTART:20241027T020000
RDATE:20250330T030000
TZOFFSETFROM:+0200
TZOFFSETTO:+0100
TZNAME:Europe/Paris CET
END:STANDARD
BEGIN:STANDARD
DTSTART:20251026T020000
RDATE:20260329T030000
TZOFFSETFROM:+0200
TZOFFSETTO:+0100
TZNAME:Europe/Paris CET
END:STANDARD
BEGIN:STANDARD
DTSTART:20261025T020000
RDATE:20270328T030000
TZOFFSETFROM:+0200
TZOFFSETTO:+0100
TZNAME:Europe/Paris CET
END:STANDARD
BEGIN:DAYLIGHT
DTSTART:20190331T030000
RDATE:20191027T020000
TZOFFSETFROM:+0100
TZOFFSETTO:+0200
TZNAME:Europe/Paris CEST
END:DAYLIGHT
BEGIN:DAYLIGHT
DTSTART:20200329T030000
RDATE:20201025T020000
TZOFFSETFROM:+0100
TZOFFSETTO:+0200
TZNAME:Europe/Paris CEST
END:DAYLIGHT
BEGIN:DAYLIGHT
DTSTART:20210328T030000
RDATE:20211031T020000
TZOFFSETFROM:+0100
TZOFFSETTO:+0200
TZNAME:Europe/Paris CEST
END:DAYLIGHT
BEGIN:DAYLIGHT
DTSTART:20220327T030000
RDATE:20221030T020000
TZOFFSETFROM:+0100
TZOFFSETTO:+0200
TZNAME:Europe/Paris CEST
END:DAYLIGHT
BEGIN:DAYLIGHT
DTSTART:20230326T030000
RDATE:20231029T020000
TZOFFSETFROM:+0100
TZOFFSETTO:+0200
TZNAME:Europe/Paris CEST
END:DAYLIGHT
BEGIN:DAYLIGHT
DTSTART:20240331T030000
RDATE:20241027T020000
TZOFFSETFROM:+0100
TZOFFSETTO:+0200
TZNAME:Europe/Paris CEST
END:DAYLIGHT
BEGIN:DAYLIGHT
DTSTART:20250330T030000
RDATE:20251026T020000
TZOFFSETFROM:+0100
TZOFFSETTO:+0200
TZNAME:Europe/Paris CEST
END:DAYLIGHT
BEGIN:DAYLIGHT
DTSTART:20260329T030000
RDATE:20261025T020000
TZOFFSETFROM:+0100
TZOFFSETTO:+0200
TZNAME:Europe/Paris CEST
END:DAYLIGHT
END:VTIMEZONE
BEGIN:VEVENT
UID:b11cf92f10321250cb0eeecd3746ca8b
CATEGORIES:Circuit Massif Jeunes (alpin)
CREATED:20191111T130349
SUMMARY:CJM Coupe d'Argent U16 **REPORTE**
URL;VALUE=URI:https://skivosges.net/agenda/a-venir/detailevenement/1363/-/cjm-coupe-darge
 nt-u16-reporte?tmpl=component
DESCRIPTION:<!-- #gskiepreuve code généré par le plugin jevents pour GskiEpreuves. Ne p
 as modifier cette ligne, ni tout le contenu suivant  #gskiepreuve --><div c
 lass="gski-evenement_infos"><div class="gski-evenement-nom">CJM Coupe d'Arg
 ent U16</div><div class="gski-evenement-report"> <font class="gskiattention
 ">(Epreuve reportée, date à determiner)</font></div><ul class="gski-eveneme
 nt-liste-infos"><li>Codex évenement AMVT0190</li><li>Station : GERARDMER</l
 i><li>Organisateur : 14089 GERARDMER SKI ALPIN</li><li>Courriel : <!-- Cett
 e adresse électronique est protégée contre les robots spammeurs. --><span c
 lass="cloaked_email ep_075d666a"><span data-ep-a="&#103;&#101;&#114;ar" dat
 a-ep-b="e.fr"><span data-ep-b="&#111;r&#97;&#110;&#103;" data-ep-a="dm&#101
 ;&#114;&#45;"><span data-ep-b="l&#112;i&#110;&#64;" data-ep-a="&#115;&#107;
 i&#45;&#97;"></span></span></span></span><script>RegularLabs.EmailProtector
 .unCloak("ep_075d666a");</script></li><li>Téléphone : 03 29 60 98 04</li><l
 i><span class="gski-evenement-obs">Délégué Technique : DODIN YVES</span></l
 i></ul><div class="gski-evenement-infos-2"><div class="gski-evenement-info-
 inscriptions"><div class="gski-evenement-inscriptions-periodes">Période d'i
 nscription à l'evènement du dimanche 12 janvier 2020 à 00:00 au vendredi 17
  janvier 2020 à 12:00 <span class="gski-evenement-inscriptions-impossibles"
 >(Inscriptions impossibles).</span><div class="gski-evenement-inscriptions-
 types-titres">Inscriptions ouvertes aux detenteurs des titres Fédéraux vali
 des suivants : Licenciés Compétiteurs</div></div></div><div class="gski-eve
 nement-epreuves"><div class="gski-evenement-epreuves-titres">Epreuves :</di
 v><ul class="gski-evenement-epreuves-list"><li><div class="gski-epreuve-dat
 e">Le dimanche 19 janvier 2020</div><ul class="gski-epreuve-liste-infos"><l
 i>Codex épreuve AMVM0191</li><li>Slalom Geant</li><li>Catégorie(s) : U16 (G
 arçons)</li></ul></li><li><div class="gski-epreuve-date">Le dimanche 19 jan
 vier 2020</div><ul class="gski-epreuve-liste-infos"><li>Codex épreuve AMVF0
 191</li><li>Slalom Geant</li><li>Catégorie(s) : U16 (Filles)</li></ul></li>
 </ul></div><div class="gskiepreuves-links"><ul><li><a href="/index.php?opti
 on=com_jevents&task=icalevent.detail&evid=1358&Itemid=6289">Voir les inform
 ations dans l'agenda...</a></li></ul></div></div"><!-- #/gskiepreuve fin du
  dode généré par le plugin jevents pour GskiEpreuves. . Ne pas modifier cet
 te ligne, ni tout le contenu précedant.  #/gskiepreuve --> <a href="https:/
 /skivosges.net/agenda/a-venir/detailevenement/1363/-/cjm-coupe-dargent-u16-
 reporte?tmpl=component">Cet évènement a été importé depuis :https://skivosg
 es.net/agenda/a-venir/detailevenement/1363/-/cjm-coupe-dargent-u16-reporte?
 tmpl=component</a>
X-ALT-DESC;FMTTYPE=text/html:<!-- #gskiepreuve code généré par le plugin jevents pour GskiEpreuves. Ne p
 as modifier cette ligne, ni tout le contenu suivant  #gskiepreuve --><div c
 lass="gski-evenement_infos"><div class="gski-evenement-nom">CJM Coupe d'Arg
 ent U16</div><div class="gski-evenement-report"> <font class="gskiattention
 ">(Epreuve reportée, date à determiner)</font></div><ul class="gski-eveneme
 nt-liste-infos"><li>Codex évenement AMVT0190</li><li>Station : GERARDMER</l
 i><li>Organisateur : 14089 GERARDMER SKI ALPIN</li><li>Courriel : <!-- Cett
 e adresse électronique est protégée contre les robots spammeurs. --><span c
 lass="cloaked_email ep_075d666a"><span data-ep-a="&#103;&#101;&#114;ar" dat
 a-ep-b="e.fr"><span data-ep-b="&#111;r&#97;&#110;&#103;" data-ep-a="dm&#101
 ;&#114;&#45;"><span data-ep-b="l&#112;i&#110;&#64;" data-ep-a="&#115;&#107;
 i&#45;&#97;"></span></span></span></span><script>RegularLabs.EmailProtector
 .unCloak("ep_075d666a");</script></li><li>Téléphone : 03 29 60 98 04</li><l
 i><span class="gski-evenement-obs">Délégué Technique : DODIN YVES</span></l
 i></ul><div class="gski-evenement-infos-2"><div class="gski-evenement-info-
 inscriptions"><div class="gski-evenement-inscriptions-periodes">Période d'i
 nscription à l'evènement du dimanche 12 janvier 2020 à 00:00 au vendredi 17
  janvier 2020 à 12:00 <span class="gski-evenement-inscriptions-impossibles"
 >(Inscriptions impossibles).</span><div class="gski-evenement-inscriptions-
 types-titres">Inscriptions ouvertes aux detenteurs des titres Fédéraux vali
 des suivants : Licenciés Compétiteurs</div></div></div><div class="gski-eve
 nement-epreuves"><div class="gski-evenement-epreuves-titres">Epreuves :</di
 v><ul class="gski-evenement-epreuves-list"><li><div class="gski-epreuve-dat
 e">Le dimanche 19 janvier 2020</div><ul class="gski-epreuve-liste-infos"><l
 i>Codex épreuve AMVM0191</li><li>Slalom Geant</li><li>Catégorie(s) : U16 (G
 arçons)</li></ul></li><li><div class="gski-epreuve-date">Le dimanche 19 jan
 vier 2020</div><ul class="gski-epreuve-liste-infos"><li>Codex épreuve AMVF0
 191</li><li>Slalom Geant</li><li>Catégorie(s) : U16 (Filles)</li></ul></li>
 </ul></div><div class="gskiepreuves-links"><ul><li><a href="https://skivosg
 es.net/index.php?option=com_jevents&task=icalevent.detail&evid=1358&Itemid=
 6289">Voir les informations dans l'agenda...</a></li></ul></div></div"><!--
  #/gskiepreuve fin du dode généré par le plugin jevents pour GskiEpreuves. 
 . Ne pas modifier cette ligne, ni tout le contenu précedant.  #/gskiepreuve
  --> <a href="https://skivosges.net/agenda/a-venir/detailevenement/1363/-/c
 jm-coupe-dargent-u16-reporte?tmpl=component">Cet évènement a été importé de
 puis :https://skivosges.net/agenda/a-venir/detailevenement/1363/-/cjm-coupe
 -dargent-u16-reporte?tmpl=component</a>DTSTAMP:20260423T144716
DTSTART;TZID=Europe/Paris;VALUE=DATE:20200119
DTEND;TZID=Europe/Paris;VALUE=DATE:20200120
SEQUENCE:0
TRANSP:OPAQUE
END:VEVENT
END:VCALENDAR