BEGIN:VCALENDAR
VERSION:2.0
PRODID:-//jEvents 2.0 for Joomla//EN
CALSCALE:GREGORIAN
METHOD:PUBLISH
BEGIN:VTIMEZONE
TZID:Europe/Paris
BEGIN:STANDARD
DTSTART:20190118T000000
RDATE:20190331T030000
TZOFFSETFROM:+0200
TZOFFSETTO:+0100
TZNAME:Europe/Paris CET
END:STANDARD
BEGIN:STANDARD
DTSTART:20191027T020000
RDATE:20200329T030000
TZOFFSETFROM:+0200
TZOFFSETTO:+0100
TZNAME:Europe/Paris CET
END:STANDARD
BEGIN:STANDARD
DTSTART:20201025T020000
RDATE:20210328T030000
TZOFFSETFROM:+0200
TZOFFSETTO:+0100
TZNAME:Europe/Paris CET
END:STANDARD
BEGIN:STANDARD
DTSTART:20211031T020000
RDATE:20220327T030000
TZOFFSETFROM:+0200
TZOFFSETTO:+0100
TZNAME:Europe/Paris CET
END:STANDARD
BEGIN:STANDARD
DTSTART:20221030T020000
RDATE:20230326T030000
TZOFFSETFROM:+0200
TZOFFSETTO:+0100
TZNAME:Europe/Paris CET
END:STANDARD
BEGIN:STANDARD
DTSTART:20231029T020000
RDATE:20240331T030000
TZOFFSETFROM:+0200
TZOFFSETTO:+0100
TZNAME:Europe/Paris CET
END:STANDARD
BEGIN:STANDARD
DTSTART:20241027T020000
RDATE:20250330T030000
TZOFFSETFROM:+0200
TZOFFSETTO:+0100
TZNAME:Europe/Paris CET
END:STANDARD
BEGIN:STANDARD
DTSTART:20251026T020000
RDATE:20260329T030000
TZOFFSETFROM:+0200
TZOFFSETTO:+0100
TZNAME:Europe/Paris CET
END:STANDARD
BEGIN:STANDARD
DTSTART:20261025T020000
RDATE:20270328T030000
TZOFFSETFROM:+0200
TZOFFSETTO:+0100
TZNAME:Europe/Paris CET
END:STANDARD
BEGIN:DAYLIGHT
DTSTART:20190331T030000
RDATE:20191027T020000
TZOFFSETFROM:+0100
TZOFFSETTO:+0200
TZNAME:Europe/Paris CEST
END:DAYLIGHT
BEGIN:DAYLIGHT
DTSTART:20200329T030000
RDATE:20201025T020000
TZOFFSETFROM:+0100
TZOFFSETTO:+0200
TZNAME:Europe/Paris CEST
END:DAYLIGHT
BEGIN:DAYLIGHT
DTSTART:20210328T030000
RDATE:20211031T020000
TZOFFSETFROM:+0100
TZOFFSETTO:+0200
TZNAME:Europe/Paris CEST
END:DAYLIGHT
BEGIN:DAYLIGHT
DTSTART:20220327T030000
RDATE:20221030T020000
TZOFFSETFROM:+0100
TZOFFSETTO:+0200
TZNAME:Europe/Paris CEST
END:DAYLIGHT
BEGIN:DAYLIGHT
DTSTART:20230326T030000
RDATE:20231029T020000
TZOFFSETFROM:+0100
TZOFFSETTO:+0200
TZNAME:Europe/Paris CEST
END:DAYLIGHT
BEGIN:DAYLIGHT
DTSTART:20240331T030000
RDATE:20241027T020000
TZOFFSETFROM:+0100
TZOFFSETTO:+0200
TZNAME:Europe/Paris CEST
END:DAYLIGHT
BEGIN:DAYLIGHT
DTSTART:20250330T030000
RDATE:20251026T020000
TZOFFSETFROM:+0100
TZOFFSETTO:+0200
TZNAME:Europe/Paris CEST
END:DAYLIGHT
BEGIN:DAYLIGHT
DTSTART:20260329T030000
RDATE:20261025T020000
TZOFFSETFROM:+0100
TZOFFSETTO:+0200
TZNAME:Europe/Paris CEST
END:DAYLIGHT
END:VTIMEZONE
BEGIN:VEVENT
UID:d41139f0fb1f22634a1579cb24a42a75
CATEGORIES:Circuit Massif Jeunes (alpin)
CREATED:20191111T130349
SUMMARY:CJM Coupe d'Argent U14 **REPORTE**
URL;VALUE=URI:https://skivosges.net/agenda/a-venir/detailevenement/1364/-/cjm-coupe-darge
 nt-u14-reporte?tmpl=component
DESCRIPTION:<!-- #gskiepreuve code généré par le plugin jevents pour GskiEpreuves. Ne p
 as modifier cette ligne, ni tout le contenu suivant  #gskiepreuve --><div c
 lass="gski-evenement_infos"><div class="gski-evenement-nom">CJM Coupe d'Arg
 ent U14</div><div class="gski-evenement-report"> <font class="gskiattention
 ">(Epreuve reportée, date à determiner)</font></div><ul class="gski-eveneme
 nt-liste-infos"><li>Codex évenement AMVT0180</li><li>Station : BALLON D'ALS
 ACE</li><li>Organisateur : 14004 STE SKI TOURISME MONTAGNE</li><li><span cl
 ass="gski-evenement-obs">Délégué Technique : KOENIG DANIEL</span></li></ul>
 <div class="gski-evenement-infos-2"><div class="gski-evenement-info-inscrip
 tions"><div class="gski-evenement-inscriptions-periodes">Période d'inscript
 ion à l'evènement du dimanche 12 janvier 2020 à 00:00 au vendredi 17 janvie
 r 2020 à 12:00 <span class="gski-evenement-inscriptions-impossibles">(Inscr
 iptions impossibles).</span><div class="gski-evenement-inscriptions-types-t
 itres">Inscriptions ouvertes aux detenteurs des titres Fédéraux valides sui
 vants : Licenciés Compétiteurs</div></div></div><div class="gski-evenement-
 epreuves"><div class="gski-evenement-epreuves-titres">Epreuves :</div><ul c
 lass="gski-evenement-epreuves-list"><li><div class="gski-epreuve-date">Le d
 imanche 19 janvier 2020</div><ul class="gski-epreuve-liste-infos"><li>Codex
  épreuve AMVM0181</li><li>Slalom</li><li>Catégorie(s) : U14 (Garçons)</li><
 /ul></li><li><div class="gski-epreuve-date">Le dimanche 19 janvier 2020</di
 v><ul class="gski-epreuve-liste-infos"><li>Codex épreuve AMVF0181</li><li>S
 lalom</li><li>Catégorie(s) : U14 (Filles)</li></ul></li></ul></div><div cla
 ss="gskiepreuves-links"><ul><li><a href="/index.php?option=com_jevents&task
 =icalevent.detail&evid=1359&Itemid=6289">Voir les informations dans l'agend
 a...</a></li></ul></div></div"><!-- #/gskiepreuve fin du dode généré par le
  plugin jevents pour GskiEpreuves. . Ne pas modifier cette ligne, ni tout l
 e contenu précedant.  #/gskiepreuve --> <a href="https://skivosges.net/agen
 da/a-venir/detailevenement/1364/-/cjm-coupe-dargent-u14-reporte?tmpl=compon
 ent">Cet évènement a été importé depuis :https://skivosges.net/agenda/a-ven
 ir/detailevenement/1364/-/cjm-coupe-dargent-u14-reporte?tmpl=component</a>
X-ALT-DESC;FMTTYPE=text/html:<!-- #gskiepreuve code généré par le plugin jevents pour GskiEpreuves. Ne p
 as modifier cette ligne, ni tout le contenu suivant  #gskiepreuve --><div c
 lass="gski-evenement_infos"><div class="gski-evenement-nom">CJM Coupe d'Arg
 ent U14</div><div class="gski-evenement-report"> <font class="gskiattention
 ">(Epreuve reportée, date à determiner)</font></div><ul class="gski-eveneme
 nt-liste-infos"><li>Codex évenement AMVT0180</li><li>Station : BALLON D'ALS
 ACE</li><li>Organisateur : 14004 STE SKI TOURISME MONTAGNE</li><li><span cl
 ass="gski-evenement-obs">Délégué Technique : KOENIG DANIEL</span></li></ul>
 <div class="gski-evenement-infos-2"><div class="gski-evenement-info-inscrip
 tions"><div class="gski-evenement-inscriptions-periodes">Période d'inscript
 ion à l'evènement du dimanche 12 janvier 2020 à 00:00 au vendredi 17 janvie
 r 2020 à 12:00 <span class="gski-evenement-inscriptions-impossibles">(Inscr
 iptions impossibles).</span><div class="gski-evenement-inscriptions-types-t
 itres">Inscriptions ouvertes aux detenteurs des titres Fédéraux valides sui
 vants : Licenciés Compétiteurs</div></div></div><div class="gski-evenement-
 epreuves"><div class="gski-evenement-epreuves-titres">Epreuves :</div><ul c
 lass="gski-evenement-epreuves-list"><li><div class="gski-epreuve-date">Le d
 imanche 19 janvier 2020</div><ul class="gski-epreuve-liste-infos"><li>Codex
  épreuve AMVM0181</li><li>Slalom</li><li>Catégorie(s) : U14 (Garçons)</li><
 /ul></li><li><div class="gski-epreuve-date">Le dimanche 19 janvier 2020</di
 v><ul class="gski-epreuve-liste-infos"><li>Codex épreuve AMVF0181</li><li>S
 lalom</li><li>Catégorie(s) : U14 (Filles)</li></ul></li></ul></div><div cla
 ss="gskiepreuves-links"><ul><li><a href="https://skivosges.net/index.php?op
 tion=com_jevents&task=icalevent.detail&evid=1359&Itemid=6289">Voir les info
 rmations dans l'agenda...</a></li></ul></div></div"><!-- #/gskiepreuve fin 
 du dode généré par le plugin jevents pour GskiEpreuves. . Ne pas modifier c
 ette ligne, ni tout le contenu précedant.  #/gskiepreuve --> <a href="https
 ://skivosges.net/agenda/a-venir/detailevenement/1364/-/cjm-coupe-dargent-u1
 4-reporte?tmpl=component">Cet évènement a été importé depuis :https://skivo
 sges.net/agenda/a-venir/detailevenement/1364/-/cjm-coupe-dargent-u14-report
 e?tmpl=component</a>DTSTAMP:20260423T144717
DTSTART;TZID=Europe/Paris;VALUE=DATE:20200119
DTEND;TZID=Europe/Paris;VALUE=DATE:20200120
SEQUENCE:0
TRANSP:OPAQUE
END:VEVENT
END:VCALENDAR