BEGIN:VCALENDAR
VERSION:2.0
PRODID:-//jEvents 2.0 for Joomla//EN
CALSCALE:GREGORIAN
METHOD:PUBLISH
BEGIN:VTIMEZONE
TZID:Europe/Paris
BEGIN:STANDARD
DTSTART:20190118T000000
RDATE:20190331T030000
TZOFFSETFROM:+0200
TZOFFSETTO:+0100
TZNAME:Europe/Paris CET
END:STANDARD
BEGIN:STANDARD
DTSTART:20191027T020000
RDATE:20200329T030000
TZOFFSETFROM:+0200
TZOFFSETTO:+0100
TZNAME:Europe/Paris CET
END:STANDARD
BEGIN:STANDARD
DTSTART:20201025T020000
RDATE:20210328T030000
TZOFFSETFROM:+0200
TZOFFSETTO:+0100
TZNAME:Europe/Paris CET
END:STANDARD
BEGIN:STANDARD
DTSTART:20211031T020000
RDATE:20220327T030000
TZOFFSETFROM:+0200
TZOFFSETTO:+0100
TZNAME:Europe/Paris CET
END:STANDARD
BEGIN:STANDARD
DTSTART:20221030T020000
RDATE:20230326T030000
TZOFFSETFROM:+0200
TZOFFSETTO:+0100
TZNAME:Europe/Paris CET
END:STANDARD
BEGIN:STANDARD
DTSTART:20231029T020000
RDATE:20240331T030000
TZOFFSETFROM:+0200
TZOFFSETTO:+0100
TZNAME:Europe/Paris CET
END:STANDARD
BEGIN:STANDARD
DTSTART:20241027T020000
RDATE:20250330T030000
TZOFFSETFROM:+0200
TZOFFSETTO:+0100
TZNAME:Europe/Paris CET
END:STANDARD
BEGIN:STANDARD
DTSTART:20251026T020000
RDATE:20260329T030000
TZOFFSETFROM:+0200
TZOFFSETTO:+0100
TZNAME:Europe/Paris CET
END:STANDARD
BEGIN:STANDARD
DTSTART:20261025T020000
RDATE:20270328T030000
TZOFFSETFROM:+0200
TZOFFSETTO:+0100
TZNAME:Europe/Paris CET
END:STANDARD
BEGIN:DAYLIGHT
DTSTART:20190331T030000
RDATE:20191027T020000
TZOFFSETFROM:+0100
TZOFFSETTO:+0200
TZNAME:Europe/Paris CEST
END:DAYLIGHT
BEGIN:DAYLIGHT
DTSTART:20200329T030000
RDATE:20201025T020000
TZOFFSETFROM:+0100
TZOFFSETTO:+0200
TZNAME:Europe/Paris CEST
END:DAYLIGHT
BEGIN:DAYLIGHT
DTSTART:20210328T030000
RDATE:20211031T020000
TZOFFSETFROM:+0100
TZOFFSETTO:+0200
TZNAME:Europe/Paris CEST
END:DAYLIGHT
BEGIN:DAYLIGHT
DTSTART:20220327T030000
RDATE:20221030T020000
TZOFFSETFROM:+0100
TZOFFSETTO:+0200
TZNAME:Europe/Paris CEST
END:DAYLIGHT
BEGIN:DAYLIGHT
DTSTART:20230326T030000
RDATE:20231029T020000
TZOFFSETFROM:+0100
TZOFFSETTO:+0200
TZNAME:Europe/Paris CEST
END:DAYLIGHT
BEGIN:DAYLIGHT
DTSTART:20240331T030000
RDATE:20241027T020000
TZOFFSETFROM:+0100
TZOFFSETTO:+0200
TZNAME:Europe/Paris CEST
END:DAYLIGHT
BEGIN:DAYLIGHT
DTSTART:20250330T030000
RDATE:20251026T020000
TZOFFSETFROM:+0100
TZOFFSETTO:+0200
TZNAME:Europe/Paris CEST
END:DAYLIGHT
BEGIN:DAYLIGHT
DTSTART:20260329T030000
RDATE:20261025T020000
TZOFFSETFROM:+0100
TZOFFSETTO:+0200
TZNAME:Europe/Paris CEST
END:DAYLIGHT
END:VTIMEZONE
BEGIN:VEVENT
UID:270dd34062411200fafd2698d85dd9b7
CATEGORIES:Circuit Massif Jeunes (alpin)
CREATED:20191111T130349
SUMMARY:CJM Coupe d'Argent U12 **REPORTE**
URL;VALUE=URI:https://skivosges.net/agenda/a-venir/detailevenement/1365/-/cjm-coupe-darge
 nt-u12-reporte?tmpl=component
DESCRIPTION:CJM Coupe d'Argent U12 (Epreuve reportée, date à determiner)\n - Codex éven
 ement AMVT0170\n - Station : CHAMP DU FEU\n - Organisateur : 14003 SKI CLUB
  BARR\n - Courriel : RegularLabs.EmailProtector.unCloak("ep_1d876292");\n -
  Délégué Technique : HABERER BERNARDPériode d'inscription à l'evènement du 
 dimanche 12 janvier 2020 à 00:00 au vendredi 17 janvier 2020 à 12:00 (Inscr
 iptions impossibles).Inscriptions ouvertes aux detenteurs des titres Fédéra
 ux valides suivants : Licenciés CompétiteursEpreuves :\n - Le dimanche 19 j
 anvier 2020\n - Codex épreuve AMVM0171\n - Slalom\n - Catégorie(s) : U12 (G
 arçons)\n - Le dimanche 19 janvier 2020\n - Codex épreuve AMVF0171\n - Slal
 om\n - Catégorie(s) : U12 (Filles)\n - Voir les informations dans l'agenda.
 .. (/index.php?option=com_jevents&amp;task=icalevent.detail&amp;evid=1360&a
 mp;Itemid=6289) Cet évènement a été importé depuis :https://skivosges.net/a
 genda/a-venir/detailevenement/1365/-/cjm-coupe-dargent-u12-reporte?tmpl=com
 ponent
X-ALT-DESC;FMTTYPE=text/html:<!-- #gskiepreuve code généré par le plugin jevents pour GskiEpreuves. Ne p
 as modifier cette ligne, ni tout le contenu suivant  #gskiepreuve --><div c
 lass="gski-evenement_infos"><div class="gski-evenement-nom">CJM Coupe d'Arg
 ent U12</div><div class="gski-evenement-report"> <font class="gskiattention
 ">(Epreuve reportée, date à determiner)</font></div><ul class="gski-eveneme
 nt-liste-infos"><li>Codex évenement AMVT0170</li><li>Station : CHAMP DU FEU
 </li><li>Organisateur : 14003 SKI CLUB BARR</li><li>Courriel : <!-- Cette a
 dresse électronique est protégée contre les robots spammeurs. --><span clas
 s="cloaked_email ep_1d876292"><span data-ep-b="" data-ep-a="&#119;i&#101;&#
 115;."><span data-ep-b="l.&#99;&#111;m" data-ep-a="&#99;&#104;ri&#115;"><sp
 an data-ep-b="&#64;&#103;&#109;a&#105;" data-ep-a="&#116;&#111;&#112;&#104;
 e"></span></span></span></span><script>RegularLabs.EmailProtector.unCloak("
 ep_1d876292");</script></li><li><span class="gski-evenement-obs">Délégué Te
 chnique : HABERER BERNARD</span></li></ul><div class="gski-evenement-infos-
 2"><div class="gski-evenement-info-inscriptions"><div class="gski-evenement
 -inscriptions-periodes">Période d'inscription à l'evènement du dimanche 12 
 janvier 2020 à 00:00 au vendredi 17 janvier 2020 à 12:00 <span class="gski-
 evenement-inscriptions-impossibles">(Inscriptions impossibles).</span><div 
 class="gski-evenement-inscriptions-types-titres">Inscriptions ouvertes aux 
 detenteurs des titres Fédéraux valides suivants : Licenciés Compétiteurs</d
 iv></div></div><div class="gski-evenement-epreuves"><div class="gski-evenem
 ent-epreuves-titres">Epreuves :</div><ul class="gski-evenement-epreuves-lis
 t"><li><div class="gski-epreuve-date">Le dimanche 19 janvier 2020</div><ul 
 class="gski-epreuve-liste-infos"><li>Codex épreuve AMVM0171</li><li>Slalom<
 /li><li>Catégorie(s) : U12 (Garçons)</li></ul></li><li><div class="gski-epr
 euve-date">Le dimanche 19 janvier 2020</div><ul class="gski-epreuve-liste-i
 nfos"><li>Codex épreuve AMVF0171</li><li>Slalom</li><li>Catégorie(s) : U12 
 (Filles)</li></ul></li></ul></div><div class="gskiepreuves-links"><ul><li><
 a href="https://skivosges.net/index.php?option=com_jevents&task=icalevent.d
 etail&evid=1360&Itemid=6289">Voir les informations dans l'agenda...</a></li
 ></ul></div></div"><!-- #/gskiepreuve fin du dode généré par le plugin jeve
 nts pour GskiEpreuves. . Ne pas modifier cette ligne, ni tout le contenu pr
 écedant.  #/gskiepreuve --> <a href="https://skivosges.net/agenda/a-venir/d
 etailevenement/1365/-/cjm-coupe-dargent-u12-reporte?tmpl=component">Cet évè
 nement a été importé depuis :https://skivosges.net/agenda/a-venir/detaileve
 nement/1365/-/cjm-coupe-dargent-u12-reporte?tmpl=component</a>DTSTAMP:20260423T144652
DTSTART;TZID=Europe/Paris;VALUE=DATE:20200119
DTEND;TZID=Europe/Paris;VALUE=DATE:20200120
SEQUENCE:0
TRANSP:OPAQUE
END:VEVENT
END:VCALENDAR