BEGIN:VCALENDAR
VERSION:2.0
PRODID:-//jEvents 2.0 for Joomla//EN
CALSCALE:GREGORIAN
METHOD:PUBLISH
BEGIN:VTIMEZONE
TZID:Europe/Paris
BEGIN:STANDARD
DTSTART:20190118T000000
RDATE:20190331T030000
TZOFFSETFROM:+0200
TZOFFSETTO:+0100
TZNAME:Europe/Paris CET
END:STANDARD
BEGIN:STANDARD
DTSTART:20191027T020000
RDATE:20200329T030000
TZOFFSETFROM:+0200
TZOFFSETTO:+0100
TZNAME:Europe/Paris CET
END:STANDARD
BEGIN:STANDARD
DTSTART:20201025T020000
RDATE:20210328T030000
TZOFFSETFROM:+0200
TZOFFSETTO:+0100
TZNAME:Europe/Paris CET
END:STANDARD
BEGIN:STANDARD
DTSTART:20211031T020000
RDATE:20220327T030000
TZOFFSETFROM:+0200
TZOFFSETTO:+0100
TZNAME:Europe/Paris CET
END:STANDARD
BEGIN:STANDARD
DTSTART:20221030T020000
RDATE:20230326T030000
TZOFFSETFROM:+0200
TZOFFSETTO:+0100
TZNAME:Europe/Paris CET
END:STANDARD
BEGIN:STANDARD
DTSTART:20231029T020000
RDATE:20240331T030000
TZOFFSETFROM:+0200
TZOFFSETTO:+0100
TZNAME:Europe/Paris CET
END:STANDARD
BEGIN:STANDARD
DTSTART:20241027T020000
RDATE:20250330T030000
TZOFFSETFROM:+0200
TZOFFSETTO:+0100
TZNAME:Europe/Paris CET
END:STANDARD
BEGIN:STANDARD
DTSTART:20251026T020000
RDATE:20260329T030000
TZOFFSETFROM:+0200
TZOFFSETTO:+0100
TZNAME:Europe/Paris CET
END:STANDARD
BEGIN:STANDARD
DTSTART:20261025T020000
RDATE:20270328T030000
TZOFFSETFROM:+0200
TZOFFSETTO:+0100
TZNAME:Europe/Paris CET
END:STANDARD
BEGIN:DAYLIGHT
DTSTART:20190331T030000
RDATE:20191027T020000
TZOFFSETFROM:+0100
TZOFFSETTO:+0200
TZNAME:Europe/Paris CEST
END:DAYLIGHT
BEGIN:DAYLIGHT
DTSTART:20200329T030000
RDATE:20201025T020000
TZOFFSETFROM:+0100
TZOFFSETTO:+0200
TZNAME:Europe/Paris CEST
END:DAYLIGHT
BEGIN:DAYLIGHT
DTSTART:20210328T030000
RDATE:20211031T020000
TZOFFSETFROM:+0100
TZOFFSETTO:+0200
TZNAME:Europe/Paris CEST
END:DAYLIGHT
BEGIN:DAYLIGHT
DTSTART:20220327T030000
RDATE:20221030T020000
TZOFFSETFROM:+0100
TZOFFSETTO:+0200
TZNAME:Europe/Paris CEST
END:DAYLIGHT
BEGIN:DAYLIGHT
DTSTART:20230326T030000
RDATE:20231029T020000
TZOFFSETFROM:+0100
TZOFFSETTO:+0200
TZNAME:Europe/Paris CEST
END:DAYLIGHT
BEGIN:DAYLIGHT
DTSTART:20240331T030000
RDATE:20241027T020000
TZOFFSETFROM:+0100
TZOFFSETTO:+0200
TZNAME:Europe/Paris CEST
END:DAYLIGHT
BEGIN:DAYLIGHT
DTSTART:20250330T030000
RDATE:20251026T020000
TZOFFSETFROM:+0100
TZOFFSETTO:+0200
TZNAME:Europe/Paris CEST
END:DAYLIGHT
BEGIN:DAYLIGHT
DTSTART:20260329T030000
RDATE:20261025T020000
TZOFFSETFROM:+0100
TZOFFSETTO:+0200
TZNAME:Europe/Paris CEST
END:DAYLIGHT
END:VTIMEZONE
BEGIN:VEVENT
UID:23ea10e87693f5a723d5a0c1c2ca91b2
CATEGORIES:Compétition Ski de Fond
CREATED:20191111T130349
SUMMARY:CHALLENGE MICHEL DIDIERLAURENT Patrouille U13 + U15
URL;VALUE=URI:https://skivosges.net/agenda/a-venir/detailevenement/1366/-/challenge-miche
 l-didierlaurent-patrouille-u13-u15?tmpl=component
DESCRIPTION:CHALLENGE MICHEL DIDIERLAURENT Patrouille U13 + U15\n - Codex évenement FMV
 T0080\n - Lieu : Lispach\n - Station : La bresse\n - Organisateur : 14329 S
 KI CLUB VAGNEY ROCHESSON\n - Courriel : RegularLabs.EmailProtector.unCloak(
 "ep_2e562cc8");\n - Délégué Technique : PHILIPPE ALAINPériode d'inscription
  à l'evènement du dimanche 12 janvier 2020 à 00:00 au vendredi 17 janvier 2
 020 à 12:00 (Inscriptions impossibles).Inscriptions ouvertes aux detenteurs
  des titres Fédéraux valides suivants : Licenciés CompétiteursEpreuves :\n 
 - Le dimanche 19 janvier 2020\n - Codex épreuve FMVF0081\n - Patrouille\n -
  Catégorie(s) : U13 (Filles)\n - Le dimanche 19 janvier 2020\n - Codex épre
 uve FMVM0081\n - Patrouille\n - Catégorie(s) : U13 (Garçons)\n - Le dimanch
 e 19 janvier 2020\n - Codex épreuve FMVF0082\n - Patrouille\n - Catégorie(s
 ) : U15 (Filles)\n - Le dimanche 19 janvier 2020\n - Codex épreuve FMVM0082
 \n - Patrouille\n - Catégorie(s) : U15 (Garçons)\n - Voir les informations 
 dans l'agenda... (/index.php?option=com_jevents&amp;task=icalevent.detail&a
 mp;evid=1361&amp;Itemid=6289)\n - Vers les résultats... (/index.php?option=
 com_gskiepreuves&amp;view=afficheresultats&amp;format_option=tous&amp;filte
 r[search]=FMVT0080&amp;filter[date_debut]=19-01-2020&amp;filter[date_fin]=1
 9-01-2020&amp;code_activite=FOND&amp;Itemid=6289)\n - Publications concerna
 nt cet évènement :\n - Dimanche 19 Janvier 2020 à 21:30 : Le 19/01/2020 LA 
 BRESSE LISPACH Résultats Cet évènement a été importé depuis :https://skivos
 ges.net/agenda/a-venir/detailevenement/1366/-/challenge-michel-didierlauren
 t-patrouille-u13-u15?tmpl=component
X-ALT-DESC;FMTTYPE=text/html:<!-- #gskiepreuve code généré par le plugin jevents pour GskiEpreuves. Ne p
 as modifier cette ligne, ni tout le contenu suivant  #gskiepreuve --><div c
 lass="gski-evenement_infos"><div class="gski-evenement-nom">CHALLENGE MICHE
 L DIDIERLAURENT Patrouille U13 + U15</div><div class="gski-evenement-report
 "></div><ul class="gski-evenement-liste-infos"><li>Codex évenement FMVT0080
 </li><li>Lieu : Lispach</li><li>Station : La bresse</li><li>Organisateur : 
 14329 SKI CLUB VAGNEY ROCHESSON</li><li>Courriel : <!-- Cette adresse élect
 ronique est protégée contre les robots spammeurs. --><span class="cloaked_e
 mail ep_2e562cc8"><span data-ep-a="&#115;a&#109;&#117;&#101;" data-ep-b="">
 <span data-ep-b="&#111;&#111;&#46;&#102;&#114;" data-ep-a="lv&#97;&#108;&#1
 00;"><span data-ep-b="&#101;&#64;&#121;a&#104;" data-ep-a="e&#110;a&#105;r"
 ></span></span></span></span><script>RegularLabs.EmailProtector.unCloak("ep
 _2e562cc8");</script></li><li><span class="gski-evenement-obs">Délégué Tech
 nique : PHILIPPE ALAIN</span></li></ul><div class="gski-evenement-infos-2">
 <div class="gski-evenement-info-inscriptions"><div class="gski-evenement-in
 scriptions-periodes">Période d'inscription à l'evènement du dimanche 12 jan
 vier 2020 à 00:00 au vendredi 17 janvier 2020 à 12:00 <span class="gski-eve
 nement-inscriptions-impossibles">(Inscriptions impossibles).</span><div cla
 ss="gski-evenement-inscriptions-types-titres">Inscriptions ouvertes aux det
 enteurs des titres Fédéraux valides suivants : Licenciés Compétiteurs</div>
 </div></div><div class="gski-evenement-epreuves"><div class="gski-evenement
 -epreuves-titres">Epreuves :</div><ul class="gski-evenement-epreuves-list">
 <li><div class="gski-epreuve-date">Le dimanche 19 janvier 2020</div><ul cla
 ss="gski-epreuve-liste-infos"><li>Codex épreuve FMVF0081</li><li>Patrouille
 </li><li>Catégorie(s) : U13 (Filles)</li></ul></li><li><div class="gski-epr
 euve-date">Le dimanche 19 janvier 2020</div><ul class="gski-epreuve-liste-i
 nfos"><li>Codex épreuve FMVM0081</li><li>Patrouille</li><li>Catégorie(s) : 
 U13 (Garçons)</li></ul></li><li><div class="gski-epreuve-date">Le dimanche 
 19 janvier 2020</div><ul class="gski-epreuve-liste-infos"><li>Codex épreuve
  FMVF0082</li><li>Patrouille</li><li>Catégorie(s) : U15 (Filles)</li></ul><
 /li><li><div class="gski-epreuve-date">Le dimanche 19 janvier 2020</div><ul
  class="gski-epreuve-liste-infos"><li>Codex épreuve FMVM0082</li><li>Patrou
 ille</li><li>Catégorie(s) : U15 (Garçons)</li></ul></li></ul></div><div cla
 ss="gskiepreuves-links"><ul><li><a href="https://skivosges.net/index.php?op
 tion=com_jevents&task=icalevent.detail&evid=1361&Itemid=6289">Voir les info
 rmations dans l'agenda...</a></li><li><a href="https://skivosges.net/index.
 php?option=com_gskiepreuves&view=afficheresultats&format_option=tous&filter
 [search]=FMVT0080&filter[date_debut]=19-01-2020&filter[date_fin]=19-01-2020
 &code_activite=FOND&Itemid=6289">Vers les résultats...</a></li><li>Publicat
 ions concernant cet évènement :<ul><li><a href="https://skivosges.net/index
 .php?option=com_content&view=article&id=7055&Itemid=6289">Dimanche 19 Janvi
 er 2020 à 21:30 : Le 19/01/2020 LA BRESSE LISPACH Résultats</a></li></ul></
 li></ul></div></div"><!-- #/gskiepreuve fin du dode généré par le plugin je
 vents pour GskiEpreuves. . Ne pas modifier cette ligne, ni tout le contenu 
 précedant.  #/gskiepreuve --> <a href="https://skivosges.net/agenda/a-venir
 /detailevenement/1366/-/challenge-michel-didierlaurent-patrouille-u13-u15?t
 mpl=component">Cet évènement a été importé depuis :https://skivosges.net/ag
 enda/a-venir/detailevenement/1366/-/challenge-michel-didierlaurent-patrouil
 le-u13-u15?tmpl=component</a>DTSTAMP:20260423T133016
DTSTART;TZID=Europe/Paris;VALUE=DATE:20200119
DTEND;TZID=Europe/Paris;VALUE=DATE:20200120
SEQUENCE:0
TRANSP:OPAQUE
END:VEVENT
END:VCALENDAR