BEGIN:VCALENDAR
VERSION:2.0
PRODID:-//jEvents 2.0 for Joomla//EN
CALSCALE:GREGORIAN
METHOD:PUBLISH
BEGIN:VTIMEZONE
TZID:Europe/Paris
BEGIN:STANDARD
DTSTART:20190121T000000
RDATE:20190331T030000
TZOFFSETFROM:+0200
TZOFFSETTO:+0100
TZNAME:Europe/Paris CET
END:STANDARD
BEGIN:STANDARD
DTSTART:20191027T020000
RDATE:20200329T030000
TZOFFSETFROM:+0200
TZOFFSETTO:+0100
TZNAME:Europe/Paris CET
END:STANDARD
BEGIN:STANDARD
DTSTART:20201025T020000
RDATE:20210328T030000
TZOFFSETFROM:+0200
TZOFFSETTO:+0100
TZNAME:Europe/Paris CET
END:STANDARD
BEGIN:STANDARD
DTSTART:20211031T020000
RDATE:20220327T030000
TZOFFSETFROM:+0200
TZOFFSETTO:+0100
TZNAME:Europe/Paris CET
END:STANDARD
BEGIN:STANDARD
DTSTART:20221030T020000
RDATE:20230326T030000
TZOFFSETFROM:+0200
TZOFFSETTO:+0100
TZNAME:Europe/Paris CET
END:STANDARD
BEGIN:STANDARD
DTSTART:20231029T020000
RDATE:20240331T030000
TZOFFSETFROM:+0200
TZOFFSETTO:+0100
TZNAME:Europe/Paris CET
END:STANDARD
BEGIN:STANDARD
DTSTART:20241027T020000
RDATE:20250330T030000
TZOFFSETFROM:+0200
TZOFFSETTO:+0100
TZNAME:Europe/Paris CET
END:STANDARD
BEGIN:STANDARD
DTSTART:20251026T020000
RDATE:20260329T030000
TZOFFSETFROM:+0200
TZOFFSETTO:+0100
TZNAME:Europe/Paris CET
END:STANDARD
BEGIN:STANDARD
DTSTART:20261025T020000
RDATE:20270328T030000
TZOFFSETFROM:+0200
TZOFFSETTO:+0100
TZNAME:Europe/Paris CET
END:STANDARD
BEGIN:DAYLIGHT
DTSTART:20190331T030000
RDATE:20191027T020000
TZOFFSETFROM:+0100
TZOFFSETTO:+0200
TZNAME:Europe/Paris CEST
END:DAYLIGHT
BEGIN:DAYLIGHT
DTSTART:20200329T030000
RDATE:20201025T020000
TZOFFSETFROM:+0100
TZOFFSETTO:+0200
TZNAME:Europe/Paris CEST
END:DAYLIGHT
BEGIN:DAYLIGHT
DTSTART:20210328T030000
RDATE:20211031T020000
TZOFFSETFROM:+0100
TZOFFSETTO:+0200
TZNAME:Europe/Paris CEST
END:DAYLIGHT
BEGIN:DAYLIGHT
DTSTART:20220327T030000
RDATE:20221030T020000
TZOFFSETFROM:+0100
TZOFFSETTO:+0200
TZNAME:Europe/Paris CEST
END:DAYLIGHT
BEGIN:DAYLIGHT
DTSTART:20230326T030000
RDATE:20231029T020000
TZOFFSETFROM:+0100
TZOFFSETTO:+0200
TZNAME:Europe/Paris CEST
END:DAYLIGHT
BEGIN:DAYLIGHT
DTSTART:20240331T030000
RDATE:20241027T020000
TZOFFSETFROM:+0100
TZOFFSETTO:+0200
TZNAME:Europe/Paris CEST
END:DAYLIGHT
BEGIN:DAYLIGHT
DTSTART:20250330T030000
RDATE:20251026T020000
TZOFFSETFROM:+0100
TZOFFSETTO:+0200
TZNAME:Europe/Paris CEST
END:DAYLIGHT
BEGIN:DAYLIGHT
DTSTART:20260329T030000
RDATE:20261025T020000
TZOFFSETFROM:+0100
TZOFFSETTO:+0200
TZNAME:Europe/Paris CEST
END:DAYLIGHT
END:VTIMEZONE
BEGIN:VEVENT
UID:a5dc2ae1765438318136c4628b951863
CATEGORIES:Compétition Ski de Fond
CREATED:20191111T130349
SUMMARY:PROMO PRE-CLUBS NORDIQUE DES CRETES
URL;VALUE=URI:https://skivosges.net/agenda/a-venir/detailevenement/1368/-/promo-pre-clubs
 -nordique-des-cretes?tmpl=component
DESCRIPTION:<!-- #gskiepreuve code généré par le plugin jevents pour GskiEpreuves. Ne p
 as modifier cette ligne, ni tout le contenu suivant  #gskiepreuve --><div c
 lass="gski-evenement_infos"><div class="gski-evenement-nom">PROMO PRE-CLUBS
  NORDIQUE DES CRETES</div><div class="gski-evenement-report"></div><ul clas
 s="gski-evenement-liste-infos"><li>Codex évenement FMVT0100</li><li>Lieu : 
 Le Breitfirst</li><li>Station : MARKSTEIN</li><li>Organisateur : 14020 SKI 
 CLUB GUEBWILLER</li><li>Courriel : <!-- Cette adresse électronique est prot
 égée contre les robots spammeurs. --><span class="cloaked_email ep_4d73f983
 "><span data-ep-a="&#106;e&#97;&#110;&#45;" data-ep-b="&#102;&#114;"><span 
 data-ep-b="&#97;d&#111;o&#46;" data-ep-a="&#109;&#97;&#114;&#99;&#46;"><spa
 n data-ep-b="&#100;&#64;&#119;&#97;n" data-ep-a="pa&#116;&#97;r"></span></s
 pan></span></span><script>RegularLabs.EmailProtector.unCloak("ep_4d73f983")
 ;</script></li><li><span class="gski-evenement-obs">Délégué Technique : BOU
 VIER YVES</span></li></ul><div class="gski-evenement-infos-2"><div class="g
 ski-evenement-info-inscriptions"><div class="gski-evenement-inscriptions-pe
 riodes">Période d'inscription à l'evènement du mercredi 15 janvier 2020 à 0
 0:00 au mardi 21 janvier 2020 à 18:00 <span class="gski-evenement-inscripti
 ons-impossibles">(Inscriptions impossibles).</span><div class="gski-eveneme
 nt-inscriptions-types-titres">Inscriptions ouvertes aux detenteurs des titr
 es Fédéraux valides suivants : Licenciés Compétiteurs et Titres Loisirs et 
 Dirigeants</div></div></div><div class="gskiepreuves-links"><ul><li><a href
 ="/index.php?option=com_jevents&task=icalevent.detail&evid=1363&Itemid=6289
 ">Voir les informations dans l'agenda...</a></li><li><a href="/index.php?op
 tion=com_gskiepreuves&view=afficheresultats&format_option=tous&filter[searc
 h]=FMVT0100&filter[date_debut]=22-01-2020&filter[date_fin]=22-01-2020&code_
 activite=FOND&Itemid=6289">Vers les résultats...</a></li><li>Publications c
 oncernant cet évènement :<ul><li><a href="/index.php?option=com_content&vie
 w=article&id=7064&Itemid=6289">Jeudi 23 Janvier 2020 à 15:21 : Le 22/01/202
 0 LE BREITFIRST Résultats</a></li></ul></li></ul></div><div class="gski-eve
 nement-epreuves"><div class="gski-evenement-epreuves-titres">Epreuves :</di
 v><ul class="gski-evenement-epreuves-list"><li><div class="gski-epreuve-dat
 e">Le mercredi 22 janvier 2020 à 22:30</div><ul class="gski-epreuve-liste-i
 nfos"><li>Codex épreuve FMVF0101</li><li>Mass Start (Depart ligne)</li><li>
 Catégorie(s) : U9 (Filles)</li></ul></li><li><div class="gski-epreuve-date"
 >Le mercredi 22 janvier 2020 à 22:30</div><ul class="gski-epreuve-liste-inf
 os"><li>Codex épreuve FMVM0101</li><li>Mass Start (Depart ligne)</li><li>Ca
 tégorie(s) : U9 (Garçons)</li></ul></li><li><div class="gski-epreuve-date">
 Le mercredi 22 janvier 2020 à 22:30</div><ul class="gski-epreuve-liste-info
 s"><li>Codex épreuve FMVF0102</li><li>Mass Start (Depart ligne)</li><li>Cat
 égorie(s) : U11 (Filles)</li></ul></li><li><div class="gski-epreuve-date">L
 e mercredi 22 janvier 2020 à 22:30</div><ul class="gski-epreuve-liste-infos
 "><li>Codex épreuve FMVM0102</li><li>Mass Start (Depart ligne)</li><li>Caté
 gorie(s) : U11 (Garçons)</li></ul></li></ul></div><div class="gskiepreuves-
 links"><ul><li><a href="/index.php?option=com_jevents&task=icalevent.detail
 &evid=1363&Itemid=6289">Voir les informations dans l'agenda...</a></li><li>
 <a href="/index.php?option=com_gskiepreuves&view=afficheresultats&format_op
 tion=tous&filter[search]=FMVT0100&filter[date_debut]=22-01-2020&filter[date
 _fin]=22-01-2020&code_activite=FOND&Itemid=6289">Vers les résultats...</a><
 /li><li>Publications concernant cet évènement :<ul><li><a href="/index.php?
 option=com_content&view=article&id=7064&Itemid=6289">Jeudi 23 Janvier 2020 
 à 15:21 : Le 22/01/2020 LE BREITFIRST Résultats</a></li></ul></li></ul></di
 v></div"><!-- #/gskiepreuve fin du dode généré par le plugin jevents pour G
 skiEpreuves. . Ne pas modifier cette ligne, ni tout le contenu précedant.  
 #/gskiepreuve --> <a href="https://skivosges.net/agenda/a-venir/detailevene
 ment/1368/-/promo-pre-clubs-nordique-des-cretes?tmpl=component">Cet évèneme
 nt a été importé depuis :https://skivosges.net/agenda/a-venir/detaileveneme
 nt/1368/-/promo-pre-clubs-nordique-des-cretes?tmpl=component</a>
X-ALT-DESC;FMTTYPE=text/html:<!-- #gskiepreuve code généré par le plugin jevents pour GskiEpreuves. Ne p
 as modifier cette ligne, ni tout le contenu suivant  #gskiepreuve --><div c
 lass="gski-evenement_infos"><div class="gski-evenement-nom">PROMO PRE-CLUBS
  NORDIQUE DES CRETES</div><div class="gski-evenement-report"></div><ul clas
 s="gski-evenement-liste-infos"><li>Codex évenement FMVT0100</li><li>Lieu : 
 Le Breitfirst</li><li>Station : MARKSTEIN</li><li>Organisateur : 14020 SKI 
 CLUB GUEBWILLER</li><li>Courriel : <!-- Cette adresse électronique est prot
 égée contre les robots spammeurs. --><span class="cloaked_email ep_4d73f983
 "><span data-ep-a="&#106;e&#97;&#110;&#45;" data-ep-b="&#102;&#114;"><span 
 data-ep-b="&#97;d&#111;o&#46;" data-ep-a="&#109;&#97;&#114;&#99;&#46;"><spa
 n data-ep-b="&#100;&#64;&#119;&#97;n" data-ep-a="pa&#116;&#97;r"></span></s
 pan></span></span><script>RegularLabs.EmailProtector.unCloak("ep_4d73f983")
 ;</script></li><li><span class="gski-evenement-obs">Délégué Technique : BOU
 VIER YVES</span></li></ul><div class="gski-evenement-infos-2"><div class="g
 ski-evenement-info-inscriptions"><div class="gski-evenement-inscriptions-pe
 riodes">Période d'inscription à l'evènement du mercredi 15 janvier 2020 à 0
 0:00 au mardi 21 janvier 2020 à 18:00 <span class="gski-evenement-inscripti
 ons-impossibles">(Inscriptions impossibles).</span><div class="gski-eveneme
 nt-inscriptions-types-titres">Inscriptions ouvertes aux detenteurs des titr
 es Fédéraux valides suivants : Licenciés Compétiteurs et Titres Loisirs et 
 Dirigeants</div></div></div><div class="gskiepreuves-links"><ul><li><a href
 ="https://skivosges.net/index.php?option=com_jevents&task=icalevent.detail&
 evid=1363&Itemid=6289">Voir les informations dans l'agenda...</a></li><li><
 a href="https://skivosges.net/index.php?option=com_gskiepreuves&view=affich
 eresultats&format_option=tous&filter[search]=FMVT0100&filter[date_debut]=22
 -01-2020&filter[date_fin]=22-01-2020&code_activite=FOND&Itemid=6289">Vers l
 es résultats...</a></li><li>Publications concernant cet évènement :<ul><li>
 <a href="https://skivosges.net/index.php?option=com_content&view=article&id
 =7064&Itemid=6289">Jeudi 23 Janvier 2020 à 15:21 : Le 22/01/2020 LE BREITFI
 RST Résultats</a></li></ul></li></ul></div><div class="gski-evenement-epreu
 ves"><div class="gski-evenement-epreuves-titres">Epreuves :</div><ul class=
 "gski-evenement-epreuves-list"><li><div class="gski-epreuve-date">Le mercre
 di 22 janvier 2020 à 22:30</div><ul class="gski-epreuve-liste-infos"><li>Co
 dex épreuve FMVF0101</li><li>Mass Start (Depart ligne)</li><li>Catégorie(s)
  : U9 (Filles)</li></ul></li><li><div class="gski-epreuve-date">Le mercredi
  22 janvier 2020 à 22:30</div><ul class="gski-epreuve-liste-infos"><li>Code
 x épreuve FMVM0101</li><li>Mass Start (Depart ligne)</li><li>Catégorie(s) :
  U9 (Garçons)</li></ul></li><li><div class="gski-epreuve-date">Le mercredi 
 22 janvier 2020 à 22:30</div><ul class="gski-epreuve-liste-infos"><li>Codex
  épreuve FMVF0102</li><li>Mass Start (Depart ligne)</li><li>Catégorie(s) : 
 U11 (Filles)</li></ul></li><li><div class="gski-epreuve-date">Le mercredi 2
 2 janvier 2020 à 22:30</div><ul class="gski-epreuve-liste-infos"><li>Codex 
 épreuve FMVM0102</li><li>Mass Start (Depart ligne)</li><li>Catégorie(s) : U
 11 (Garçons)</li></ul></li></ul></div><div class="gskiepreuves-links"><ul><
 li><a href="https://skivosges.net/index.php?option=com_jevents&task=icaleve
 nt.detail&evid=1363&Itemid=6289">Voir les informations dans l'agenda...</a>
 </li><li><a href="https://skivosges.net/index.php?option=com_gskiepreuves&v
 iew=afficheresultats&format_option=tous&filter[search]=FMVT0100&filter[date
 _debut]=22-01-2020&filter[date_fin]=22-01-2020&code_activite=FOND&Itemid=62
 89">Vers les résultats...</a></li><li>Publications concernant cet évènement
  :<ul><li><a href="https://skivosges.net/index.php?option=com_content&view=
 article&id=7064&Itemid=6289">Jeudi 23 Janvier 2020 à 15:21 : Le 22/01/2020 
 LE BREITFIRST Résultats</a></li></ul></li></ul></div></div"><!-- #/gskiepre
 uve fin du dode généré par le plugin jevents pour GskiEpreuves. . Ne pas mo
 difier cette ligne, ni tout le contenu précedant.  #/gskiepreuve --> <a hre
 f="https://skivosges.net/agenda/a-venir/detailevenement/1368/-/promo-pre-cl
 ubs-nordique-des-cretes?tmpl=component">Cet évènement a été importé depuis 
 :https://skivosges.net/agenda/a-venir/detailevenement/1368/-/promo-pre-club
 s-nordique-des-cretes?tmpl=component</a>DTSTAMP:20260423T133139
DTSTART;TZID=Europe/Paris;VALUE=DATE:20200122
DTEND;TZID=Europe/Paris;VALUE=DATE:20200123
SEQUENCE:0
TRANSP:OPAQUE
END:VEVENT
END:VCALENDAR