BEGIN:VCALENDAR
VERSION:2.0
PRODID:-//jEvents 2.0 for Joomla//EN
CALSCALE:GREGORIAN
METHOD:PUBLISH
BEGIN:VTIMEZONE
TZID:Europe/Paris
BEGIN:STANDARD
DTSTART:20190124T000000
RDATE:20190331T030000
TZOFFSETFROM:+0200
TZOFFSETTO:+0100
TZNAME:Europe/Paris CET
END:STANDARD
BEGIN:STANDARD
DTSTART:20191027T020000
RDATE:20200329T030000
TZOFFSETFROM:+0200
TZOFFSETTO:+0100
TZNAME:Europe/Paris CET
END:STANDARD
BEGIN:STANDARD
DTSTART:20201025T020000
RDATE:20210328T030000
TZOFFSETFROM:+0200
TZOFFSETTO:+0100
TZNAME:Europe/Paris CET
END:STANDARD
BEGIN:STANDARD
DTSTART:20211031T020000
RDATE:20220327T030000
TZOFFSETFROM:+0200
TZOFFSETTO:+0100
TZNAME:Europe/Paris CET
END:STANDARD
BEGIN:STANDARD
DTSTART:20221030T020000
RDATE:20230326T030000
TZOFFSETFROM:+0200
TZOFFSETTO:+0100
TZNAME:Europe/Paris CET
END:STANDARD
BEGIN:STANDARD
DTSTART:20231029T020000
RDATE:20240331T030000
TZOFFSETFROM:+0200
TZOFFSETTO:+0100
TZNAME:Europe/Paris CET
END:STANDARD
BEGIN:STANDARD
DTSTART:20241027T020000
RDATE:20250330T030000
TZOFFSETFROM:+0200
TZOFFSETTO:+0100
TZNAME:Europe/Paris CET
END:STANDARD
BEGIN:STANDARD
DTSTART:20251026T020000
RDATE:20260329T030000
TZOFFSETFROM:+0200
TZOFFSETTO:+0100
TZNAME:Europe/Paris CET
END:STANDARD
BEGIN:STANDARD
DTSTART:20261025T020000
RDATE:20270328T030000
TZOFFSETFROM:+0200
TZOFFSETTO:+0100
TZNAME:Europe/Paris CET
END:STANDARD
BEGIN:DAYLIGHT
DTSTART:20190331T030000
RDATE:20191027T020000
TZOFFSETFROM:+0100
TZOFFSETTO:+0200
TZNAME:Europe/Paris CEST
END:DAYLIGHT
BEGIN:DAYLIGHT
DTSTART:20200329T030000
RDATE:20201025T020000
TZOFFSETFROM:+0100
TZOFFSETTO:+0200
TZNAME:Europe/Paris CEST
END:DAYLIGHT
BEGIN:DAYLIGHT
DTSTART:20210328T030000
RDATE:20211031T020000
TZOFFSETFROM:+0100
TZOFFSETTO:+0200
TZNAME:Europe/Paris CEST
END:DAYLIGHT
BEGIN:DAYLIGHT
DTSTART:20220327T030000
RDATE:20221030T020000
TZOFFSETFROM:+0100
TZOFFSETTO:+0200
TZNAME:Europe/Paris CEST
END:DAYLIGHT
BEGIN:DAYLIGHT
DTSTART:20230326T030000
RDATE:20231029T020000
TZOFFSETFROM:+0100
TZOFFSETTO:+0200
TZNAME:Europe/Paris CEST
END:DAYLIGHT
BEGIN:DAYLIGHT
DTSTART:20240331T030000
RDATE:20241027T020000
TZOFFSETFROM:+0100
TZOFFSETTO:+0200
TZNAME:Europe/Paris CEST
END:DAYLIGHT
BEGIN:DAYLIGHT
DTSTART:20250330T030000
RDATE:20251026T020000
TZOFFSETFROM:+0100
TZOFFSETTO:+0200
TZNAME:Europe/Paris CEST
END:DAYLIGHT
BEGIN:DAYLIGHT
DTSTART:20260329T030000
RDATE:20261025T020000
TZOFFSETFROM:+0100
TZOFFSETTO:+0200
TZNAME:Europe/Paris CEST
END:DAYLIGHT
END:VTIMEZONE
BEGIN:VEVENT
UID:160729cd3fd63238baafcbe76696f3b2
CATEGORIES:Compétition Ski de Fond
CREATED:20191111T130349
SUMMARY:NORDIQUE DES CRETES Big mat Atomic n°7
URL;VALUE=URI:https://skivosges.net/agenda/a-venir/detailevenement/1370/-/nordique-des-cr
 etes-big-mat-atomic-n-7?tmpl=component
DESCRIPTION:NORDIQUE DES CRETES Big mat Atomic n°7\n - Codex évenement FMVT0120\n - Lie
 u : Breitfirst\n - Station : LE BREITFIRST\n - Organisateur : 14044 TOURING
  CLUB MULHOUSE\n - Courriel : RegularLabs.EmailProtector.unCloak("ep_d3b4df
 b6");\n - Téléphone : 0680516582\n - Délégué Technique : POIROT ERICPériode
  d'inscription à l'evènement du samedi 18 janvier 2020 à 00:00 au mardi 21 
 janvier 2020 à 18:00 (Inscriptions impossibles).Inscriptions ouvertes aux d
 etenteurs des titres Fédéraux valides suivants : Licenciés Compétiteurs et 
 Titres Loisirs et DirigeantsEpreuves :\n - Le samedi 25 janvier 2020 à 14:3
 0\n - Codex épreuve FMVF0121\n - Mass Start (Depart ligne)\n - Catégorie(s)
  : U13 (Filles)\n - Le samedi 25 janvier 2020 à 14:30\n - Codex épreuve FMV
 M0121\n - Mass Start (Depart ligne)\n - Catégorie(s) : U13 (Garçons)\n - Le
  samedi 25 janvier 2020\n - Codex épreuve FMVF0122\n - Mass Start (Depart l
 igne)\n - Catégorie(s) : U15 (Filles)\n - Le samedi 25 janvier 2020\n - Cod
 ex épreuve FMVM0122\n - Mass Start (Depart ligne)\n - Catégorie(s) : U15 (G
 arçons)\n - Voir les informations dans l'agenda... (/index.php?option=com_j
 events&amp;task=icalevent.detail&amp;evid=1365&amp;Itemid=6289) Cet évèneme
 nt a été importé depuis :https://skivosges.net/agenda/a-venir/detaileveneme
 nt/1370/-/nordique-des-cretes-big-mat-atomic-n-7?tmpl=component
X-ALT-DESC;FMTTYPE=text/html:<!-- #gskiepreuve code généré par le plugin jevents pour GskiEpreuves. Ne p
 as modifier cette ligne, ni tout le contenu suivant  #gskiepreuve --><div c
 lass="gski-evenement_infos"><div class="gski-evenement-nom">NORDIQUE DES CR
 ETES Big mat Atomic n°7</div><div class="gski-evenement-report"></div><ul c
 lass="gski-evenement-liste-infos"><li>Codex évenement FMVT0120</li><li>Lieu
  : Breitfirst</li><li>Station : LE BREITFIRST</li><li>Organisateur : 14044 
 TOURING CLUB MULHOUSE</li><li>Courriel : <!-- Cette adresse électronique es
 t protégée contre les robots spammeurs. --><span class="cloaked_email ep_d3
 b4dfb6"><span data-ep-a="&#121;&#118;&#101;&#115;" data-ep-b="&#116;"><span
  data-ep-b="&#114;&#46;&#110;&#101;" data-ep-a="&#46;&#98;ou"><span data-ep
 -b="&#64;&#101;v&#104;" data-ep-a="&#118;&#105;&#101;&#114;"></span></span>
 </span></span><script>RegularLabs.EmailProtector.unCloak("ep_d3b4dfb6");</s
 cript></li><li>Téléphone : 0680516582</li><li><span class="gski-evenement-o
 bs">Délégué Technique : POIROT ERIC</span></li></ul><div class="gski-evenem
 ent-infos-2"><div class="gski-evenement-info-inscriptions"><div class="gski
 -evenement-inscriptions-periodes">Période d'inscription à l'evènement du sa
 medi 18 janvier 2020 à 00:00 au mardi 21 janvier 2020 à 18:00 <span class="
 gski-evenement-inscriptions-impossibles">(Inscriptions impossibles).</span>
 <div class="gski-evenement-inscriptions-types-titres">Inscriptions ouvertes
  aux detenteurs des titres Fédéraux valides suivants : Licenciés Compétiteu
 rs et Titres Loisirs et Dirigeants</div></div></div><div class="gski-evenem
 ent-epreuves"><div class="gski-evenement-epreuves-titres">Epreuves :</div><
 ul class="gski-evenement-epreuves-list"><li><div class="gski-epreuve-date">
 Le samedi 25 janvier 2020 à 14:30</div><ul class="gski-epreuve-liste-infos"
 ><li>Codex épreuve FMVF0121</li><li>Mass Start (Depart ligne)</li><li>Catég
 orie(s) : U13 (Filles)</li></ul></li><li><div class="gski-epreuve-date">Le 
 samedi 25 janvier 2020 à 14:30</div><ul class="gski-epreuve-liste-infos"><l
 i>Codex épreuve FMVM0121</li><li>Mass Start (Depart ligne)</li><li>Catégori
 e(s) : U13 (Garçons)</li></ul></li><li><div class="gski-epreuve-date">Le sa
 medi 25 janvier 2020</div><ul class="gski-epreuve-liste-infos"><li>Codex ép
 reuve FMVF0122</li><li>Mass Start (Depart ligne)</li><li>Catégorie(s) : U15
  (Filles)</li></ul></li><li><div class="gski-epreuve-date">Le samedi 25 jan
 vier 2020</div><ul class="gski-epreuve-liste-infos"><li>Codex épreuve FMVM0
 122</li><li>Mass Start (Depart ligne)</li><li>Catégorie(s) : U15 (Garçons)<
 /li></ul></li></ul></div><div class="gskiepreuves-links"><ul><li><a href="h
 ttps://skivosges.net/index.php?option=com_jevents&task=icalevent.detail&evi
 d=1365&Itemid=6289">Voir les informations dans l'agenda...</a></li></ul></d
 iv></div"><!-- #/gskiepreuve fin du dode généré par le plugin jevents pour 
 GskiEpreuves. . Ne pas modifier cette ligne, ni tout le contenu précedant. 
  #/gskiepreuve --> <a href="https://skivosges.net/agenda/a-venir/detaileven
 ement/1370/-/nordique-des-cretes-big-mat-atomic-n-7?tmpl=component">Cet évè
 nement a été importé depuis :https://skivosges.net/agenda/a-venir/detaileve
 nement/1370/-/nordique-des-cretes-big-mat-atomic-n-7?tmpl=component</a>DTSTAMP:20260423T133016
DTSTART;TZID=Europe/Paris;VALUE=DATE:20200125
DTEND;TZID=Europe/Paris;VALUE=DATE:20200126
SEQUENCE:0
TRANSP:OPAQUE
END:VEVENT
END:VCALENDAR