BEGIN:VCALENDAR
VERSION:2.0
PRODID:-//jEvents 2.0 for Joomla//EN
CALSCALE:GREGORIAN
METHOD:PUBLISH
BEGIN:VTIMEZONE
TZID:Europe/Paris
BEGIN:STANDARD
DTSTART:20190124T000000
RDATE:20190331T030000
TZOFFSETFROM:+0200
TZOFFSETTO:+0100
TZNAME:Europe/Paris CET
END:STANDARD
BEGIN:STANDARD
DTSTART:20191027T020000
RDATE:20200329T030000
TZOFFSETFROM:+0200
TZOFFSETTO:+0100
TZNAME:Europe/Paris CET
END:STANDARD
BEGIN:STANDARD
DTSTART:20201025T020000
RDATE:20210328T030000
TZOFFSETFROM:+0200
TZOFFSETTO:+0100
TZNAME:Europe/Paris CET
END:STANDARD
BEGIN:STANDARD
DTSTART:20211031T020000
RDATE:20220327T030000
TZOFFSETFROM:+0200
TZOFFSETTO:+0100
TZNAME:Europe/Paris CET
END:STANDARD
BEGIN:STANDARD
DTSTART:20221030T020000
RDATE:20230326T030000
TZOFFSETFROM:+0200
TZOFFSETTO:+0100
TZNAME:Europe/Paris CET
END:STANDARD
BEGIN:STANDARD
DTSTART:20231029T020000
RDATE:20240331T030000
TZOFFSETFROM:+0200
TZOFFSETTO:+0100
TZNAME:Europe/Paris CET
END:STANDARD
BEGIN:STANDARD
DTSTART:20241027T020000
RDATE:20250330T030000
TZOFFSETFROM:+0200
TZOFFSETTO:+0100
TZNAME:Europe/Paris CET
END:STANDARD
BEGIN:STANDARD
DTSTART:20251026T020000
RDATE:20260329T030000
TZOFFSETFROM:+0200
TZOFFSETTO:+0100
TZNAME:Europe/Paris CET
END:STANDARD
BEGIN:STANDARD
DTSTART:20261025T020000
RDATE:20270328T030000
TZOFFSETFROM:+0200
TZOFFSETTO:+0100
TZNAME:Europe/Paris CET
END:STANDARD
BEGIN:DAYLIGHT
DTSTART:20190331T030000
RDATE:20191027T020000
TZOFFSETFROM:+0100
TZOFFSETTO:+0200
TZNAME:Europe/Paris CEST
END:DAYLIGHT
BEGIN:DAYLIGHT
DTSTART:20200329T030000
RDATE:20201025T020000
TZOFFSETFROM:+0100
TZOFFSETTO:+0200
TZNAME:Europe/Paris CEST
END:DAYLIGHT
BEGIN:DAYLIGHT
DTSTART:20210328T030000
RDATE:20211031T020000
TZOFFSETFROM:+0100
TZOFFSETTO:+0200
TZNAME:Europe/Paris CEST
END:DAYLIGHT
BEGIN:DAYLIGHT
DTSTART:20220327T030000
RDATE:20221030T020000
TZOFFSETFROM:+0100
TZOFFSETTO:+0200
TZNAME:Europe/Paris CEST
END:DAYLIGHT
BEGIN:DAYLIGHT
DTSTART:20230326T030000
RDATE:20231029T020000
TZOFFSETFROM:+0100
TZOFFSETTO:+0200
TZNAME:Europe/Paris CEST
END:DAYLIGHT
BEGIN:DAYLIGHT
DTSTART:20240331T030000
RDATE:20241027T020000
TZOFFSETFROM:+0100
TZOFFSETTO:+0200
TZNAME:Europe/Paris CEST
END:DAYLIGHT
BEGIN:DAYLIGHT
DTSTART:20250330T030000
RDATE:20251026T020000
TZOFFSETFROM:+0100
TZOFFSETTO:+0200
TZNAME:Europe/Paris CEST
END:DAYLIGHT
BEGIN:DAYLIGHT
DTSTART:20260329T030000
RDATE:20261025T020000
TZOFFSETFROM:+0100
TZOFFSETTO:+0200
TZNAME:Europe/Paris CEST
END:DAYLIGHT
END:VTIMEZONE
BEGIN:VEVENT
UID:2fc96aa0cef10e4cf5cb7468e81113ca
CATEGORIES:Compétition Ski de Fond
CREATED:20191111T130349
SUMMARY:NORDIQUE DES CRETES classique populaire *** ANNULE(E) ***
URL;VALUE=URI:https://skivosges.net/agenda/a-venir/detailevenement/1371/-/nordique-des-cr
 etes-classique-populaire-annule-e?tmpl=component
DESCRIPTION:<!-- #gskiepreuve code généré par le plugin jevents pour GskiEpreuves. Ne p
 as modifier cette ligne, ni tout le contenu suivant  #gskiepreuve --><div c
 lass="gski-evenement_infos"><div class="gski-evenement-nom">NORDIQUE DES CR
 ETES classique populaire</div><div class="gski-evenement-report"> <font cla
 ss="gskiattention">(Epreuve annulée)</font></div><ul class="gski-evenement-
 liste-infos"><li>Codex évenement FMVT0110</li><li>Station : MARKSTEIN</li><
 li>Organisateur : 14044 TOURING CLUB MULHOUSE</li><li>Courriel : <!-- Cette
  adresse électronique est protégée contre les robots spammeurs. --><span cl
 ass="cloaked_email ep_7f703449"><span data-ep-b="&#116;" data-ep-a="&#121;&
 #118;&#101;&#115;"><span data-ep-a="&#46;&#98;&#111;&#117;" data-ep-b="r&#4
 6;&#110;e"><span data-ep-b="&#64;ev&#104;" data-ep-a="&#118;i&#101;&#114;">
 </span></span></span></span><script>RegularLabs.EmailProtector.unCloak("ep_
 7f703449");</script></li><li>Téléphone : 0680516582</li><li><span class="gs
 ki-evenement-obs">Délégué Technique : POIROT ERIC</span></li></ul><div clas
 s="gski-evenement-infos-2"><div class="gski-evenement-info-inscriptions"><d
 iv class="gski-evenement-inscriptions-periodes">Période d'inscription à l'e
 vènement du samedi 18 janvier 2020 à 00:00 au jeudi 23 janvier 2020 à 12:00
  <span class="gski-evenement-inscriptions-impossibles">(Inscriptions imposs
 ibles).</span><div class="gski-evenement-inscriptions-types-titres">Inscrip
 tions ouvertes aux detenteurs des titres Fédéraux valides suivants : Licenc
 iés Compétiteurs et Titres Loisirs et Dirigeants</div></div></div><div clas
 s="gski-evenement-epreuves"><div class="gski-evenement-epreuves-titres">Epr
 euves :</div><ul class="gski-evenement-epreuves-list"><li><div class="gski-
 epreuve-date">Le samedi 25 janvier 2020</div><ul class="gski-epreuve-liste-
 infos"><li>Codex épreuve FMVF0111</li><li>Mass Start (Depart ligne)</li><li
 >Catégorie(s) : U17 a M12 (Dames)</li></ul></li><li><div class="gski-epreuv
 e-date">Le samedi 25 janvier 2020</div><ul class="gski-epreuve-liste-infos"
 ><li>Codex épreuve FMVM0111</li><li>Mass Start (Depart ligne)</li><li>Catég
 orie(s) : U17 a M12 (Hommes)</li></ul></li></ul></div><div class="gskiepreu
 ves-links"><ul><li><a href="/index.php?option=com_jevents&task=icalevent.de
 tail&evid=1366&Itemid=6289">Voir les informations dans l'agenda...</a></li>
 </ul></div></div"><!-- #/gskiepreuve fin du dode généré par le plugin jeven
 ts pour GskiEpreuves. . Ne pas modifier cette ligne, ni tout le contenu pré
 cedant.  #/gskiepreuve --> <a href="https://skivosges.net/agenda/a-venir/de
 tailevenement/1371/-/nordique-des-cretes-classique-populaire-annule-e?tmpl=
 component">Cet évènement a été importé depuis :https://skivosges.net/agenda
 /a-venir/detailevenement/1371/-/nordique-des-cretes-classique-populaire-ann
 ule-e?tmpl=component</a>
X-ALT-DESC;FMTTYPE=text/html:<!-- #gskiepreuve code généré par le plugin jevents pour GskiEpreuves. Ne p
 as modifier cette ligne, ni tout le contenu suivant  #gskiepreuve --><div c
 lass="gski-evenement_infos"><div class="gski-evenement-nom">NORDIQUE DES CR
 ETES classique populaire</div><div class="gski-evenement-report"> <font cla
 ss="gskiattention">(Epreuve annulée)</font></div><ul class="gski-evenement-
 liste-infos"><li>Codex évenement FMVT0110</li><li>Station : MARKSTEIN</li><
 li>Organisateur : 14044 TOURING CLUB MULHOUSE</li><li>Courriel : <!-- Cette
  adresse électronique est protégée contre les robots spammeurs. --><span cl
 ass="cloaked_email ep_7f703449"><span data-ep-b="&#116;" data-ep-a="&#121;&
 #118;&#101;&#115;"><span data-ep-a="&#46;&#98;&#111;&#117;" data-ep-b="r&#4
 6;&#110;e"><span data-ep-b="&#64;ev&#104;" data-ep-a="&#118;i&#101;&#114;">
 </span></span></span></span><script>RegularLabs.EmailProtector.unCloak("ep_
 7f703449");</script></li><li>Téléphone : 0680516582</li><li><span class="gs
 ki-evenement-obs">Délégué Technique : POIROT ERIC</span></li></ul><div clas
 s="gski-evenement-infos-2"><div class="gski-evenement-info-inscriptions"><d
 iv class="gski-evenement-inscriptions-periodes">Période d'inscription à l'e
 vènement du samedi 18 janvier 2020 à 00:00 au jeudi 23 janvier 2020 à 12:00
  <span class="gski-evenement-inscriptions-impossibles">(Inscriptions imposs
 ibles).</span><div class="gski-evenement-inscriptions-types-titres">Inscrip
 tions ouvertes aux detenteurs des titres Fédéraux valides suivants : Licenc
 iés Compétiteurs et Titres Loisirs et Dirigeants</div></div></div><div clas
 s="gski-evenement-epreuves"><div class="gski-evenement-epreuves-titres">Epr
 euves :</div><ul class="gski-evenement-epreuves-list"><li><div class="gski-
 epreuve-date">Le samedi 25 janvier 2020</div><ul class="gski-epreuve-liste-
 infos"><li>Codex épreuve FMVF0111</li><li>Mass Start (Depart ligne)</li><li
 >Catégorie(s) : U17 a M12 (Dames)</li></ul></li><li><div class="gski-epreuv
 e-date">Le samedi 25 janvier 2020</div><ul class="gski-epreuve-liste-infos"
 ><li>Codex épreuve FMVM0111</li><li>Mass Start (Depart ligne)</li><li>Catég
 orie(s) : U17 a M12 (Hommes)</li></ul></li></ul></div><div class="gskiepreu
 ves-links"><ul><li><a href="https://skivosges.net/index.php?option=com_jeve
 nts&task=icalevent.detail&evid=1366&Itemid=6289">Voir les informations dans
  l'agenda...</a></li></ul></div></div"><!-- #/gskiepreuve fin du dode génér
 é par le plugin jevents pour GskiEpreuves. . Ne pas modifier cette ligne, n
 i tout le contenu précedant.  #/gskiepreuve --> <a href="https://skivosges.
 net/agenda/a-venir/detailevenement/1371/-/nordique-des-cretes-classique-pop
 ulaire-annule-e?tmpl=component">Cet évènement a été importé depuis :https:/
 /skivosges.net/agenda/a-venir/detailevenement/1371/-/nordique-des-cretes-cl
 assique-populaire-annule-e?tmpl=component</a>DTSTAMP:20260423T144717
DTSTART;TZID=Europe/Paris;VALUE=DATE:20200125
DTEND;TZID=Europe/Paris;VALUE=DATE:20200126
SEQUENCE:0
TRANSP:OPAQUE
END:VEVENT
END:VCALENDAR