BEGIN:VCALENDAR
VERSION:2.0
PRODID:-//jEvents 2.0 for Joomla//EN
CALSCALE:GREGORIAN
METHOD:PUBLISH
BEGIN:VTIMEZONE
TZID:Europe/Paris
BEGIN:STANDARD
DTSTART:20190124T000000
RDATE:20190331T030000
TZOFFSETFROM:+0200
TZOFFSETTO:+0100
TZNAME:Europe/Paris CET
END:STANDARD
BEGIN:STANDARD
DTSTART:20191027T020000
RDATE:20200329T030000
TZOFFSETFROM:+0200
TZOFFSETTO:+0100
TZNAME:Europe/Paris CET
END:STANDARD
BEGIN:STANDARD
DTSTART:20201025T020000
RDATE:20210328T030000
TZOFFSETFROM:+0200
TZOFFSETTO:+0100
TZNAME:Europe/Paris CET
END:STANDARD
BEGIN:STANDARD
DTSTART:20211031T020000
RDATE:20220327T030000
TZOFFSETFROM:+0200
TZOFFSETTO:+0100
TZNAME:Europe/Paris CET
END:STANDARD
BEGIN:STANDARD
DTSTART:20221030T020000
RDATE:20230326T030000
TZOFFSETFROM:+0200
TZOFFSETTO:+0100
TZNAME:Europe/Paris CET
END:STANDARD
BEGIN:STANDARD
DTSTART:20231029T020000
RDATE:20240331T030000
TZOFFSETFROM:+0200
TZOFFSETTO:+0100
TZNAME:Europe/Paris CET
END:STANDARD
BEGIN:STANDARD
DTSTART:20241027T020000
RDATE:20250330T030000
TZOFFSETFROM:+0200
TZOFFSETTO:+0100
TZNAME:Europe/Paris CET
END:STANDARD
BEGIN:STANDARD
DTSTART:20251026T020000
RDATE:20260329T030000
TZOFFSETFROM:+0200
TZOFFSETTO:+0100
TZNAME:Europe/Paris CET
END:STANDARD
BEGIN:STANDARD
DTSTART:20261025T020000
RDATE:20270328T030000
TZOFFSETFROM:+0200
TZOFFSETTO:+0100
TZNAME:Europe/Paris CET
END:STANDARD
BEGIN:DAYLIGHT
DTSTART:20190331T030000
RDATE:20191027T020000
TZOFFSETFROM:+0100
TZOFFSETTO:+0200
TZNAME:Europe/Paris CEST
END:DAYLIGHT
BEGIN:DAYLIGHT
DTSTART:20200329T030000
RDATE:20201025T020000
TZOFFSETFROM:+0100
TZOFFSETTO:+0200
TZNAME:Europe/Paris CEST
END:DAYLIGHT
BEGIN:DAYLIGHT
DTSTART:20210328T030000
RDATE:20211031T020000
TZOFFSETFROM:+0100
TZOFFSETTO:+0200
TZNAME:Europe/Paris CEST
END:DAYLIGHT
BEGIN:DAYLIGHT
DTSTART:20220327T030000
RDATE:20221030T020000
TZOFFSETFROM:+0100
TZOFFSETTO:+0200
TZNAME:Europe/Paris CEST
END:DAYLIGHT
BEGIN:DAYLIGHT
DTSTART:20230326T030000
RDATE:20231029T020000
TZOFFSETFROM:+0100
TZOFFSETTO:+0200
TZNAME:Europe/Paris CEST
END:DAYLIGHT
BEGIN:DAYLIGHT
DTSTART:20240331T030000
RDATE:20241027T020000
TZOFFSETFROM:+0100
TZOFFSETTO:+0200
TZNAME:Europe/Paris CEST
END:DAYLIGHT
BEGIN:DAYLIGHT
DTSTART:20250330T030000
RDATE:20251026T020000
TZOFFSETFROM:+0100
TZOFFSETTO:+0200
TZNAME:Europe/Paris CEST
END:DAYLIGHT
BEGIN:DAYLIGHT
DTSTART:20260329T030000
RDATE:20261025T020000
TZOFFSETFROM:+0100
TZOFFSETTO:+0200
TZNAME:Europe/Paris CEST
END:DAYLIGHT
END:VTIMEZONE
BEGIN:VEVENT
UID:304c011835a2bdb9463712c6d0e87b8e
CATEGORIES:Compétition Ski de Fond
CREATED:20191111T130349
SUMMARY:LA 17EME NORDIQUE DES CRETES CLASSIQUE *** ANNULE(E) ***
URL;VALUE=URI:https://skivosges.net/agenda/a-venir/detailevenement/1374/-/la-17eme-nordiq
 ue-des-cretes-classique-annule-e?tmpl=component
DESCRIPTION:<!-- #gskiepreuve code généré par le plugin jevents pour GskiEpreuves. Ne p
 as modifier cette ligne, ni tout le contenu suivant  #gskiepreuve --><div c
 lass="gski-evenement_infos"><div class="gski-evenement-nom">LA 17EME NORDIQ
 UE DES CRETES CLASSIQUE</div><div class="gski-evenement-report"> <font clas
 s="gskiattention">(Epreuve annulée)</font></div><ul class="gski-evenement-l
 iste-infos"><li>Codex évenement FNAT0390</li><li>Lieu : LE MARKSTEIN</li><l
 i>Organisateur : 14044 TOURING CLUB MULHOUSE</li><li>Courriel : <!-- Cette 
 adresse électronique est protégée contre les robots spammeurs. --><span cla
 ss="cloaked_email ep_a29c717f"><span data-ep-b="t" data-ep-a="&#121;v&#101;
 s"><span data-ep-a="&#46;&#98;&#111;&#117;" data-ep-b="r&#46;&#110;e"><span
  data-ep-a="&#118;&#105;&#101;r" data-ep-b="&#64;e&#118;&#104;"></span></sp
 an></span></span><script>RegularLabs.EmailProtector.unCloak("ep_a29c717f");
 </script></li><li>Téléphone : 03 89 59 55 56</li></ul><div class="gski-even
 ement-infos-2"><div class="gski-evenement-info-inscriptions"><div class="gs
 ki-evenement-inscriptions-periodes">Période d'inscription à l'evènement du 
 samedi 18 janvier 2020 à 00:00 au jeudi 23 janvier 2020 à 12:00 <span class
 ="gski-evenement-inscriptions-impossibles">(Inscriptions impossibles).</spa
 n><div class="gski-evenement-inscriptions-types-titres">Inscriptions ouvert
 es aux detenteurs des titres Fédéraux valides suivants : Licenciés Compétit
 eurs</div></div></div><div class="gski-evenement-epreuves"><div class="gski
 -evenement-epreuves-titres">Epreuves :</div><ul class="gski-evenement-epreu
 ves-list"><li><div class="gski-epreuve-date">Le samedi 25 janvier 2020</div
 ><ul class="gski-epreuve-liste-infos"><li>Codex épreuve FNAM0391</li><li>Fo
 nd Populaire (depart en ligne)</li><li>Catégorie(s) : U20 a M12 (Hommes)</l
 i></ul></li><li><div class="gski-epreuve-date">Le samedi 25 janvier 2020</d
 iv><ul class="gski-epreuve-liste-infos"><li>Codex épreuve FNAF0391</li><li>
 Fond Populaire (depart en ligne)</li><li>Catégorie(s) : U20 a M12 (Dames)</
 li></ul></li><li><div class="gski-epreuve-date">Le samedi 25 janvier 2020</
 div><ul class="gski-epreuve-liste-infos"><li>Codex épreuve FNAF0392</li><li
 >Fond Populaire (depart en ligne)</li><li>Catégorie(s) : Senior a Master12 
 (Dames)</li></ul></li><li><div class="gski-epreuve-date">Le samedi 25 janvi
 er 2020</div><ul class="gski-epreuve-liste-infos"><li>Codex épreuve FNAM039
 2</li><li>Fond Populaire (depart en ligne)</li><li>Catégorie(s) : Senior a 
 Master12 (Hommes)</li></ul></li></ul></div><div class="gskiepreuves-links">
 <ul><li><a href="/index.php?option=com_jevents&task=icalevent.detail&evid=1
 369&Itemid=6289">Voir les informations dans l'agenda...</a></li></ul></div>
 </div"><!-- #/gskiepreuve fin du dode généré par le plugin jevents pour Gsk
 iEpreuves. . Ne pas modifier cette ligne, ni tout le contenu précedant.  #/
 gskiepreuve --> <a href="https://skivosges.net/agenda/a-venir/detaileveneme
 nt/1374/-/la-17eme-nordique-des-cretes-classique-annule-e?tmpl=component">C
 et évènement a été importé depuis :https://skivosges.net/agenda/a-venir/det
 ailevenement/1374/-/la-17eme-nordique-des-cretes-classique-annule-e?tmpl=co
 mponent</a>
X-ALT-DESC;FMTTYPE=text/html:<!-- #gskiepreuve code généré par le plugin jevents pour GskiEpreuves. Ne p
 as modifier cette ligne, ni tout le contenu suivant  #gskiepreuve --><div c
 lass="gski-evenement_infos"><div class="gski-evenement-nom">LA 17EME NORDIQ
 UE DES CRETES CLASSIQUE</div><div class="gski-evenement-report"> <font clas
 s="gskiattention">(Epreuve annulée)</font></div><ul class="gski-evenement-l
 iste-infos"><li>Codex évenement FNAT0390</li><li>Lieu : LE MARKSTEIN</li><l
 i>Organisateur : 14044 TOURING CLUB MULHOUSE</li><li>Courriel : <!-- Cette 
 adresse électronique est protégée contre les robots spammeurs. --><span cla
 ss="cloaked_email ep_a29c717f"><span data-ep-b="t" data-ep-a="&#121;v&#101;
 s"><span data-ep-a="&#46;&#98;&#111;&#117;" data-ep-b="r&#46;&#110;e"><span
  data-ep-a="&#118;&#105;&#101;r" data-ep-b="&#64;e&#118;&#104;"></span></sp
 an></span></span><script>RegularLabs.EmailProtector.unCloak("ep_a29c717f");
 </script></li><li>Téléphone : 03 89 59 55 56</li></ul><div class="gski-even
 ement-infos-2"><div class="gski-evenement-info-inscriptions"><div class="gs
 ki-evenement-inscriptions-periodes">Période d'inscription à l'evènement du 
 samedi 18 janvier 2020 à 00:00 au jeudi 23 janvier 2020 à 12:00 <span class
 ="gski-evenement-inscriptions-impossibles">(Inscriptions impossibles).</spa
 n><div class="gski-evenement-inscriptions-types-titres">Inscriptions ouvert
 es aux detenteurs des titres Fédéraux valides suivants : Licenciés Compétit
 eurs</div></div></div><div class="gski-evenement-epreuves"><div class="gski
 -evenement-epreuves-titres">Epreuves :</div><ul class="gski-evenement-epreu
 ves-list"><li><div class="gski-epreuve-date">Le samedi 25 janvier 2020</div
 ><ul class="gski-epreuve-liste-infos"><li>Codex épreuve FNAM0391</li><li>Fo
 nd Populaire (depart en ligne)</li><li>Catégorie(s) : U20 a M12 (Hommes)</l
 i></ul></li><li><div class="gski-epreuve-date">Le samedi 25 janvier 2020</d
 iv><ul class="gski-epreuve-liste-infos"><li>Codex épreuve FNAF0391</li><li>
 Fond Populaire (depart en ligne)</li><li>Catégorie(s) : U20 a M12 (Dames)</
 li></ul></li><li><div class="gski-epreuve-date">Le samedi 25 janvier 2020</
 div><ul class="gski-epreuve-liste-infos"><li>Codex épreuve FNAF0392</li><li
 >Fond Populaire (depart en ligne)</li><li>Catégorie(s) : Senior a Master12 
 (Dames)</li></ul></li><li><div class="gski-epreuve-date">Le samedi 25 janvi
 er 2020</div><ul class="gski-epreuve-liste-infos"><li>Codex épreuve FNAM039
 2</li><li>Fond Populaire (depart en ligne)</li><li>Catégorie(s) : Senior a 
 Master12 (Hommes)</li></ul></li></ul></div><div class="gskiepreuves-links">
 <ul><li><a href="https://skivosges.net/index.php?option=com_jevents&task=ic
 alevent.detail&evid=1369&Itemid=6289">Voir les informations dans l'agenda..
 .</a></li></ul></div></div"><!-- #/gskiepreuve fin du dode généré par le pl
 ugin jevents pour GskiEpreuves. . Ne pas modifier cette ligne, ni tout le c
 ontenu précedant.  #/gskiepreuve --> <a href="https://skivosges.net/agenda/
 a-venir/detailevenement/1374/-/la-17eme-nordique-des-cretes-classique-annul
 e-e?tmpl=component">Cet évènement a été importé depuis :https://skivosges.n
 et/agenda/a-venir/detailevenement/1374/-/la-17eme-nordique-des-cretes-class
 ique-annule-e?tmpl=component</a>DTSTAMP:20260423T133139
DTSTART;TZID=Europe/Paris;VALUE=DATE:20200125
DTEND;TZID=Europe/Paris;VALUE=DATE:20200126
SEQUENCE:0
TRANSP:OPAQUE
END:VEVENT
END:VCALENDAR