BEGIN:VCALENDAR
VERSION:2.0
PRODID:-//jEvents 2.0 for Joomla//EN
CALSCALE:GREGORIAN
METHOD:PUBLISH
BEGIN:VTIMEZONE
TZID:Europe/Paris
BEGIN:STANDARD
DTSTART:20190125T000000
RDATE:20190331T030000
TZOFFSETFROM:+0200
TZOFFSETTO:+0100
TZNAME:Europe/Paris CET
END:STANDARD
BEGIN:STANDARD
DTSTART:20191027T020000
RDATE:20200329T030000
TZOFFSETFROM:+0200
TZOFFSETTO:+0100
TZNAME:Europe/Paris CET
END:STANDARD
BEGIN:STANDARD
DTSTART:20201025T020000
RDATE:20210328T030000
TZOFFSETFROM:+0200
TZOFFSETTO:+0100
TZNAME:Europe/Paris CET
END:STANDARD
BEGIN:STANDARD
DTSTART:20211031T020000
RDATE:20220327T030000
TZOFFSETFROM:+0200
TZOFFSETTO:+0100
TZNAME:Europe/Paris CET
END:STANDARD
BEGIN:STANDARD
DTSTART:20221030T020000
RDATE:20230326T030000
TZOFFSETFROM:+0200
TZOFFSETTO:+0100
TZNAME:Europe/Paris CET
END:STANDARD
BEGIN:STANDARD
DTSTART:20231029T020000
RDATE:20240331T030000
TZOFFSETFROM:+0200
TZOFFSETTO:+0100
TZNAME:Europe/Paris CET
END:STANDARD
BEGIN:STANDARD
DTSTART:20241027T020000
RDATE:20250330T030000
TZOFFSETFROM:+0200
TZOFFSETTO:+0100
TZNAME:Europe/Paris CET
END:STANDARD
BEGIN:STANDARD
DTSTART:20251026T020000
RDATE:20260329T030000
TZOFFSETFROM:+0200
TZOFFSETTO:+0100
TZNAME:Europe/Paris CET
END:STANDARD
BEGIN:STANDARD
DTSTART:20261025T020000
RDATE:20270328T030000
TZOFFSETFROM:+0200
TZOFFSETTO:+0100
TZNAME:Europe/Paris CET
END:STANDARD
BEGIN:DAYLIGHT
DTSTART:20190331T030000
RDATE:20191027T020000
TZOFFSETFROM:+0100
TZOFFSETTO:+0200
TZNAME:Europe/Paris CEST
END:DAYLIGHT
BEGIN:DAYLIGHT
DTSTART:20200329T030000
RDATE:20201025T020000
TZOFFSETFROM:+0100
TZOFFSETTO:+0200
TZNAME:Europe/Paris CEST
END:DAYLIGHT
BEGIN:DAYLIGHT
DTSTART:20210328T030000
RDATE:20211031T020000
TZOFFSETFROM:+0100
TZOFFSETTO:+0200
TZNAME:Europe/Paris CEST
END:DAYLIGHT
BEGIN:DAYLIGHT
DTSTART:20220327T030000
RDATE:20221030T020000
TZOFFSETFROM:+0100
TZOFFSETTO:+0200
TZNAME:Europe/Paris CEST
END:DAYLIGHT
BEGIN:DAYLIGHT
DTSTART:20230326T030000
RDATE:20231029T020000
TZOFFSETFROM:+0100
TZOFFSETTO:+0200
TZNAME:Europe/Paris CEST
END:DAYLIGHT
BEGIN:DAYLIGHT
DTSTART:20240331T030000
RDATE:20241027T020000
TZOFFSETFROM:+0100
TZOFFSETTO:+0200
TZNAME:Europe/Paris CEST
END:DAYLIGHT
BEGIN:DAYLIGHT
DTSTART:20250330T030000
RDATE:20251026T020000
TZOFFSETFROM:+0100
TZOFFSETTO:+0200
TZNAME:Europe/Paris CEST
END:DAYLIGHT
BEGIN:DAYLIGHT
DTSTART:20260329T030000
RDATE:20261025T020000
TZOFFSETFROM:+0100
TZOFFSETTO:+0200
TZNAME:Europe/Paris CEST
END:DAYLIGHT
END:VTIMEZONE
BEGIN:VEVENT
UID:5c88367e64d14bedc208c1b385399c96
CATEGORIES:Compétition Ski de Fond
CREATED:20191111T130350
SUMMARY:NORDIQUE DES CRETES skate populaire *** ANNULE(E) ***
URL;VALUE=URI:https://skivosges.net/agenda/a-venir/detailevenement/1378/-/nordique-des-cr
 etes-skate-populaire-annule-e?tmpl=component
DESCRIPTION:<!-- #gskiepreuve code généré par le plugin jevents pour GskiEpreuves. Ne p
 as modifier cette ligne, ni tout le contenu suivant  #gskiepreuve --><div c
 lass="gski-evenement_infos"><div class="gski-evenement-nom">NORDIQUE DES CR
 ETES skate populaire</div><div class="gski-evenement-report"> <font class="
 gskiattention">(Epreuve annulée)</font></div><ul class="gski-evenement-list
 e-infos"><li>Codex évenement FMVT0130</li><li>Station : MARKSTEIN</li><li>O
 rganisateur : 14044 TOURING CLUB MULHOUSE</li><li>Courriel : <!-- Cette adr
 esse électronique est protégée contre les robots spammeurs. --><span class=
 "cloaked_email ep_7b13ba50"><span data-ep-b="&#116;" data-ep-a="&#121;&#118
 ;e&#115;"><span data-ep-a="&#46;b&#111;&#117;" data-ep-b="&#114;.n&#101;"><
 span data-ep-a="v&#105;&#101;r" data-ep-b="&#64;&#101;&#118;h"></span></spa
 n></span></span><script>RegularLabs.EmailProtector.unCloak("ep_7b13ba50");<
 /script></li><li>Téléphone : 0680516582</li><li><span class="gski-evenement
 -obs">Délégué Technique : POIROT ERIC</span></li></ul><div class="gski-even
 ement-infos-2"><div class="gski-evenement-info-inscriptions"><div class="gs
 ki-evenement-inscriptions-periodes">Période d'inscription à l'evènement du 
 dimanche 19 janvier 2020 à 00:00 au vendredi 24 janvier 2020 à 12:00 <span 
 class="gski-evenement-inscriptions-impossibles">(Inscriptions impossibles).
 </span><div class="gski-evenement-inscriptions-types-titres">Inscriptions o
 uvertes aux detenteurs des titres Fédéraux valides suivants : Licenciés Com
 pétiteurs</div></div></div><div class="gski-evenement-epreuves"><div class=
 "gski-evenement-epreuves-titres">Epreuves :</div><ul class="gski-evenement-
 epreuves-list"><li><div class="gski-epreuve-date">Le dimanche 26 janvier 20
 20</div><ul class="gski-epreuve-liste-infos"><li>Codex épreuve FMVF0131</li
 ><li>Mass Start (Depart ligne)</li><li>Catégorie(s) : U17 a M12 (Dames)</li
 ></ul></li><li><div class="gski-epreuve-date">Le dimanche 26 janvier 2020</
 div><ul class="gski-epreuve-liste-infos"><li>Codex épreuve FMVM0131</li><li
 >Mass Start (Depart ligne)</li><li>Catégorie(s) : U17 a M12 (Hommes)</li></
 ul></li></ul></div><div class="gskiepreuves-links"><ul><li><a href="/index.
 php?option=com_jevents&task=icalevent.detail&evid=1373&Itemid=6289">Voir le
 s informations dans l'agenda...</a></li></ul></div></div"><!-- #/gskiepreuv
 e fin du dode généré par le plugin jevents pour GskiEpreuves. . Ne pas modi
 fier cette ligne, ni tout le contenu précedant.  #/gskiepreuve --> <a href=
 "https://skivosges.net/agenda/a-venir/detailevenement/1378/-/nordique-des-c
 retes-skate-populaire-annule-e?tmpl=component">Cet évènement a été importé 
 depuis :https://skivosges.net/agenda/a-venir/detailevenement/1378/-/nordiqu
 e-des-cretes-skate-populaire-annule-e?tmpl=component</a>
X-ALT-DESC;FMTTYPE=text/html:<!-- #gskiepreuve code généré par le plugin jevents pour GskiEpreuves. Ne p
 as modifier cette ligne, ni tout le contenu suivant  #gskiepreuve --><div c
 lass="gski-evenement_infos"><div class="gski-evenement-nom">NORDIQUE DES CR
 ETES skate populaire</div><div class="gski-evenement-report"> <font class="
 gskiattention">(Epreuve annulée)</font></div><ul class="gski-evenement-list
 e-infos"><li>Codex évenement FMVT0130</li><li>Station : MARKSTEIN</li><li>O
 rganisateur : 14044 TOURING CLUB MULHOUSE</li><li>Courriel : <!-- Cette adr
 esse électronique est protégée contre les robots spammeurs. --><span class=
 "cloaked_email ep_7b13ba50"><span data-ep-b="&#116;" data-ep-a="&#121;&#118
 ;e&#115;"><span data-ep-a="&#46;b&#111;&#117;" data-ep-b="&#114;.n&#101;"><
 span data-ep-a="v&#105;&#101;r" data-ep-b="&#64;&#101;&#118;h"></span></spa
 n></span></span><script>RegularLabs.EmailProtector.unCloak("ep_7b13ba50");<
 /script></li><li>Téléphone : 0680516582</li><li><span class="gski-evenement
 -obs">Délégué Technique : POIROT ERIC</span></li></ul><div class="gski-even
 ement-infos-2"><div class="gski-evenement-info-inscriptions"><div class="gs
 ki-evenement-inscriptions-periodes">Période d'inscription à l'evènement du 
 dimanche 19 janvier 2020 à 00:00 au vendredi 24 janvier 2020 à 12:00 <span 
 class="gski-evenement-inscriptions-impossibles">(Inscriptions impossibles).
 </span><div class="gski-evenement-inscriptions-types-titres">Inscriptions o
 uvertes aux detenteurs des titres Fédéraux valides suivants : Licenciés Com
 pétiteurs</div></div></div><div class="gski-evenement-epreuves"><div class=
 "gski-evenement-epreuves-titres">Epreuves :</div><ul class="gski-evenement-
 epreuves-list"><li><div class="gski-epreuve-date">Le dimanche 26 janvier 20
 20</div><ul class="gski-epreuve-liste-infos"><li>Codex épreuve FMVF0131</li
 ><li>Mass Start (Depart ligne)</li><li>Catégorie(s) : U17 a M12 (Dames)</li
 ></ul></li><li><div class="gski-epreuve-date">Le dimanche 26 janvier 2020</
 div><ul class="gski-epreuve-liste-infos"><li>Codex épreuve FMVM0131</li><li
 >Mass Start (Depart ligne)</li><li>Catégorie(s) : U17 a M12 (Hommes)</li></
 ul></li></ul></div><div class="gskiepreuves-links"><ul><li><a href="https:/
 /skivosges.net/index.php?option=com_jevents&task=icalevent.detail&evid=1373
 &Itemid=6289">Voir les informations dans l'agenda...</a></li></ul></div></d
 iv"><!-- #/gskiepreuve fin du dode généré par le plugin jevents pour GskiEp
 reuves. . Ne pas modifier cette ligne, ni tout le contenu précedant.  #/gsk
 iepreuve --> <a href="https://skivosges.net/agenda/a-venir/detailevenement/
 1378/-/nordique-des-cretes-skate-populaire-annule-e?tmpl=component">Cet évè
 nement a été importé depuis :https://skivosges.net/agenda/a-venir/detaileve
 nement/1378/-/nordique-des-cretes-skate-populaire-annule-e?tmpl=component</
 a>DTSTAMP:20260423T133138
DTSTART;TZID=Europe/Paris;VALUE=DATE:20200126
DTEND;TZID=Europe/Paris;VALUE=DATE:20200127
SEQUENCE:0
TRANSP:OPAQUE
END:VEVENT
END:VCALENDAR