BEGIN:VCALENDAR
VERSION:2.0
PRODID:-//jEvents 2.0 for Joomla//EN
CALSCALE:GREGORIAN
METHOD:PUBLISH
BEGIN:VTIMEZONE
TZID:Europe/Paris
BEGIN:STANDARD
DTSTART:20130215T080000
RDATE:20130331T030000
TZOFFSETFROM:+0200
TZOFFSETTO:+0100
TZNAME:Europe/Paris CET
END:STANDARD
BEGIN:STANDARD
DTSTART:20131027T020000
RDATE:20140330T030000
TZOFFSETFROM:+0200
TZOFFSETTO:+0100
TZNAME:Europe/Paris CET
END:STANDARD
BEGIN:STANDARD
DTSTART:20141026T020000
RDATE:20150329T030000
TZOFFSETFROM:+0200
TZOFFSETTO:+0100
TZNAME:Europe/Paris CET
END:STANDARD
BEGIN:STANDARD
DTSTART:20151025T020000
RDATE:20160327T030000
TZOFFSETFROM:+0200
TZOFFSETTO:+0100
TZNAME:Europe/Paris CET
END:STANDARD
BEGIN:STANDARD
DTSTART:20161030T020000
RDATE:20170326T030000
TZOFFSETFROM:+0200
TZOFFSETTO:+0100
TZNAME:Europe/Paris CET
END:STANDARD
BEGIN:STANDARD
DTSTART:20171029T020000
RDATE:20180325T030000
TZOFFSETFROM:+0200
TZOFFSETTO:+0100
TZNAME:Europe/Paris CET
END:STANDARD
BEGIN:STANDARD
DTSTART:20181028T020000
RDATE:20190331T030000
TZOFFSETFROM:+0200
TZOFFSETTO:+0100
TZNAME:Europe/Paris CET
END:STANDARD
BEGIN:STANDARD
DTSTART:20191027T020000
RDATE:20200329T030000
TZOFFSETFROM:+0200
TZOFFSETTO:+0100
TZNAME:Europe/Paris CET
END:STANDARD
BEGIN:STANDARD
DTSTART:20201025T020000
RDATE:20210328T030000
TZOFFSETFROM:+0200
TZOFFSETTO:+0100
TZNAME:Europe/Paris CET
END:STANDARD
BEGIN:STANDARD
DTSTART:20211031T020000
RDATE:20220327T030000
TZOFFSETFROM:+0200
TZOFFSETTO:+0100
TZNAME:Europe/Paris CET
END:STANDARD
BEGIN:STANDARD
DTSTART:20221030T020000
RDATE:20230326T030000
TZOFFSETFROM:+0200
TZOFFSETTO:+0100
TZNAME:Europe/Paris CET
END:STANDARD
BEGIN:STANDARD
DTSTART:20231029T020000
RDATE:20240331T030000
TZOFFSETFROM:+0200
TZOFFSETTO:+0100
TZNAME:Europe/Paris CET
END:STANDARD
BEGIN:STANDARD
DTSTART:20241027T020000
RDATE:20250330T030000
TZOFFSETFROM:+0200
TZOFFSETTO:+0100
TZNAME:Europe/Paris CET
END:STANDARD
BEGIN:STANDARD
DTSTART:20251026T020000
RDATE:20260329T030000
TZOFFSETFROM:+0200
TZOFFSETTO:+0100
TZNAME:Europe/Paris CET
END:STANDARD
BEGIN:STANDARD
DTSTART:20261025T020000
RDATE:20270328T030000
TZOFFSETFROM:+0200
TZOFFSETTO:+0100
TZNAME:Europe/Paris CET
END:STANDARD
BEGIN:DAYLIGHT
DTSTART:20130331T030000
RDATE:20131027T020000
TZOFFSETFROM:+0100
TZOFFSETTO:+0200
TZNAME:Europe/Paris CEST
END:DAYLIGHT
BEGIN:DAYLIGHT
DTSTART:20140330T030000
RDATE:20141026T020000
TZOFFSETFROM:+0100
TZOFFSETTO:+0200
TZNAME:Europe/Paris CEST
END:DAYLIGHT
BEGIN:DAYLIGHT
DTSTART:20150329T030000
RDATE:20151025T020000
TZOFFSETFROM:+0100
TZOFFSETTO:+0200
TZNAME:Europe/Paris CEST
END:DAYLIGHT
BEGIN:DAYLIGHT
DTSTART:20160327T030000
RDATE:20161030T020000
TZOFFSETFROM:+0100
TZOFFSETTO:+0200
TZNAME:Europe/Paris CEST
END:DAYLIGHT
BEGIN:DAYLIGHT
DTSTART:20170326T030000
RDATE:20171029T020000
TZOFFSETFROM:+0100
TZOFFSETTO:+0200
TZNAME:Europe/Paris CEST
END:DAYLIGHT
BEGIN:DAYLIGHT
DTSTART:20180325T030000
RDATE:20181028T020000
TZOFFSETFROM:+0100
TZOFFSETTO:+0200
TZNAME:Europe/Paris CEST
END:DAYLIGHT
BEGIN:DAYLIGHT
DTSTART:20190331T030000
RDATE:20191027T020000
TZOFFSETFROM:+0100
TZOFFSETTO:+0200
TZNAME:Europe/Paris CEST
END:DAYLIGHT
BEGIN:DAYLIGHT
DTSTART:20200329T030000
RDATE:20201025T020000
TZOFFSETFROM:+0100
TZOFFSETTO:+0200
TZNAME:Europe/Paris CEST
END:DAYLIGHT
BEGIN:DAYLIGHT
DTSTART:20210328T030000
RDATE:20211031T020000
TZOFFSETFROM:+0100
TZOFFSETTO:+0200
TZNAME:Europe/Paris CEST
END:DAYLIGHT
BEGIN:DAYLIGHT
DTSTART:20220327T030000
RDATE:20221030T020000
TZOFFSETFROM:+0100
TZOFFSETTO:+0200
TZNAME:Europe/Paris CEST
END:DAYLIGHT
BEGIN:DAYLIGHT
DTSTART:20230326T030000
RDATE:20231029T020000
TZOFFSETFROM:+0100
TZOFFSETTO:+0200
TZNAME:Europe/Paris CEST
END:DAYLIGHT
BEGIN:DAYLIGHT
DTSTART:20240331T030000
RDATE:20241027T020000
TZOFFSETFROM:+0100
TZOFFSETTO:+0200
TZNAME:Europe/Paris CEST
END:DAYLIGHT
BEGIN:DAYLIGHT
DTSTART:20250330T030000
RDATE:20251026T020000
TZOFFSETFROM:+0100
TZOFFSETTO:+0200
TZNAME:Europe/Paris CEST
END:DAYLIGHT
BEGIN:DAYLIGHT
DTSTART:20260329T030000
RDATE:20261025T020000
TZOFFSETFROM:+0100
TZOFFSETTO:+0200
TZNAME:Europe/Paris CEST
END:DAYLIGHT
END:VTIMEZONE
BEGIN:VEVENT
UID:c08e49eccf685fe358c35e9616362182
CATEGORIES:Circuit Massif Jeunes (alpin)
CREATED:20131203T122100
SUMMARY:GPJ U12 et U14 GP de la Godille / Cpe d´Argent **REPORTE**
URL;VALUE=URI:https://skivosges.net/agenda/a-venir/detailevenement/138/-/gpj-u12-et-u14-g
 p-de-la-godille-cpe-dargent-reporte?tmpl=component
DESCRIPTION:GPJ U12 et U14 GP de la Godille / Cpe d´Argent (Epreuve reportée, date à de
 terminer) \n(Grand Prix Jeunes)\n\nLieu : LAC BLANC \nOrganisateur : SKI CL
 UB LE BONHOMME  (14251 SKI CLUB LE BONHOMME)\nEmail : RegularLabs.EmailProt
 ector.unCloak("ep_29532fca");\nTelecopie : 06.32. 98.22.54\n\nmaintien en f
 onction des conditions d´enneigement\n\nInscriptions en cours sur ce site\n
  - AMVF0551  Slalom Geant (Coupe d'Argent) de 10 a 13ans au 31/12/2012 (Pou
 /Ben) Filles\n  GPJ U12 et U14 GP de la Godille / Cpe d'Argent\n - AMVM0551
   Slalom Geant (Coupe d'Argent) de 10 a 13ans au 31/12/2012 (Pou/Ben) Garço
 ns\n  GPJ U12 et U14 GP de la Godille / Cpe d'Argent Cet évènement a été im
 porté depuis :https://skivosges.net/agenda/a-venir/detailevenement/138/-/gp
 j-u12-et-u14-gp-de-la-godille-cpe-dargent-reporte?tmpl=component
X-ALT-DESC;FMTTYPE=text/html:<strong>GPJ U12 et U14 GP de la Godille / Cpe d´Argent</strong> <font class
 ="attention4">(Epreuve reportée, date à determiner)</font> <br /><i>(Grand 
 Prix Jeunes)</i><br /><br />Lieu : LAC BLANC <br />Organisateur : SKI CLUB 
 LE BONHOMME  <small>(14251 SKI CLUB LE BONHOMME)</small><br />Email : <!-- 
 Cette adresse électronique est protégée contre les robots spammeurs. --><sp
 an class="cloaked_email ep_29532fca"><span data-ep-b="&#46;f&#114;" data-ep
 -a="&#99;&#104;&#114;&#105;&#115;&#116;"><span data-ep-a="i&#97;&#110;&#46;
 c&#104;" data-ep-b="&#111;&#114;&#97;nge"><span data-ep-a="&#97;&#102;i&#11
 1;&#108;&#97;" data-ep-b="&#118;&#105;c&#104;&#99;&#64;"></span></span></sp
 an></span><script>RegularLabs.EmailProtector.unCloak("ep_29532fca");</scrip
 t><br />Telecopie : 06.32. 98.22.54<br /><br />maintien en fonction des con
 ditions d´enneigement<br /><br />Inscriptions en cours sur ce site<ul type=
 "disc"><li>AMVF0551  Slalom Geant <nobr><i>(Coupe d'Argent)</i></nobr> <nob
 r>de 10 a 13ans au 31/12/2012 (Pou/Ben)</nobr> Filles<br />&nbsp;&nbsp;GPJ 
 U12 et U14 GP de la Godille / Cpe d'Argent</li><li>AMVM0551  Slalom Geant <
 nobr><i>(Coupe d'Argent)</i></nobr> <nobr>de 10 a 13ans au 31/12/2012 (Pou/
 Ben)</nobr> Garçons<br />&nbsp;&nbsp;GPJ U12 et U14 GP de la Godille / Cpe 
 d'Argent</li></ul> <a href="https://skivosges.net/agenda/a-venir/detaileven
 ement/138/-/gpj-u12-et-u14-gp-de-la-godille-cpe-dargent-reporte?tmpl=compon
 ent">Cet évènement a été importé depuis :https://skivosges.net/agenda/a-ven
 ir/detailevenement/138/-/gpj-u12-et-u14-gp-de-la-godille-cpe-dargent-report
 e?tmpl=component</a>DTSTAMP:20260424T012452
DTSTART;TZID=Europe/Paris:20140216T080000
DTEND;TZID=Europe/Paris:20140216T170000
SEQUENCE:0
TRANSP:OPAQUE
END:VEVENT
END:VCALENDAR