BEGIN:VCALENDAR
VERSION:2.0
PRODID:-//jEvents 2.0 for Joomla//EN
CALSCALE:GREGORIAN
METHOD:PUBLISH
BEGIN:VTIMEZONE
TZID:Europe/Paris
BEGIN:STANDARD
DTSTART:20190118T000000
RDATE:20190331T030000
TZOFFSETFROM:+0200
TZOFFSETTO:+0100
TZNAME:Europe/Paris CET
END:STANDARD
BEGIN:STANDARD
DTSTART:20191027T020000
RDATE:20200329T030000
TZOFFSETFROM:+0200
TZOFFSETTO:+0100
TZNAME:Europe/Paris CET
END:STANDARD
BEGIN:STANDARD
DTSTART:20201025T020000
RDATE:20210328T030000
TZOFFSETFROM:+0200
TZOFFSETTO:+0100
TZNAME:Europe/Paris CET
END:STANDARD
BEGIN:STANDARD
DTSTART:20211031T020000
RDATE:20220327T030000
TZOFFSETFROM:+0200
TZOFFSETTO:+0100
TZNAME:Europe/Paris CET
END:STANDARD
BEGIN:STANDARD
DTSTART:20221030T020000
RDATE:20230326T030000
TZOFFSETFROM:+0200
TZOFFSETTO:+0100
TZNAME:Europe/Paris CET
END:STANDARD
BEGIN:STANDARD
DTSTART:20231029T020000
RDATE:20240331T030000
TZOFFSETFROM:+0200
TZOFFSETTO:+0100
TZNAME:Europe/Paris CET
END:STANDARD
BEGIN:STANDARD
DTSTART:20241027T020000
RDATE:20250330T030000
TZOFFSETFROM:+0200
TZOFFSETTO:+0100
TZNAME:Europe/Paris CET
END:STANDARD
BEGIN:STANDARD
DTSTART:20251026T020000
RDATE:20260329T030000
TZOFFSETFROM:+0200
TZOFFSETTO:+0100
TZNAME:Europe/Paris CET
END:STANDARD
BEGIN:STANDARD
DTSTART:20261025T020000
RDATE:20270328T030000
TZOFFSETFROM:+0200
TZOFFSETTO:+0100
TZNAME:Europe/Paris CET
END:STANDARD
BEGIN:DAYLIGHT
DTSTART:20190331T030000
RDATE:20191027T020000
TZOFFSETFROM:+0100
TZOFFSETTO:+0200
TZNAME:Europe/Paris CEST
END:DAYLIGHT
BEGIN:DAYLIGHT
DTSTART:20200329T030000
RDATE:20201025T020000
TZOFFSETFROM:+0100
TZOFFSETTO:+0200
TZNAME:Europe/Paris CEST
END:DAYLIGHT
BEGIN:DAYLIGHT
DTSTART:20210328T030000
RDATE:20211031T020000
TZOFFSETFROM:+0100
TZOFFSETTO:+0200
TZNAME:Europe/Paris CEST
END:DAYLIGHT
BEGIN:DAYLIGHT
DTSTART:20220327T030000
RDATE:20221030T020000
TZOFFSETFROM:+0100
TZOFFSETTO:+0200
TZNAME:Europe/Paris CEST
END:DAYLIGHT
BEGIN:DAYLIGHT
DTSTART:20230326T030000
RDATE:20231029T020000
TZOFFSETFROM:+0100
TZOFFSETTO:+0200
TZNAME:Europe/Paris CEST
END:DAYLIGHT
BEGIN:DAYLIGHT
DTSTART:20240331T030000
RDATE:20241027T020000
TZOFFSETFROM:+0100
TZOFFSETTO:+0200
TZNAME:Europe/Paris CEST
END:DAYLIGHT
BEGIN:DAYLIGHT
DTSTART:20250330T030000
RDATE:20251026T020000
TZOFFSETFROM:+0100
TZOFFSETTO:+0200
TZNAME:Europe/Paris CEST
END:DAYLIGHT
BEGIN:DAYLIGHT
DTSTART:20260329T030000
RDATE:20261025T020000
TZOFFSETFROM:+0100
TZOFFSETTO:+0200
TZNAME:Europe/Paris CEST
END:DAYLIGHT
END:VTIMEZONE
BEGIN:VEVENT
UID:99fd176b185b72d8568ff52a80d9eff5
CATEGORIES:Circuit Massif Adultes (alpin)
CREATED:20191111T130350
SUMMARY:CAM  U16 à Masters Coupe Zinglé / Mémorial F. Schandéné **REPORTE**
URL;VALUE=URI:https://skivosges.net/agenda/a-venir/detailevenement/1385/-/cam-u16-a-maste
 rs-coupe-zingle-memorial-f-schandene-reporte?tmpl=component
DESCRIPTION:<!-- #gskiepreuve code généré par le plugin jevents pour GskiEpreuves. Ne p
 as modifier cette ligne, ni tout le contenu suivant  #gskiepreuve --><div c
 lass="gski-evenement_infos"><div class="gski-evenement-nom">CAM  U16 à Mast
 ers Coupe Zinglé / Mémorial F. Schandéné</div><div class="gski-evenement-re
 port"> <font class="gskiattention">(Epreuve reportée, date à determiner)</f
 ont></div><ul class="gski-evenement-liste-infos"><li>Codex évenement AMVT03
 10</li><li>Station : SCHNEPFENRIED</li><li>Organisateur : 14140 LES AMIS DE
  LA NATURE MUNSTER</li><li>Courriel : <!-- Cette adresse électronique est p
 rotégée contre les robots spammeurs. --><span class="cloaked_email ep_d4fb4
 415"><span data-ep-a="&#109;&#97;&#114;&#99;" data-ep-b="&#114;"><span data
 -ep-b="&#101;&#101;&#46;&#102;" data-ep-a="&#104;an&#100;"><span data-ep-b=
 "&#105;&#64;&#102;&#114;" data-ep-a="&#99;&#97;&#112;&#104;"></span></span>
 </span></span><script>RegularLabs.EmailProtector.unCloak("ep_d4fb4415");</s
 cript></li><li><span class="gski-evenement-obs">Délégué Technique : SCHUTZ 
 KOZLIK ESTELLE</span></li></ul><div class="gski-evenement-infos-2"><div cla
 ss="gski-evenement-info-inscriptions"><div class="gski-evenement-inscriptio
 ns-periodes">Période d'inscription à l'evènement du dimanche 12 janvier 202
 0 à 00:00 au vendredi 17 janvier 2020 à 12:00 <span class="gski-evenement-i
 nscriptions-impossibles">(Inscriptions impossibles).</span><div class="gski
 -evenement-inscriptions-types-titres">Inscriptions ouvertes aux detenteurs 
 des titres Fédéraux valides suivants : Licenciés Compétiteurs</div></div></
 div><div class="gski-evenement-epreuves"><div class="gski-evenement-epreuve
 s-titres">Epreuves :</div><ul class="gski-evenement-epreuves-list"><li><div
  class="gski-epreuve-date">Le dimanche 19 janvier 2020</div><ul class="gski
 -epreuve-liste-infos"><li>Codex épreuve AMVM0311</li><li>Slalom</li><li>Cat
 égorie(s) : U16 (Garçons)</li></ul></li><li><div class="gski-epreuve-date">
 Le dimanche 19 janvier 2020</div><ul class="gski-epreuve-liste-infos"><li>C
 odex épreuve AMVF0311</li><li>Slalom</li><li>Catégorie(s) : U16 (Filles)</l
 i></ul></li><li><div class="gski-epreuve-date">Le dimanche 19 janvier 2020<
 /div><ul class="gski-epreuve-liste-infos"><li>Codex épreuve AMVM0312</li><l
 i>Slalom</li><li>Catégorie(s) : U18 a Masters (Hommes)</li></ul></li><li><d
 iv class="gski-epreuve-date">Le dimanche 19 janvier 2020</div><ul class="gs
 ki-epreuve-liste-infos"><li>Codex épreuve AMVF0312</li><li>Slalom</li><li>C
 atégorie(s) : U18 a Masters (Dames)</li></ul></li></ul></div><div class="gs
 kiepreuves-links"><ul><li><a href="/index.php?option=com_jevents&task=icale
 vent.detail&evid=1380&Itemid=6289">Voir les informations dans l'agenda...</
 a></li></ul></div></div"><!-- #/gskiepreuve fin du dode généré par le plugi
 n jevents pour GskiEpreuves. . Ne pas modifier cette ligne, ni tout le cont
 enu précedant.  #/gskiepreuve --> <a href="https://skivosges.net/agenda/a-v
 enir/detailevenement/1385/-/cam-u16-a-masters-coupe-zingle-memorial-f-schan
 dene-reporte?tmpl=component">Cet évènement a été importé depuis :https://sk
 ivosges.net/agenda/a-venir/detailevenement/1385/-/cam-u16-a-masters-coupe-z
 ingle-memorial-f-schandene-reporte?tmpl=component</a>
X-ALT-DESC;FMTTYPE=text/html:<!-- #gskiepreuve code généré par le plugin jevents pour GskiEpreuves. Ne p
 as modifier cette ligne, ni tout le contenu suivant  #gskiepreuve --><div c
 lass="gski-evenement_infos"><div class="gski-evenement-nom">CAM  U16 à Mast
 ers Coupe Zinglé / Mémorial F. Schandéné</div><div class="gski-evenement-re
 port"> <font class="gskiattention">(Epreuve reportée, date à determiner)</f
 ont></div><ul class="gski-evenement-liste-infos"><li>Codex évenement AMVT03
 10</li><li>Station : SCHNEPFENRIED</li><li>Organisateur : 14140 LES AMIS DE
  LA NATURE MUNSTER</li><li>Courriel : <!-- Cette adresse électronique est p
 rotégée contre les robots spammeurs. --><span class="cloaked_email ep_d4fb4
 415"><span data-ep-a="&#109;&#97;&#114;&#99;" data-ep-b="&#114;"><span data
 -ep-b="&#101;&#101;&#46;&#102;" data-ep-a="&#104;an&#100;"><span data-ep-b=
 "&#105;&#64;&#102;&#114;" data-ep-a="&#99;&#97;&#112;&#104;"></span></span>
 </span></span><script>RegularLabs.EmailProtector.unCloak("ep_d4fb4415");</s
 cript></li><li><span class="gski-evenement-obs">Délégué Technique : SCHUTZ 
 KOZLIK ESTELLE</span></li></ul><div class="gski-evenement-infos-2"><div cla
 ss="gski-evenement-info-inscriptions"><div class="gski-evenement-inscriptio
 ns-periodes">Période d'inscription à l'evènement du dimanche 12 janvier 202
 0 à 00:00 au vendredi 17 janvier 2020 à 12:00 <span class="gski-evenement-i
 nscriptions-impossibles">(Inscriptions impossibles).</span><div class="gski
 -evenement-inscriptions-types-titres">Inscriptions ouvertes aux detenteurs 
 des titres Fédéraux valides suivants : Licenciés Compétiteurs</div></div></
 div><div class="gski-evenement-epreuves"><div class="gski-evenement-epreuve
 s-titres">Epreuves :</div><ul class="gski-evenement-epreuves-list"><li><div
  class="gski-epreuve-date">Le dimanche 19 janvier 2020</div><ul class="gski
 -epreuve-liste-infos"><li>Codex épreuve AMVM0311</li><li>Slalom</li><li>Cat
 égorie(s) : U16 (Garçons)</li></ul></li><li><div class="gski-epreuve-date">
 Le dimanche 19 janvier 2020</div><ul class="gski-epreuve-liste-infos"><li>C
 odex épreuve AMVF0311</li><li>Slalom</li><li>Catégorie(s) : U16 (Filles)</l
 i></ul></li><li><div class="gski-epreuve-date">Le dimanche 19 janvier 2020<
 /div><ul class="gski-epreuve-liste-infos"><li>Codex épreuve AMVM0312</li><l
 i>Slalom</li><li>Catégorie(s) : U18 a Masters (Hommes)</li></ul></li><li><d
 iv class="gski-epreuve-date">Le dimanche 19 janvier 2020</div><ul class="gs
 ki-epreuve-liste-infos"><li>Codex épreuve AMVF0312</li><li>Slalom</li><li>C
 atégorie(s) : U18 a Masters (Dames)</li></ul></li></ul></div><div class="gs
 kiepreuves-links"><ul><li><a href="https://skivosges.net/index.php?option=c
 om_jevents&task=icalevent.detail&evid=1380&Itemid=6289">Voir les informatio
 ns dans l'agenda...</a></li></ul></div></div"><!-- #/gskiepreuve fin du dod
 e généré par le plugin jevents pour GskiEpreuves. . Ne pas modifier cette l
 igne, ni tout le contenu précedant.  #/gskiepreuve --> <a href="https://ski
 vosges.net/agenda/a-venir/detailevenement/1385/-/cam-u16-a-masters-coupe-zi
 ngle-memorial-f-schandene-reporte?tmpl=component">Cet évènement a été impor
 té depuis :https://skivosges.net/agenda/a-venir/detailevenement/1385/-/cam-
 u16-a-masters-coupe-zingle-memorial-f-schandene-reporte?tmpl=component</a>DTSTAMP:20260423T144718
DTSTART;TZID=Europe/Paris;VALUE=DATE:20200119
DTEND;TZID=Europe/Paris;VALUE=DATE:20200120
SEQUENCE:0
TRANSP:OPAQUE
END:VEVENT
END:VCALENDAR