BEGIN:VCALENDAR
VERSION:2.0
PRODID:-//jEvents 2.0 for Joomla//EN
CALSCALE:GREGORIAN
METHOD:PUBLISH
BEGIN:VTIMEZONE
TZID:Europe/Paris
BEGIN:STANDARD
DTSTART:20190211T000000
RDATE:20190331T030000
TZOFFSETFROM:+0200
TZOFFSETTO:+0100
TZNAME:Europe/Paris CET
END:STANDARD
BEGIN:STANDARD
DTSTART:20191027T020000
RDATE:20200329T030000
TZOFFSETFROM:+0200
TZOFFSETTO:+0100
TZNAME:Europe/Paris CET
END:STANDARD
BEGIN:STANDARD
DTSTART:20201025T020000
RDATE:20210328T030000
TZOFFSETFROM:+0200
TZOFFSETTO:+0100
TZNAME:Europe/Paris CET
END:STANDARD
BEGIN:STANDARD
DTSTART:20211031T020000
RDATE:20220327T030000
TZOFFSETFROM:+0200
TZOFFSETTO:+0100
TZNAME:Europe/Paris CET
END:STANDARD
BEGIN:STANDARD
DTSTART:20221030T020000
RDATE:20230326T030000
TZOFFSETFROM:+0200
TZOFFSETTO:+0100
TZNAME:Europe/Paris CET
END:STANDARD
BEGIN:STANDARD
DTSTART:20231029T020000
RDATE:20240331T030000
TZOFFSETFROM:+0200
TZOFFSETTO:+0100
TZNAME:Europe/Paris CET
END:STANDARD
BEGIN:STANDARD
DTSTART:20241027T020000
RDATE:20250330T030000
TZOFFSETFROM:+0200
TZOFFSETTO:+0100
TZNAME:Europe/Paris CET
END:STANDARD
BEGIN:STANDARD
DTSTART:20251026T020000
RDATE:20260329T030000
TZOFFSETFROM:+0200
TZOFFSETTO:+0100
TZNAME:Europe/Paris CET
END:STANDARD
BEGIN:STANDARD
DTSTART:20261025T020000
RDATE:20270328T030000
TZOFFSETFROM:+0200
TZOFFSETTO:+0100
TZNAME:Europe/Paris CET
END:STANDARD
BEGIN:DAYLIGHT
DTSTART:20190331T030000
RDATE:20191027T020000
TZOFFSETFROM:+0100
TZOFFSETTO:+0200
TZNAME:Europe/Paris CEST
END:DAYLIGHT
BEGIN:DAYLIGHT
DTSTART:20200329T030000
RDATE:20201025T020000
TZOFFSETFROM:+0100
TZOFFSETTO:+0200
TZNAME:Europe/Paris CEST
END:DAYLIGHT
BEGIN:DAYLIGHT
DTSTART:20210328T030000
RDATE:20211031T020000
TZOFFSETFROM:+0100
TZOFFSETTO:+0200
TZNAME:Europe/Paris CEST
END:DAYLIGHT
BEGIN:DAYLIGHT
DTSTART:20220327T030000
RDATE:20221030T020000
TZOFFSETFROM:+0100
TZOFFSETTO:+0200
TZNAME:Europe/Paris CEST
END:DAYLIGHT
BEGIN:DAYLIGHT
DTSTART:20230326T030000
RDATE:20231029T020000
TZOFFSETFROM:+0100
TZOFFSETTO:+0200
TZNAME:Europe/Paris CEST
END:DAYLIGHT
BEGIN:DAYLIGHT
DTSTART:20240331T030000
RDATE:20241027T020000
TZOFFSETFROM:+0100
TZOFFSETTO:+0200
TZNAME:Europe/Paris CEST
END:DAYLIGHT
BEGIN:DAYLIGHT
DTSTART:20250330T030000
RDATE:20251026T020000
TZOFFSETFROM:+0100
TZOFFSETTO:+0200
TZNAME:Europe/Paris CEST
END:DAYLIGHT
BEGIN:DAYLIGHT
DTSTART:20260329T030000
RDATE:20261025T020000
TZOFFSETFROM:+0100
TZOFFSETTO:+0200
TZNAME:Europe/Paris CEST
END:DAYLIGHT
END:VTIMEZONE
BEGIN:VEVENT
UID:75649daa1fbe772bd6607450f77cfdd3
CATEGORIES:Compétition Ski de Fond
CREATED:20191111T130350
SUMMARY:PROMO CHAMP DU FEU **REPORTE**
URL;VALUE=URI:https://skivosges.net/agenda/a-venir/detailevenement/1400/-/promo-champ-du-
 feu-reporte?tmpl=component
DESCRIPTION:PROMO CHAMP DU FEU (Epreuve reportée, date à determiner)\n - Codex évenemen
 t FMVT0170\n - Lieu : Champ du Feu\n - Station : CHAMP DU FEU\n - Piste : M
 yrtilles\n - Organisateur : 14336 SKI CLUB OBERHASLACH\n - Courriel : Regul
 arLabs.EmailProtector.unCloak("ep_ff63d5d6");\n - Téléphone : 0782201612Pér
 iode d'inscription à l'evènement du mercredi 05 février 2020 à 00:00 au lun
 di 10 février 2020 à 12:00 (Inscriptions impossibles).Inscriptions ouvertes
  aux detenteurs des titres Fédéraux valides suivants : Licenciés Compétiteu
 rsEpreuves :\n - Le mercredi 12 février 2020 à 14:00\n - Codex épreuve FMVF
 0171\n - Depart Individuel\n - Catégorie(s) : U9 (Filles)\n - Le mercredi 1
 2 février 2020 à 14:00\n - Codex épreuve FMVM0171\n - Depart Individuel\n -
  Catégorie(s) : U9 (Garçons)\n - Le mercredi 12 février 2020 à 14:00\n - Co
 dex épreuve FMVF0172\n - Depart Individuel\n - Catégorie(s) : U11 (Filles)\
 n - Le mercredi 12 février 2020 à 14:00\n - Codex épreuve FMVM0172\n - Depa
 rt Individuel\n - Catégorie(s) : U11 (Garçons)\n - Le mercredi 12 février 2
 020 à 14:00\n - Codex épreuve FMVF0173\n - Depart Individuel\n - Catégorie(
 s) : U13 (Filles)\n - Le mercredi 12 février 2020 à 14:00\n - Codex épreuve
  FMVM0173\n - Depart Individuel\n - Catégorie(s) : U13 (Garçons)\n - Voir l
 es informations dans l'agenda... (/index.php?option=com_jevents&amp;task=ic
 alevent.detail&amp;evid=1395&amp;Itemid=6289) Cet évènement a été importé d
 epuis :https://skivosges.net/agenda/a-venir/detailevenement/1400/-/promo-ch
 amp-du-feu-reporte?tmpl=component
X-ALT-DESC;FMTTYPE=text/html:<!-- #gskiepreuve code généré par le plugin jevents pour GskiEpreuves. Ne p
 as modifier cette ligne, ni tout le contenu suivant  #gskiepreuve --><div c
 lass="gski-evenement_infos"><div class="gski-evenement-nom">PROMO CHAMP DU 
 FEU</div><div class="gski-evenement-report"> <font class="gskiattention">(E
 preuve reportée, date à determiner)</font></div><ul class="gski-evenement-l
 iste-infos"><li>Codex évenement FMVT0170</li><li>Lieu : Champ du Feu</li><l
 i>Station : CHAMP DU FEU</li><li>Piste : Myrtilles</li><li>Organisateur : 1
 4336 SKI CLUB OBERHASLACH</li><li>Courriel : <!-- Cette adresse électroniqu
 e est protégée contre les robots spammeurs. --><span class="cloaked_email e
 p_ff63d5d6"><span data-ep-b=".fr" data-ep-a="&#105;s&#101;"><span data-ep-b
 ="re&#101;" data-ep-a="&#110;&#109;a"><span data-ep-b="&#99;&#64;&#102;" da
 ta-ep-a="&#110;&#110;&#106;"></span></span></span></span><script>RegularLab
 s.EmailProtector.unCloak("ep_ff63d5d6");</script></li><li>Téléphone : 07822
 01612</li></ul><div class="gski-evenement-infos-2"><div class="gski-eveneme
 nt-info-inscriptions"><div class="gski-evenement-inscriptions-periodes">Pér
 iode d'inscription à l'evènement du mercredi 05 février 2020 à 00:00 au lun
 di 10 février 2020 à 12:00 <span class="gski-evenement-inscriptions-impossi
 bles">(Inscriptions impossibles).</span><div class="gski-evenement-inscript
 ions-types-titres">Inscriptions ouvertes aux detenteurs des titres Fédéraux
  valides suivants : Licenciés Compétiteurs</div></div></div><div class="gsk
 i-evenement-epreuves"><div class="gski-evenement-epreuves-titres">Epreuves 
 :</div><ul class="gski-evenement-epreuves-list"><li><div class="gski-epreuv
 e-date">Le mercredi 12 février 2020 à 14:00</div><ul class="gski-epreuve-li
 ste-infos"><li>Codex épreuve FMVF0171</li><li>Depart Individuel</li><li>Cat
 égorie(s) : U9 (Filles)</li></ul></li><li><div class="gski-epreuve-date">Le
  mercredi 12 février 2020 à 14:00</div><ul class="gski-epreuve-liste-infos"
 ><li>Codex épreuve FMVM0171</li><li>Depart Individuel</li><li>Catégorie(s) 
 : U9 (Garçons)</li></ul></li><li><div class="gski-epreuve-date">Le mercredi
  12 février 2020 à 14:00</div><ul class="gski-epreuve-liste-infos"><li>Code
 x épreuve FMVF0172</li><li>Depart Individuel</li><li>Catégorie(s) : U11 (Fi
 lles)</li></ul></li><li><div class="gski-epreuve-date">Le mercredi 12 févri
 er 2020 à 14:00</div><ul class="gski-epreuve-liste-infos"><li>Codex épreuve
  FMVM0172</li><li>Depart Individuel</li><li>Catégorie(s) : U11 (Garçons)</l
 i></ul></li><li><div class="gski-epreuve-date">Le mercredi 12 février 2020 
 à 14:00</div><ul class="gski-epreuve-liste-infos"><li>Codex épreuve FMVF017
 3</li><li>Depart Individuel</li><li>Catégorie(s) : U13 (Filles)</li></ul></
 li><li><div class="gski-epreuve-date">Le mercredi 12 février 2020 à 14:00</
 div><ul class="gski-epreuve-liste-infos"><li>Codex épreuve FMVM0173</li><li
 >Depart Individuel</li><li>Catégorie(s) : U13 (Garçons)</li></ul></li></ul>
 </div><div class="gskiepreuves-links"><ul><li><a href="https://skivosges.ne
 t/index.php?option=com_jevents&task=icalevent.detail&evid=1395&Itemid=6289"
 >Voir les informations dans l'agenda...</a></li></ul></div></div"><!-- #/gs
 kiepreuve fin du dode généré par le plugin jevents pour GskiEpreuves. . Ne 
 pas modifier cette ligne, ni tout le contenu précedant.  #/gskiepreuve --> 
 <a href="https://skivosges.net/agenda/a-venir/detailevenement/1400/-/promo-
 champ-du-feu-reporte?tmpl=component">Cet évènement a été importé depuis :ht
 tps://skivosges.net/agenda/a-venir/detailevenement/1400/-/promo-champ-du-fe
 u-reporte?tmpl=component</a>DTSTAMP:20260423T174056
DTSTART;TZID=Europe/Paris;VALUE=DATE:20200212
DTEND;TZID=Europe/Paris;VALUE=DATE:20200213
SEQUENCE:0
TRANSP:OPAQUE
END:VEVENT
END:VCALENDAR