BEGIN:VCALENDAR
VERSION:2.0
PRODID:-//jEvents 2.0 for Joomla//EN
CALSCALE:GREGORIAN
METHOD:PUBLISH
BEGIN:VTIMEZONE
TZID:Europe/Paris
BEGIN:STANDARD
DTSTART:20190215T000000
RDATE:20190331T030000
TZOFFSETFROM:+0200
TZOFFSETTO:+0100
TZNAME:Europe/Paris CET
END:STANDARD
BEGIN:STANDARD
DTSTART:20191027T020000
RDATE:20200329T030000
TZOFFSETFROM:+0200
TZOFFSETTO:+0100
TZNAME:Europe/Paris CET
END:STANDARD
BEGIN:STANDARD
DTSTART:20201025T020000
RDATE:20210328T030000
TZOFFSETFROM:+0200
TZOFFSETTO:+0100
TZNAME:Europe/Paris CET
END:STANDARD
BEGIN:STANDARD
DTSTART:20211031T020000
RDATE:20220327T030000
TZOFFSETFROM:+0200
TZOFFSETTO:+0100
TZNAME:Europe/Paris CET
END:STANDARD
BEGIN:STANDARD
DTSTART:20221030T020000
RDATE:20230326T030000
TZOFFSETFROM:+0200
TZOFFSETTO:+0100
TZNAME:Europe/Paris CET
END:STANDARD
BEGIN:STANDARD
DTSTART:20231029T020000
RDATE:20240331T030000
TZOFFSETFROM:+0200
TZOFFSETTO:+0100
TZNAME:Europe/Paris CET
END:STANDARD
BEGIN:STANDARD
DTSTART:20241027T020000
RDATE:20250330T030000
TZOFFSETFROM:+0200
TZOFFSETTO:+0100
TZNAME:Europe/Paris CET
END:STANDARD
BEGIN:STANDARD
DTSTART:20251026T020000
RDATE:20260329T030000
TZOFFSETFROM:+0200
TZOFFSETTO:+0100
TZNAME:Europe/Paris CET
END:STANDARD
BEGIN:STANDARD
DTSTART:20261025T020000
RDATE:20270328T030000
TZOFFSETFROM:+0200
TZOFFSETTO:+0100
TZNAME:Europe/Paris CET
END:STANDARD
BEGIN:DAYLIGHT
DTSTART:20190331T030000
RDATE:20191027T020000
TZOFFSETFROM:+0100
TZOFFSETTO:+0200
TZNAME:Europe/Paris CEST
END:DAYLIGHT
BEGIN:DAYLIGHT
DTSTART:20200329T030000
RDATE:20201025T020000
TZOFFSETFROM:+0100
TZOFFSETTO:+0200
TZNAME:Europe/Paris CEST
END:DAYLIGHT
BEGIN:DAYLIGHT
DTSTART:20210328T030000
RDATE:20211031T020000
TZOFFSETFROM:+0100
TZOFFSETTO:+0200
TZNAME:Europe/Paris CEST
END:DAYLIGHT
BEGIN:DAYLIGHT
DTSTART:20220327T030000
RDATE:20221030T020000
TZOFFSETFROM:+0100
TZOFFSETTO:+0200
TZNAME:Europe/Paris CEST
END:DAYLIGHT
BEGIN:DAYLIGHT
DTSTART:20230326T030000
RDATE:20231029T020000
TZOFFSETFROM:+0100
TZOFFSETTO:+0200
TZNAME:Europe/Paris CEST
END:DAYLIGHT
BEGIN:DAYLIGHT
DTSTART:20240331T030000
RDATE:20241027T020000
TZOFFSETFROM:+0100
TZOFFSETTO:+0200
TZNAME:Europe/Paris CEST
END:DAYLIGHT
BEGIN:DAYLIGHT
DTSTART:20250330T030000
RDATE:20251026T020000
TZOFFSETFROM:+0100
TZOFFSETTO:+0200
TZNAME:Europe/Paris CEST
END:DAYLIGHT
BEGIN:DAYLIGHT
DTSTART:20260329T030000
RDATE:20261025T020000
TZOFFSETFROM:+0100
TZOFFSETTO:+0200
TZNAME:Europe/Paris CEST
END:DAYLIGHT
END:VTIMEZONE
BEGIN:VEVENT
UID:8725701731887c0e75fd63e166b10dae
CATEGORIES:Compétition Ski de Fond
CREATED:20191111T130350
SUMMARY:GRAND PRIX DE XONRUPT CHPT VOSGES RELAIS Big Mat Atomic n°9 Crédit Mutuel n°6
URL;VALUE=URI:https://skivosges.net/agenda/a-venir/detailevenement/1404/-/grand-prix-de-x
 onrupt-chpt-vosges-relais-big-mat-atomic-n-9-credit-mutuel-n-6?tmpl=compone
 nt
DESCRIPTION:GRAND PRIX DE XONRUPT CHPT VOSGES RELAIS Big Mat Atomic n°9 Crédit Mutuel n
 °6\n - Codex évenement FMVT0180\n - Station : TROIS FOURS\n - Organisateur 
 : 14102 SKI CLUB XONRUPT\n - Courriel : RegularLabs.EmailProtector.unCloak(
 "ep_7cad1aa6");\n - Téléphone : 03 29 60 96 29\n - Délégué Technique : CUNY
  BERNARDPériode d'inscription à l'evènement du dimanche 09 février 2020 à 0
 1:00 au vendredi 14 février 2020 à 19:00 (Inscriptions impossibles).Inscrip
 tions ouvertes aux detenteurs des titres Fédéraux valides suivants : Licenc
 iés CompétiteursEpreuves :\n - Le dimanche 16 février 2020\n - Codex épreuv
 e FMVF0181\n - Relais\n - Catégorie(s) : U13/U15 (Filles)\n - Le dimanche 1
 6 février 2020\n - Codex épreuve FMVM0181\n - Relais\n - Catégorie(s) : U13
 /U15 (Garçons)\n - Le dimanche 16 février 2020\n - Codex épreuve FMVF0182\n
  - Relais\n - Catégorie(s) : U15 a SEN (Filles)\n - Le dimanche 16 février 
 2020\n - Codex épreuve FMVM0182\n - Relais\n - Catégorie(s) : U15 a SEN (Ga
 rçons)\n - Le dimanche 16 février 2020\n - Codex épreuve FMVF0183\n - Relai
 s\n - Catégorie(s) : U15 a SEN (Filles)\n - Le dimanche 16 février 2020\n -
  Codex épreuve FMVM0183\n - Relais\n - Catégorie(s) : Senior (Hommes)\n - V
 oir les informations dans l'agenda... (/index.php?option=com_jevents&amp;ta
 sk=icalevent.detail&amp;evid=1399&amp;Itemid=6289)\n - Vers les résultats..
 . (/index.php?option=com_gskiepreuves&amp;view=afficheresultats&amp;format_
 option=tous&amp;filter[search]=FMVT0180&amp;filter[date_debut]=16-02-2020&a
 mp;filter[date_fin]=16-02-2020&amp;code_activite=FOND&amp;Itemid=6289)\n - 
 Publications concernant cet évènement :\n - Vendredi 14 Février 2020 à 12:5
 8 : Le 16/02/2020 XONRUPT Informations Cet évènement a été importé depuis :
 https://skivosges.net/agenda/a-venir/detailevenement/1404/-/grand-prix-de-x
 onrupt-chpt-vosges-relais-big-mat-atomic-n-9-credit-mutuel-n-6?tmpl=compone
 nt
X-ALT-DESC;FMTTYPE=text/html:<!-- #gskiepreuve code généré par le plugin jevents pour GskiEpreuves. Ne p
 as modifier cette ligne, ni tout le contenu suivant  #gskiepreuve --><div c
 lass="gski-evenement_infos"><div class="gski-evenement-nom">GRAND PRIX DE X
 ONRUPT CHPT VOSGES RELAIS Big Mat Atomic n°9 Crédit Mutuel n°6</div><div cl
 ass="gski-evenement-report"></div><ul class="gski-evenement-liste-infos"><l
 i>Codex évenement FMVT0180</li><li>Station : TROIS FOURS</li><li>Organisate
 ur : 14102 SKI CLUB XONRUPT</li><li>Courriel : <!-- Cette adresse électroni
 que est protégée contre les robots spammeurs. --><span class="cloaked_email
  ep_7cad1aa6"><span data-ep-a="&#114;&#101;&#109;&#121;" data-ep-b="&#109;"
 ><span data-ep-b="&#108;&#46;&#99;&#111;" data-ep-a="&#97;&#108;&#97;&#105;
 "><span data-ep-b="&#103;m&#97;i" data-ep-a="&#110;8&#56;&#64;"></span></sp
 an></span></span><script>RegularLabs.EmailProtector.unCloak("ep_7cad1aa6");
 </script></li><li>Téléphone : 03 29 60 96 29</li><li><span class="gski-even
 ement-obs">Délégué Technique : CUNY BERNARD</span></li></ul><div class="gsk
 i-evenement-infos-2"><div class="gski-evenement-info-inscriptions"><div cla
 ss="gski-evenement-inscriptions-periodes">Période d'inscription à l'evèneme
 nt du dimanche 09 février 2020 à 01:00 au vendredi 14 février 2020 à 19:00 
 <span class="gski-evenement-inscriptions-impossibles">(Inscriptions impossi
 bles).</span><div class="gski-evenement-inscriptions-types-titres">Inscript
 ions ouvertes aux detenteurs des titres Fédéraux valides suivants : Licenci
 és Compétiteurs</div></div></div><div class="gski-evenement-epreuves"><div 
 class="gski-evenement-epreuves-titres">Epreuves :</div><ul class="gski-even
 ement-epreuves-list"><li><div class="gski-epreuve-date">Le dimanche 16 févr
 ier 2020</div><ul class="gski-epreuve-liste-infos"><li>Codex épreuve FMVF01
 81</li><li>Relais</li><li>Catégorie(s) : U13/U15 (Filles)</li></ul></li><li
 ><div class="gski-epreuve-date">Le dimanche 16 février 2020</div><ul class=
 "gski-epreuve-liste-infos"><li>Codex épreuve FMVM0181</li><li>Relais</li><l
 i>Catégorie(s) : U13/U15 (Garçons)</li></ul></li><li><div class="gski-epreu
 ve-date">Le dimanche 16 février 2020</div><ul class="gski-epreuve-liste-inf
 os"><li>Codex épreuve FMVF0182</li><li>Relais</li><li>Catégorie(s) : U15 a 
 SEN (Filles)</li></ul></li><li><div class="gski-epreuve-date">Le dimanche 1
 6 février 2020</div><ul class="gski-epreuve-liste-infos"><li>Codex épreuve 
 FMVM0182</li><li>Relais</li><li>Catégorie(s) : U15 a SEN (Garçons)</li></ul
 ></li><li><div class="gski-epreuve-date">Le dimanche 16 février 2020</div><
 ul class="gski-epreuve-liste-infos"><li>Codex épreuve FMVF0183</li><li>Rela
 is</li><li>Catégorie(s) : U15 a SEN (Filles)</li></ul></li><li><div class="
 gski-epreuve-date">Le dimanche 16 février 2020</div><ul class="gski-epreuve
 -liste-infos"><li>Codex épreuve FMVM0183</li><li>Relais</li><li>Catégorie(s
 ) : Senior (Hommes)</li></ul></li></ul></div><div class="gskiepreuves-links
 "><ul><li><a href="https://skivosges.net/index.php?option=com_jevents&task=
 icalevent.detail&evid=1399&Itemid=6289">Voir les informations dans l'agenda
 ...</a></li><li><a href="https://skivosges.net/index.php?option=com_gskiepr
 euves&view=afficheresultats&format_option=tous&filter[search]=FMVT0180&filt
 er[date_debut]=16-02-2020&filter[date_fin]=16-02-2020&code_activite=FOND&It
 emid=6289">Vers les résultats...</a></li><li>Publications concernant cet év
 ènement :<ul><li><a href="https://skivosges.net/index.php?option=com_conten
 t&view=article&id=7092&Itemid=6289">Vendredi 14 Février 2020 à 12:58 : Le 1
 6/02/2020 XONRUPT Informations</a></li></ul></li></ul></div></div"><!-- #/g
 skiepreuve fin du dode généré par le plugin jevents pour GskiEpreuves. . Ne
  pas modifier cette ligne, ni tout le contenu précedant.  #/gskiepreuve -->
  <a href="https://skivosges.net/agenda/a-venir/detailevenement/1404/-/grand
 -prix-de-xonrupt-chpt-vosges-relais-big-mat-atomic-n-9-credit-mutuel-n-6?tm
 pl=component">Cet évènement a été importé depuis :https://skivosges.net/age
 nda/a-venir/detailevenement/1404/-/grand-prix-de-xonrupt-chpt-vosges-relais
 -big-mat-atomic-n-9-credit-mutuel-n-6?tmpl=component</a>DTSTAMP:20260423T174108
DTSTART;TZID=Europe/Paris;VALUE=DATE:20200216
DTEND;TZID=Europe/Paris;VALUE=DATE:20200217
SEQUENCE:0
TRANSP:OPAQUE
END:VEVENT
END:VCALENDAR